BEGIN:VCALENDAR
VERSION:2.0
PRODID:-//Northwest Trail Alliance - ECPv6.15.18//NONSGML v1.0//EN
CALSCALE:GREGORIAN
METHOD:PUBLISH
X-WR-CALNAME:Northwest Trail Alliance
X-ORIGINAL-URL:https://nw-trail.org
X-WR-CALDESC:Events for Northwest Trail Alliance
REFRESH-INTERVAL;VALUE=DURATION:PT1H
X-Robots-Tag:noindex
X-PUBLISHED-TTL:PT1H
BEGIN:VTIMEZONE
TZID:America/Los_Angeles
BEGIN:DAYLIGHT
TZOFFSETFROM:-0800
TZOFFSETTO:-0700
TZNAME:PDT
DTSTART:20170312T100000
END:DAYLIGHT
BEGIN:STANDARD
TZOFFSETFROM:-0700
TZOFFSETTO:-0800
TZNAME:PST
DTSTART:20171105T090000
END:STANDARD
BEGIN:DAYLIGHT
TZOFFSETFROM:-0800
TZOFFSETTO:-0700
TZNAME:PDT
DTSTART:20180311T100000
END:DAYLIGHT
BEGIN:STANDARD
TZOFFSETFROM:-0700
TZOFFSETTO:-0800
TZNAME:PST
DTSTART:20181104T090000
END:STANDARD
BEGIN:DAYLIGHT
TZOFFSETFROM:-0800
TZOFFSETTO:-0700
TZNAME:PDT
DTSTART:20190310T100000
END:DAYLIGHT
BEGIN:STANDARD
TZOFFSETFROM:-0700
TZOFFSETTO:-0800
TZNAME:PST
DTSTART:20191103T090000
END:STANDARD
END:VTIMEZONE
BEGIN:VEVENT
DTSTART;TZID=America/Los_Angeles:20180915T100000
DTEND;TZID=America/Los_Angeles:20180915T150000
DTSTAMP:20260423T070337
CREATED:20180828T171655Z
LAST-MODIFIED:20200514T040911Z
UID:6968-1537005600-1537023600@nw-trail.org
SUMMARY:Castle Rock Bike Park Blow-out
DESCRIPTION:Families are invited to join the fun at the Castle Rock Bike Park for the annual Bike Park Blowout event.  The locals in Castle Rock built an amazing bike park with all kinds unique challenges for kids and adult riders so bring your bike and get ready to shred.  There will be skills challenge stations for kids and medals for those who attempt them all. \nWhen:  10am; Saturday\, September 15th \nFood:  Lunch will be provided by North County Recreation Association \nFree Event:  There is no charge to attend this great family event. \nDirections:  Drive north on I-5 (~1 hour from Portland). Take Exit 48 (1st Castle Rock exit) and turn left the follow the signs to Dike road. \nhttps://goo.gl/maps/ctj1uJGA7iM2 \nFor questions please contact Jim Lemonds:  seattle0@hotmail.com
URL:https://nw-trail.org/event/castle-rock-bike-park-blow-out/
CATEGORIES:#kidsthatshred,Castle Rock Bike Park,Family Friendly,NWTA Events
ATTACH;FMTTYPE=image/jpeg:https://nw-trail.org/wp-content/uploads/2018/08/Castle-Rock-bike-park-1.jpg
END:VEVENT
END:VCALENDAR