BEGIN:VCALENDAR
VERSION:2.0
PRODID:-//Northwest Trail Alliance - ECPv6.15.18//NONSGML v1.0//EN
CALSCALE:GREGORIAN
METHOD:PUBLISH
X-ORIGINAL-URL:https://nw-trail.org
X-WR-CALDESC:Events for Northwest Trail Alliance
REFRESH-INTERVAL;VALUE=DURATION:PT1H
X-Robots-Tag:noindex
X-PUBLISHED-TTL:PT1H
BEGIN:VTIMEZONE
TZID:America/Los_Angeles
BEGIN:DAYLIGHT
TZOFFSETFROM:-0800
TZOFFSETTO:-0700
TZNAME:PDT
DTSTART:20230312T100000
END:DAYLIGHT
BEGIN:STANDARD
TZOFFSETFROM:-0700
TZOFFSETTO:-0800
TZNAME:PST
DTSTART:20231105T090000
END:STANDARD
BEGIN:DAYLIGHT
TZOFFSETFROM:-0800
TZOFFSETTO:-0700
TZNAME:PDT
DTSTART:20240310T100000
END:DAYLIGHT
BEGIN:STANDARD
TZOFFSETFROM:-0700
TZOFFSETTO:-0800
TZNAME:PST
DTSTART:20241103T090000
END:STANDARD
BEGIN:DAYLIGHT
TZOFFSETFROM:-0800
TZOFFSETTO:-0700
TZNAME:PDT
DTSTART:20250309T100000
END:DAYLIGHT
BEGIN:STANDARD
TZOFFSETFROM:-0700
TZOFFSETTO:-0800
TZNAME:PST
DTSTART:20251102T090000
END:STANDARD
BEGIN:DAYLIGHT
TZOFFSETFROM:-0800
TZOFFSETTO:-0700
TZNAME:PDT
DTSTART:20260308T100000
END:DAYLIGHT
BEGIN:STANDARD
TZOFFSETFROM:-0700
TZOFFSETTO:-0800
TZNAME:PST
DTSTART:20261101T090000
END:STANDARD
BEGIN:DAYLIGHT
TZOFFSETFROM:-0800
TZOFFSETTO:-0700
TZNAME:PDT
DTSTART:20270314T100000
END:DAYLIGHT
BEGIN:STANDARD
TZOFFSETFROM:-0700
TZOFFSETTO:-0800
TZNAME:PST
DTSTART:20271107T090000
END:STANDARD
END:VTIMEZONE
BEGIN:VEVENT
DTSTART;TZID=America/Los_Angeles:20240914T100000
DTEND;TZID=America/Los_Angeles:20240914T140000
DTSTAMP:20260421T131743
CREATED:20240909T174610Z
LAST-MODIFIED:20240910T152004Z
UID:31368-1726308000-1726322400@nw-trail.org
SUMMARY:DIG DAY — Klootchy Creek - 9/14
DESCRIPTION:register here\n\n\n\n\n10am – 3pm at Klootchy Creek Park \n\n\n\nTrail work will last approximately 5 hours\, wrapping up at 3:00. \n\n\n\nAll levels of experience are welcome. Never done trail work before? No problem\, we’ll show you the ropes! \n\n\n\nSocial rides\, food\, and beverages in the parking lot afterwards\, all family-friendly! \n\n\n\nPlus … sign up\, show up\, SWAG UP! We’ve got cool stuff to give away for our awesome volunteers. Nobody will leave empty-handed. 🙂 \n\n\n\nWhat To Bring: \n\n\n\nYour bike (optional) \n\n\n\nWork clothes: Light long-sleeve shirt\, Long Pants (no shorts)\, Boots\, Gloves\, Eye Protection & Gloves \n\n\n\nLayers for weather \n\n\n\nWater \n\n\n\nSnacks/lunch \n\n\n\nTrail tools if you have some that you like\, but don’t worry if not! We’ll set you up. \n\n\n\nSafety meeting promptly starts at 10am. Please arrive 15-20 mins early to check in. We work in all weather\, so come prepared for the elements! \n\n\n\nOnce registered\, please sign the waiver HERE \n\n\n\nEmail volunteer@nw-trail.org with any questions. Thanks!
URL:https://nw-trail.org/event/dig-day-klootchy-creek-9-14/
CATEGORIES:Dig Days,Klootchy Creek,Trail Work
ATTACH;FMTTYPE=image/jpeg:https://nw-trail.org/wp-content/uploads/2024/04/Klootchy-Dig-Day-Apr.-13-2024-72.jpg
END:VEVENT
BEGIN:VEVENT
DTSTART;TZID=America/Los_Angeles:20241005T100000
DTEND;TZID=America/Los_Angeles:20241005T140000
DTSTAMP:20260421T131743
CREATED:20240917T202401Z
LAST-MODIFIED:20240917T202531Z
UID:31390-1728122400-1728136800@nw-trail.org
SUMMARY:DIG DAY — Klootchy Creek - 10/5
DESCRIPTION:Join us for a dig day at Klootchy Creek! \n\n\n\n \n\n\n\n\nregister here\n\n\n\n\n\n\n\n\n10am – 2pm at Klootchy Creek Park \n\n\n\nTrail work will last approximately 4 hours\, wrapping up at 2:00. \n\n\n\nAll levels of experience are welcome. Never done trail work before? No problem\, we’ll show you the ropes! \n\n\n\nSocial rides\, food\, and beverages in the parking lot afterward. All family-friendly! \n\n\n\nWhat To Bring: \n\n\n\nYour bike (optional) \n\n\n\nWork clothes: Light long-sleeve shirt\, Long Pants (no shorts)\, Boots\, Gloves\, Eye Protection & Gloves \n\n\n\nLayers for weather \n\n\n\nWater \n\n\n\nSnacks/lunch \n\n\n\nTrail tools if you have some that you like\, but don’t worry if not! We’ll set you up. \n\n\n\nSafety meeting promptly starts at 10am. Please arrive 15-20 mins early to check in. We work in all weather\, so come prepared for the elements! \n\n\n\nOnce registered\, please sign the waiver HERE \n\n\n\nEmail volunteer@nw-trail.org with any questions. Thanks!
URL:https://nw-trail.org/event/dig-day-klootchy-creek-10-5/
CATEGORIES:Dig Days,Family Friendly,Klootchy Creek,Trail Work
ATTACH;FMTTYPE=image/jpeg:https://nw-trail.org/wp-content/uploads/2024/09/Klootchy-Dig-Day-Apr.-13-2024-41.jpg
END:VEVENT
BEGIN:VEVENT
DTSTART;TZID=America/Los_Angeles:20241102T100000
DTEND;TZID=America/Los_Angeles:20241102T140000
DTSTAMP:20260421T131743
CREATED:20240923T180038Z
LAST-MODIFIED:20240923T180041Z
UID:31426-1730541600-1730556000@nw-trail.org
SUMMARY:DIG DAY — Klootchy Creek - 11/2
DESCRIPTION:Join us for a dig day at Klootchy Creek! \n\n\n\n \n\n\n\n\nregister here\n\n\n\n\n \n\n\n\n10am – 2pm at Klootchy Creek Park \n\n\n\nTrail work will last approximately 4 hours\, wrapping up at 2:00. \n\n\n\nAll levels of experience are welcome. Never done trail work before? No problem\, we’ll show you the ropes! \n\n\n\nSocial rides\, food\, and beverages in the parking lot afterwards\, all family-friendly! \n\n\n\nWhat To Bring: \n\n\n\nYour bike (optional) \n\n\n\nWork clothes: Light long sleeve shirt\, Long Pants (no shorts)\, Boots\, Gloves\, Eye Protection & Gloves \n\n\n\nLayers for weather \n\n\n\nWater \n\n\n\nSnacks/lunch \n\n\n\nTrail tools if you have some that you like\, but don’t worry if not! We’ll set you up. \n\n\n\nSafety meeting promptly starts at 10am. Please arrive 15-20 mins early to check in. We work in all weather\, so come prepared for the elements! \n\n\n\nOnce registered\, please sign the waiver HERE \n\n\n\nEmail volunteer@nw-trail.org with any questions. Thanks!
URL:https://nw-trail.org/event/dig-day-klootchy-creek-11-2/
CATEGORIES:Dig Days,Family Friendly,Klootchy Creek,Trail Work
ATTACH;FMTTYPE=image/jpeg:https://nw-trail.org/wp-content/uploads/2024/09/Klootchy-Dig-Day-Apr.-13-2024-21.jpg
END:VEVENT
BEGIN:VEVENT
DTSTART;TZID=America/Los_Angeles:20241207T100000
DTEND;TZID=America/Los_Angeles:20241207T140000
DTSTAMP:20260421T131743
CREATED:20240923T181042Z
LAST-MODIFIED:20240923T181045Z
UID:31429-1733565600-1733580000@nw-trail.org
SUMMARY:DIG DAY — Klootchy Creek - 12/7
DESCRIPTION:Join us for a dig day at Klootchy Creek! \n\n\n\n \n\n\n\n\nregister here\n\n\n\n\n \n\n\n\n10am – 2pm at Klootchy Creek Park \n\n\n\nTrail work will last approximately 4 hours\, wrapping up at 2:00. \n\n\n\nAll levels of experience are welcome. Never done trail work before? No problem\, we’ll show you the ropes! \n\n\n\nSocial rides\, food\, and beverages in the parking lot afterwards\, all family-friendly! \n\n\n\nWhat To Bring: \n\n\n\nYour bike (optional) \n\n\n\nWork clothes: Light long-sleeve shirt\, Long Pants (no shorts)\, Boots\, Gloves\, Eye Protection & Gloves \n\n\n\nLayers for weather \n\n\n\nWater \n\n\n\nSnacks/lunch \n\n\n\nTrail tools if you have some that you like\, but don’t worry if not! We’ll set you up. \n\n\n\nSafety meeting promptly starts at 10am. Please arrive 15-20 mins early to check in. We work in all weather\, so come prepared for the elements! \n\n\n\nOnce registered\, please sign the waiver HERE \n\n\n\nEmail volunteer@nw-trail.org with any questions. Thanks!
URL:https://nw-trail.org/event/dig-day-klootchy-creek-12-7/
CATEGORIES:Dig Days,Family Friendly,Klootchy Creek,Trail Work
ATTACH;FMTTYPE=image/jpeg:https://nw-trail.org/wp-content/uploads/2024/09/Klootchy-Dig-Day-Apr.-13-2024-29.jpg
END:VEVENT
BEGIN:VEVENT
DTSTART;TZID=America/Los_Angeles:20250419T100000
DTEND;TZID=America/Los_Angeles:20250419T140000
DTSTAMP:20260421T131743
CREATED:20250414T153231Z
LAST-MODIFIED:20250414T153257Z
UID:32491-1745056800-1745071200@nw-trail.org
SUMMARY:Dig Day - Klootchy Creek - 4/19
DESCRIPTION:Trail work party at Klootchy Creek Trails! \n\n\n\n\nregister here\n\n\n\n\n \n\n\n\nCome join us for a fun-filled day of digging and exploring at Klootchy Creek County Park! This in-person event is perfect for nature enthusiasts\, families\, and anyone who loves adventure. Discover hidden treasures\, unearth fossils\, and learn about the rich history of this beautiful park. \n\n\n\nWhether you’re a seasoned digger or a first-timer\, our experienced leads will be there to assist you throughout the day. Grab your shovels\, buckets\, and enthusiasm\, and get ready to uncover the mysteries of Klootchy Creek! \n\n\n\nDon’t miss out on this exciting event! Mark your calendars and join us for an unforgettable day of digging and discovery at Klootchy Creek County Park! \n\n\n\n10am – 3 pm at Klootchy Creek Park \n\n\n\nTrail work will last approximately 5 hours\, wrapping up at 3:00. \n\n\n\nWhat To Bring: \n\n\n\nYour bike (optional) \n\n\n\nWork clothes: Light long sleeve shirt\, Long Pants (no shorts)\, Boots\, Gloves\, Eye Protection & Gloves \n\n\n\nJacket (be prepared) \n\n\n\nHard hat or bike helmet (mandatory) \n\n\n\nWater \n\n\n\nSnacks \n\n\n\nLunch \n\n\n\nFavorite trail tool\, McLeod or Rouge Hoe (We have tools\, but please feel free to bring your own if you are more comfortable with your own). \n\n\n\nOptional: Folding Handsaw \n\n\n\nSafety meeting promptly starts at 9 am. Please arrive 15-20 early to ensure that you are adequately checked in. We work in all weather\, so come prepared for the elements\, whatever they may be (and change of clothes in the car for when we finish). \n\n\n\nOnce registered\, please sign the waiver HERE. \n\n\n\nSaturday October 21\, 2023 / 10:00 am – 3 pm / Klootchy Creek Trails \n\n\n\nEmail volunteer@nw-trail.org with any questions
URL:https://nw-trail.org/event/dig-day-klootchy-creek-4-19/
CATEGORIES:Dig Days,Klootchy Creek,Trail Work
ATTACH;FMTTYPE=image/jpeg:https://nw-trail.org/wp-content/uploads/2025/04/Klootchy-Dig-Day-Apr.-13-2024-21.jpg
END:VEVENT
BEGIN:VEVENT
DTSTART;TZID=America/Los_Angeles:20250420T100000
DTEND;TZID=America/Los_Angeles:20250420T140000
DTSTAMP:20260421T131743
CREATED:20250414T154028Z
LAST-MODIFIED:20250414T154033Z
UID:32495-1745143200-1745157600@nw-trail.org
SUMMARY:Dig Day - Klootchy Creek - 4/20
DESCRIPTION:Trail work party at Klootchy Creek Trails! \n\n\n\n\nregister here\n\n\n\n\n \n\n\n\nCome join us for a fun-filled day of digging and exploring at Klootchy Creek County Park! This in-person event is perfect for nature enthusiasts\, families\, and anyone who loves adventure. Discover hidden treasures\, unearth fossils\, and learn about the rich history of this beautiful park. \n\n\n\nWhether you’re a seasoned digger or a first-timer\, our experienced leads will be there to assist you throughout the day. Grab your shovels\, buckets\, and enthusiasm\, and get ready to uncover the mysteries of Klootchy Creek! \n\n\n\nDon’t miss out on this exciting event! Mark your calendars and join us for an unforgettable day of digging and discovery at Klootchy Creek County Park! \n\n\n\n10am – 3 pm at Klootchy Creek Park \n\n\n\nTrail work will last approximately 5 hours\, wrapping up at 3:00. \n\n\n\nWhat To Bring: \n\n\n\nYour bike (optional) \n\n\n\nWork clothes: Light long sleeve shirt\, Long Pants (no shorts)\, Boots\, Gloves\, Eye Protection & Gloves \n\n\n\nJacket (be prepared) \n\n\n\nHard hat or bike helmet (mandatory) \n\n\n\nWater \n\n\n\nSnacks \n\n\n\nLunch \n\n\n\nFavorite trail tool\, McLeod or Rouge Hoe (We have tools\, but please feel free to bring your own if you are more comfortable with your own). \n\n\n\nOptional: Folding Handsaw \n\n\n\nSafety meeting promptly starts at 9 am. Please arrive 15-20 early to ensure that you are adequately checked in. We work in all weather\, so come prepared for the elements\, whatever they may be (and change of clothes in the car for when we finish). \n\n\n\nOnce registered\, please sign the waiver HERE. \n\n\n\nSaturday October 21\, 2023 / 10:00 am – 3 pm / Klootchy Creek Trails \n\n\n\nEmail volunteer@nw-trail.org with any questions
URL:https://nw-trail.org/event/dig-day-klootchy-creek-4-20/
CATEGORIES:Dig Days,Klootchy Creek,Oregon Coast,Trail Work
ATTACH;FMTTYPE=image/jpeg:https://nw-trail.org/wp-content/uploads/2025/04/Klootchy-Dig-Day-Apr.-13-2024-72.jpg
END:VEVENT
BEGIN:VEVENT
DTSTART;TZID=America/Los_Angeles:20250426T100000
DTEND;TZID=America/Los_Angeles:20250426T140000
DTSTAMP:20260421T131743
CREATED:20250417T162453Z
LAST-MODIFIED:20250417T162458Z
UID:32514-1745661600-1745676000@nw-trail.org
SUMMARY:Dig Day - Klootchy Creek - 4/26
DESCRIPTION:Trail work party at Klootchy Creek Trails! \n\n\n\n\nregister here\n\n\n\n\n \n\n\n\nCome join us for a fun-filled day of digging and exploring at Klootchy Creek County Park! This in-person event is perfect for nature enthusiasts\, families\, and anyone who loves adventure. Discover hidden treasures\, unearth fossils\, and learn about the rich history of this beautiful park. \n\n\n\nWhether you’re a seasoned digger or a first-timer\, our experienced leads will be there to assist you throughout the day. Grab your shovels\, buckets\, and enthusiasm\, and get ready to uncover the mysteries of Klootchy Creek! \n\n\n\nDon’t miss out on this exciting event! Mark your calendars and join us for an unforgettable day of digging and discovery at Klootchy Creek County Park! \n\n\n\n10am – 3 pm at Klootchy Creek Park \n\n\n\nTrail work will last approximately 5 hours\, wrapping up at 3:00. \n\n\n\nWhat To Bring: \n\n\n\nYour bike (optional) \n\n\n\nWork clothes: Light long sleeve shirt\, Long Pants (no shorts)\, Boots\, Gloves\, Eye Protection & Gloves \n\n\n\nJacket (be prepared) \n\n\n\nHard hat or bike helmet (mandatory) \n\n\n\nWater \n\n\n\nSnacks \n\n\n\nLunch \n\n\n\nFavorite trail tool\, McLeod or Rouge Hoe (We have tools\, but please feel free to bring your own if you are more comfortable with your own). \n\n\n\nOptional: Folding Handsaw \n\n\n\nSafety meeting promptly starts at 9 am. Please arrive 15-20 early to ensure that you are adequately checked in. We work in all weather\, so come prepared for the elements\, whatever they may be (and change of clothes in the car for when we finish). \n\n\n\nOnce registered\, please sign the waiver HERE \n\n\n\nSaturday October 21\, 2023 / 10:00 am – 3 pm / Klootchy Creek Trails \n\n\n\nEmail volunteer@nw-trail.org with any questions
URL:https://nw-trail.org/event/dig-day-klootchy-creek-4-26/
CATEGORIES:Dig Days,Klootchy Creek,Trail Work
ATTACH;FMTTYPE=image/jpeg:https://nw-trail.org/wp-content/uploads/2025/04/Klootchy-Dig-Day-Apr.-13-2024-4.jpg
END:VEVENT
BEGIN:VEVENT
DTSTART;TZID=America/Los_Angeles:20250503T100000
DTEND;TZID=America/Los_Angeles:20250503T140000
DTSTAMP:20260421T131743
CREATED:20250421T151233Z
LAST-MODIFIED:20250421T151235Z
UID:32521-1746266400-1746280800@nw-trail.org
SUMMARY:Dig Day - Klootchy Creek - 5/3
DESCRIPTION:Trail work party at Klootchy Creek Trails! \n\n\n\n\nregister here\n\n\n\n\n \n\n\n\nCome join us for a fun-filled day of trail work and exploring at Klootchy Creek trails! \n\n\n\n10:00 am – 2:00 pm at Klootchy Creek Park \n\n\n\nTrail work will last approximately 5 hours\, wrapping up at 2:00. \n\n\n\nWhat To Bring: \n\n\n\nYour bike (optional) \n\n\n\nWork clothes: Light long sleeve shirt\, Long Pants (no shorts)\, Boots\, Gloves\, Eye Protection & Gloves \n\n\n\nJacket (be prepared) \n\n\n\nHard hat or bike helmet (mandatory) \n\n\n\nWater \n\n\n\nSnacks \n\n\n\nLunch \n\n\n\nFavorite trail tool\, McLeod or Rouge Hoe (We have tools\, but please feel free to bring your own if you are more comfortable with your own). \n\n\n\nOptional: Folding Handsaw \n\n\n\nSafety meeting promptly starts at 10:00 am. Please arrive 15-20 early to ensure that you are adequately checked in. We work in most weather\, so come prepared for the elements\, whatever they may be (and change of clothes in the car for when we finish). \n\n\n\nOnce registered\, a waiver must be signed HERE. \n\n\n\nEmail volunteer@nw-trail.org with any questions.
URL:https://nw-trail.org/event/dig-day-klootchy-creek-5-3/
CATEGORIES:Dig Days,Klootchy Creek,Oregon Coast,Trail Work
ATTACH;FMTTYPE=image/jpeg:https://nw-trail.org/wp-content/uploads/2025/04/Klootchy-Dig-Day-Apr.-13-2024-42.jpg
END:VEVENT
BEGIN:VEVENT
DTSTART;TZID=America/Los_Angeles:20250517T100000
DTEND;TZID=America/Los_Angeles:20250517T140000
DTSTAMP:20260421T131743
CREATED:20250428T172709Z
LAST-MODIFIED:20250428T172713Z
UID:32551-1747476000-1747490400@nw-trail.org
SUMMARY:Dig Day - Klootchy Creek - 5/17
DESCRIPTION:Trail work party at Klootchy Creek Trails! \n\n\n\n\nregister here\n\n\n\n\n \n\n\n\nCome join us for a fun-filled day of digging and exploring at Klootchy Creek County Park! This in-person event is perfect for nature enthusiasts\, families\, and anyone who loves adventure. Discover hidden treasures\, unearth fossils\, and learn about the rich history of this beautiful park. \n\n\n\nWhether you’re a seasoned digger or a first-timer\, our experienced leads will be there to assist you throughout the day. Grab your shovels\, buckets\, and enthusiasm\, and get ready to uncover the mysteries of Klootchy Creek! \n\n\n\nDon’t miss out on this exciting event! Mark your calendars and join us for an unforgettable day of digging and discovery at Klootchy Creek County Park! \n\n\n\n10am – 2pm at Klootchy Creek Park \n\n\n\nTrail work will last approximately 5 hours\, wrapping up at 3:00. \n\n\n\nWhat To Bring: \n\n\n\nYour bike (optional) \n\n\n\nWork clothes: Light long sleeve shirt\, Long Pants (no shorts)\, Boots\, Gloves\, Eye Protection & Gloves \n\n\n\nJacket (be prepared) \n\n\n\nHard hat or bike helmet (mandatory) \n\n\n\nWater \n\n\n\nSnacks \n\n\n\nLunch \n\n\n\nFavorite trail tool\, McLeod or Rouge Hoe (We have tools\, but please feel free to bring your own if you are more comfortable with your own). \n\n\n\nOptional: Folding Handsaw \n\n\n\nSafety meeting promptly starts at 9 am. Please arrive 15-20 early to ensure that you are adequately checked in. We work in all weather\, so come prepared for the elements\, whatever they may be (and change of clothes in the car for when we finish). \n\n\n\nOnce registered\, please sign the waiver HERE. \n\n\n\nEmail volunteer@nw-trail.org with any questions
URL:https://nw-trail.org/event/dig-day-klootchy-creek-5-17/
CATEGORIES:Dig Days,Klootchy Creek,Trail Work
ATTACH;FMTTYPE=image/jpeg:https://nw-trail.org/wp-content/uploads/2025/04/Ride-the-Dirt-Wave-Klootchy-June-4-2023-26.jpg
END:VEVENT
BEGIN:VEVENT
DTSTART;TZID=America/Los_Angeles:20250531T100000
DTEND;TZID=America/Los_Angeles:20250531T140000
DTSTAMP:20260421T131743
CREATED:20250505T164950Z
LAST-MODIFIED:20250505T164951Z
UID:32576-1748685600-1748700000@nw-trail.org
SUMMARY:Dig Day - Klootchy Creek - 5/31
DESCRIPTION:Trail work party at Klootchy Creek Trails! \n\n\n\n\nregister here\n\n\n\n\n \n\n\n\nCome join us for a fun-filled day of digging and exploring at Klootchy Creek County Park! This in-person event is perfect for nature enthusiasts\, families\, and anyone who loves adventure. Discover hidden treasures\, unearth fossils\, and learn about the rich history of this beautiful park. \n\n\n\nWhether you’re a seasoned digger or a first-timer\, our experienced leads will be there to assist you throughout the day. Grab your shovels\, buckets\, and enthusiasm\, and get ready to uncover the mysteries of Klootchy Creek! \n\n\n\nDon’t miss out on this exciting event! Mark your calendars and join us for an unforgettable day of digging and discovery at Klootchy Creek County Park! \n\n\n\n10am – 3 pm at Klootchy Creek Park \n\n\n\nTrail work will last approximately 5 hours\, wrapping up at 3:00. \n\n\n\nWhat To Bring: \n\n\n\nYour bike (optional) \n\n\n\nWork clothes: Light long sleeve shirt\, Long Pants (no shorts)\, Boots\, Gloves\, Eye Protection & Gloves \n\n\n\nJacket (be prepared) \n\n\n\nHard hat or bike helmet (mandatory) \n\n\n\nWater \n\n\n\nSnacks \n\n\n\nLunch \n\n\n\nFavorite trail tool\, McLeod or Rouge Hoe (We have tools\, but please feel free to bring your own if you are more comfortable with your own). \n\n\n\nOptional: Folding Handsaw \n\n\n\nSafety meeting promptly starts at 10 am. Please arrive 15-20 early to ensure that you are adequately checked in. We work in all weather\, so come prepared for the elements\, whatever they may be (and change of clothes in the car for when we finish). \n\n\n\nEmail volunteer@nw-trail.org with any questions
URL:https://nw-trail.org/event/dig-day-klootchy-creek-5-31/
CATEGORIES:Dig Days,Klootchy Creek,Oregon Coast,Trail Work
ATTACH;FMTTYPE=image/jpeg:https://nw-trail.org/wp-content/uploads/2025/05/Klootchy-Dig-Day-Apr.-13-2024-10.jpg
END:VEVENT
BEGIN:VEVENT
DTSTART;TZID=America/Los_Angeles:20250607T080000
DTEND;TZID=America/Los_Angeles:20250608T170000
DTSTAMP:20260421T131743
CREATED:20241029T201231Z
LAST-MODIFIED:20250521T164301Z
UID:31585-1749283200-1749402000@nw-trail.org
SUMMARY:Ride the Dirt Wave at Klootchy Creek - 6/7-8
DESCRIPTION:Ride the Dirt Wave enduro series on the Oregon Coast will be back again at Klootchy Creek! \n\n\n\n\nregister here
URL:https://nw-trail.org/event/ride-the-dirt-wave-at-klootchy-creek-6-7-8/
CATEGORIES:Klootchy Creek,Oregon Coast,Race,Regional Events,Ride the Dirt Wave
ATTACH;FMTTYPE=image/jpeg:https://nw-trail.org/wp-content/uploads/2024/10/Ride-the-Dirt-Wave-Klootchy-June-4-2023-47.jpg
END:VEVENT
BEGIN:VEVENT
DTSTART;TZID=America/Los_Angeles:20260118T093000
DTEND;TZID=America/Los_Angeles:20260118T120000
DTSTAMP:20260421T131743
CREATED:20260116T171436Z
LAST-MODIFIED:20260116T171438Z
UID:33666-1768728600-1768737600@nw-trail.org
SUMMARY:Klootchy Creek | Trail Work Day - 1/18
DESCRIPTION:This Sunday (1/18) we’ll be having a Trail Work Day that’s focused primarily on the Get Down and Party Wave to keep them riding great! \n\n\n\n\nregister here
URL:https://nw-trail.org/event/klootchy-creek-trail-work-day-1-18/
CATEGORIES:Dig Days,Klootchy Creek,Trail Work
ATTACH;FMTTYPE=image/jpeg:https://nw-trail.org/wp-content/uploads/2026/01/Klootchy-Dig-Day-Apr.-13-2024-36.jpg
END:VEVENT
BEGIN:VEVENT
DTSTART;TZID=America/Los_Angeles:20260125T093000
DTEND;TZID=America/Los_Angeles:20260125T120000
DTSTAMP:20260421T131743
CREATED:20260120T171040Z
LAST-MODIFIED:20260120T171042Z
UID:33710-1769333400-1769342400@nw-trail.org
SUMMARY:Klootchy Creek | Trail Work Day | Reshaping Party Wave - 1/25
DESCRIPTION:On Sunday January 25th we’ll be hosting a Trail Work Day at Klootchy Creek starting at 9:30AM until noon! \n\n\n\n\nregister here\n\n\n\n\n \n\n\n\nWe’re going to aim for another weekend of winter trail work since the weather has given us almost perfect weather conditions! This trail work day will focus on Party Wave as we rake\, shape\, and smooth out the new upper section that picks up at the the end of The Get Down. \n\n\n\nThe work party starts at 9:30 in the Klootchy Creek parking lot. We’ll plan for two hours and stop around noon – bring your bike! All ages and skill levels welcome!
URL:https://nw-trail.org/event/klootchy-creek-trail-work-day-reshaping-party-wave-1-25/
CATEGORIES:Dig Days,Klootchy Creek,Trail Work
ATTACH;FMTTYPE=image/jpeg:https://nw-trail.org/wp-content/uploads/2026/01/Klootchy-Dig-Day-Apr.-13-2024-41.jpg
END:VEVENT
BEGIN:VEVENT
DTSTART;TZID=America/Los_Angeles:20260201T093000
DTEND;TZID=America/Los_Angeles:20260201T120000
DTSTAMP:20260421T131743
CREATED:20260128T173957Z
LAST-MODIFIED:20260128T173958Z
UID:33803-1769938200-1769947200@nw-trail.org
SUMMARY:Klootchy Creek | Limb and Trim Party - 2/1
DESCRIPTION:Getting closer on finishing the upper section(s) of Party Wave! Since the ground will be wet\, our focus will be to limb and trim. \n\n\n\n\nregister here\n\n\n\n\n \n\n\n\nSince the ground will be wet\, our focus on Sunday will be to limb and trim the new upper sections of Party Wave and The Get Down. Bring hand saws\, clippers\, and electric trimmers along with thick gloves and your bike helmet for proper PPE. We’ll meet in the Klootchy Creek parking lot at 9:30 and work until noon – see you there! All ages and skill levels welcome 🙂
URL:https://nw-trail.org/event/klootchy-creek-limb-and-trim-party-2-1/
CATEGORIES:Dig Days,Klootchy Creek,Trail Work
ATTACH;FMTTYPE=image/jpeg:https://nw-trail.org/wp-content/uploads/2026/01/Klootchy-Dig-Day-Apr.-13-2024-21.jpg
END:VEVENT
BEGIN:VEVENT
DTSTART;TZID=America/Los_Angeles:20260215T093000
DTEND;TZID=America/Los_Angeles:20260215T120000
DTSTAMP:20260421T131743
CREATED:20260211T185938Z
LAST-MODIFIED:20260211T194116Z
UID:33898-1771147800-1771156800@nw-trail.org
SUMMARY:Klootchy Creek | Trail Build Day THIS SUNDAY! - 2/15
DESCRIPTION:We will be having a Trail Build Day on February 15th! Meet at the Klootchy Creek parking lot at 9:30AM and plan to work until noonish. \n\n\n\n\nregister here\n\n\n\n\n \n\n\n\nKlootchy Work Party – Trail Build Day \n\n\n\n🗓 Sunday\, February 15 \n\n\n\n🕤 9:30 AM – 12:00 PM \n\n\n\n📍 Meet at Klootchy Creek Parking Lot 🅿️ \n\n\n\nWe will have options: \n\n\n\n1. Party Wave 🌊 smoothing the lower section. \n\n\n\n2. Finish limbing Greenwood\, Roller Coaster and Lower Chris Cross. \n\n\n\n3. If we get to go ahead we start building a brand-new trail: Pace Maker! Blue rating! This new line is located next to Defibrillator on a cat-graded trail. The work will mostly involve removing debris — rake and ride style. \n\n\n\nWhat to bring: \n\n\n\n•. Rakes\, Leaf rakes\, McLeod and Rogue Hoes. \n\n\n\n• Hand saws\, clippers\, or electric trimmers \n\n\n\n• Thick gloves \n\n\n\n• Bike helmet (required PPE) \n\n\n\nAll ages and skill levels are welcome 🙂 \n\n\n\nSponsored by Pelican Brewing! 🍻 Drinks and Food after the dig.🪏 \n\n\n\nCome help build trail and have a good time with the crew!
URL:https://nw-trail.org/event/klootchy-creek-trail-build-day-this-sunday-2-15/
CATEGORIES:Dig Days,Klootchy Creek,Trail Work
ATTACH;FMTTYPE=image/jpeg:https://nw-trail.org/wp-content/uploads/2026/02/Klootchy-Dig-Day-Apr.-13-2024-27.jpg
END:VEVENT
BEGIN:VEVENT
DTSTART;TZID=America/Los_Angeles:20260301T103000
DTEND;TZID=America/Los_Angeles:20260301T130000
DTSTAMP:20260421T131743
CREATED:20260224T204704Z
LAST-MODIFIED:20260224T204707Z
UID:34022-1772361000-1772370000@nw-trail.org
SUMMARY:Klootchy Creek Trail Work Day - 3/1
DESCRIPTION:Our primary focus will be to complete Pace Maker – we’re 3/4 of the way there! \n\n\n\n\nregister here\n\n\n\n\n \n\n\n\n🌤️ Might be cold early late start🥶 Good weather expected! \n\n\n\nWe’re 3/4 of the way there! ✅ Let’s finish strong! \n\n\n\n💙 PaceMaker Trail 💙Focus on finishing the lower section connecting to Defib. \n\n\n\n• Benching \n\n\n\n• Raking \n\n\n\n• Smoothing \n\n\n\n• Shaping \n\n\n\n• Cutting \n\n\n\nCome enjoy the sunshine and help us dial in this lower section of trail! \n\n\n\nBring: \n\n\n\n• Bikes-test out new trail \n\n\n\n• Gloves \n\n\n\n• Eye protection \n\n\n\n• Water \n\n\n\nHelpful Tools From the trailer: \n\n\n\n• Shovels \n\n\n\n• McLeods \n\n\n\n• Rogue hoes \n\n\n\n• Rakes \n\n\n\nAll experience levels welcome — many hands make light work! 🌲💪
URL:https://nw-trail.org/event/klootchy-creek-trail-work-day-3-1/
CATEGORIES:Dig Days,Klootchy Creek,Trail Work
ATTACH;FMTTYPE=image/jpeg:https://nw-trail.org/wp-content/uploads/2026/02/IMG_0854-Ross-Deardorff.jpg
END:VEVENT
BEGIN:VEVENT
DTSTART;TZID=America/Los_Angeles:20260329T093000
DTEND;TZID=America/Los_Angeles:20260329T120000
DTSTAMP:20260421T131743
CREATED:20260312T203707Z
LAST-MODIFIED:20260322T214248Z
UID:34142-1774776600-1774785600@nw-trail.org
SUMMARY:Klootchy Creek | Trail Work Day - 3/29
DESCRIPTION:Trail maintenance day at Klootchy Creek from 9:30AM-12PM – all skill levels welcome! \n\n\n\n\nregister here\n\n\n\n\n \n\n\n\n💙 PaceMaker Trail 💙Focus on shaping the trail and the section leading into Defibrilaltor and The Get Down \n\n\n\n• Benching \n\n\n\n• Raking \n\n\n\n• Smoothing \n\n\n\n• Shaping \n\n\n\n• Cutting \n\n\n\nCome enjoy the sunshine and help us dial in this lower section of trail! \n\n\n\nBring: \n\n\n\n• Bikes-test out new trail \n\n\n\n• Gloves \n\n\n\n• Eye protection \n\n\n\n• Water \n\n\n\nHelpful tools from the trailer (provided by us): \n\n\n\n• Shovels \n\n\n\n• McLeods \n\n\n\n• Rogue hoes \n\n\n\n• Rakes \n\n\n\nAll experience levels welcome — many hands make light work! Food and drink provided at the end of the work day🌲💪 \n\n\n\nContact: ross@neondesertdesign.com
URL:https://nw-trail.org/event/klootchy-creek-trail-work-day-3-29/
CATEGORIES:Dig Days,Klootchy Creek,Trail Work
ATTACH;FMTTYPE=image/jpeg:https://nw-trail.org/wp-content/uploads/2026/03/IMG_0854-Ross-Deardorff.jpg
END:VEVENT
END:VCALENDAR