BEGIN:VCALENDAR
VERSION:2.0
PRODID:-//Northwest Trail Alliance - ECPv6.15.18//NONSGML v1.0//EN
CALSCALE:GREGORIAN
METHOD:PUBLISH
X-WR-CALNAME:Northwest Trail Alliance
X-ORIGINAL-URL:https://nw-trail.org
X-WR-CALDESC:Events for Northwest Trail Alliance
REFRESH-INTERVAL;VALUE=DURATION:PT1H
X-Robots-Tag:noindex
X-PUBLISHED-TTL:PT1H
BEGIN:VTIMEZONE
TZID:America/Los_Angeles
BEGIN:DAYLIGHT
TZOFFSETFROM:-0800
TZOFFSETTO:-0700
TZNAME:PDT
DTSTART:20250309T100000
END:DAYLIGHT
BEGIN:STANDARD
TZOFFSETFROM:-0700
TZOFFSETTO:-0800
TZNAME:PST
DTSTART:20251102T090000
END:STANDARD
BEGIN:DAYLIGHT
TZOFFSETFROM:-0800
TZOFFSETTO:-0700
TZNAME:PDT
DTSTART:20260308T100000
END:DAYLIGHT
BEGIN:STANDARD
TZOFFSETFROM:-0700
TZOFFSETTO:-0800
TZNAME:PST
DTSTART:20261101T090000
END:STANDARD
BEGIN:DAYLIGHT
TZOFFSETFROM:-0800
TZOFFSETTO:-0700
TZNAME:PDT
DTSTART:20270314T100000
END:DAYLIGHT
BEGIN:STANDARD
TZOFFSETFROM:-0700
TZOFFSETTO:-0800
TZNAME:PST
DTSTART:20271107T090000
END:STANDARD
END:VTIMEZONE
BEGIN:VEVENT
DTSTART;TZID=America/Los_Angeles:20260118T093000
DTEND;TZID=America/Los_Angeles:20260118T120000
DTSTAMP:20260421T184351
CREATED:20260116T171436Z
LAST-MODIFIED:20260116T171438Z
UID:33666-1768728600-1768737600@nw-trail.org
SUMMARY:Klootchy Creek | Trail Work Day - 1/18
DESCRIPTION:This Sunday (1/18) we’ll be having a Trail Work Day that’s focused primarily on the Get Down and Party Wave to keep them riding great! \n\n\n\n\nregister here
URL:https://nw-trail.org/event/klootchy-creek-trail-work-day-1-18/
LOCATION:OR
CATEGORIES:Dig Days,Klootchy Creek,Trail Work
ATTACH;FMTTYPE=image/jpeg:https://nw-trail.org/wp-content/uploads/2026/01/Klootchy-Dig-Day-Apr.-13-2024-36.jpg
END:VEVENT
BEGIN:VEVENT
DTSTART;TZID=America/Los_Angeles:20260125T093000
DTEND;TZID=America/Los_Angeles:20260125T120000
DTSTAMP:20260421T184351
CREATED:20260120T171040Z
LAST-MODIFIED:20260120T171042Z
UID:33710-1769333400-1769342400@nw-trail.org
SUMMARY:Klootchy Creek | Trail Work Day | Reshaping Party Wave - 1/25
DESCRIPTION:On Sunday January 25th we’ll be hosting a Trail Work Day at Klootchy Creek starting at 9:30AM until noon! \n\n\n\n\nregister here\n\n\n\n\n \n\n\n\nWe’re going to aim for another weekend of winter trail work since the weather has given us almost perfect weather conditions! This trail work day will focus on Party Wave as we rake\, shape\, and smooth out the new upper section that picks up at the the end of The Get Down. \n\n\n\nThe work party starts at 9:30 in the Klootchy Creek parking lot. We’ll plan for two hours and stop around noon – bring your bike! All ages and skill levels welcome!
URL:https://nw-trail.org/event/klootchy-creek-trail-work-day-reshaping-party-wave-1-25/
LOCATION:OR
CATEGORIES:Dig Days,Klootchy Creek,Trail Work
ATTACH;FMTTYPE=image/jpeg:https://nw-trail.org/wp-content/uploads/2026/01/Klootchy-Dig-Day-Apr.-13-2024-41.jpg
END:VEVENT
BEGIN:VEVENT
DTSTART;TZID=America/Los_Angeles:20260201T093000
DTEND;TZID=America/Los_Angeles:20260201T120000
DTSTAMP:20260421T184351
CREATED:20260128T173957Z
LAST-MODIFIED:20260128T173958Z
UID:33803-1769938200-1769947200@nw-trail.org
SUMMARY:Klootchy Creek | Limb and Trim Party - 2/1
DESCRIPTION:Getting closer on finishing the upper section(s) of Party Wave! Since the ground will be wet\, our focus will be to limb and trim. \n\n\n\n\nregister here\n\n\n\n\n \n\n\n\nSince the ground will be wet\, our focus on Sunday will be to limb and trim the new upper sections of Party Wave and The Get Down. Bring hand saws\, clippers\, and electric trimmers along with thick gloves and your bike helmet for proper PPE. We’ll meet in the Klootchy Creek parking lot at 9:30 and work until noon – see you there! All ages and skill levels welcome 🙂
URL:https://nw-trail.org/event/klootchy-creek-limb-and-trim-party-2-1/
LOCATION:OR
CATEGORIES:Dig Days,Klootchy Creek,Trail Work
ATTACH;FMTTYPE=image/jpeg:https://nw-trail.org/wp-content/uploads/2026/01/Klootchy-Dig-Day-Apr.-13-2024-21.jpg
END:VEVENT
BEGIN:VEVENT
DTSTART;TZID=America/Los_Angeles:20260215T093000
DTEND;TZID=America/Los_Angeles:20260215T120000
DTSTAMP:20260421T184351
CREATED:20260211T185938Z
LAST-MODIFIED:20260211T194116Z
UID:33898-1771147800-1771156800@nw-trail.org
SUMMARY:Klootchy Creek | Trail Build Day THIS SUNDAY! - 2/15
DESCRIPTION:We will be having a Trail Build Day on February 15th! Meet at the Klootchy Creek parking lot at 9:30AM and plan to work until noonish. \n\n\n\n\nregister here\n\n\n\n\n \n\n\n\nKlootchy Work Party – Trail Build Day \n\n\n\n🗓 Sunday\, February 15 \n\n\n\n🕤 9:30 AM – 12:00 PM \n\n\n\n📍 Meet at Klootchy Creek Parking Lot 🅿️ \n\n\n\nWe will have options: \n\n\n\n1. Party Wave 🌊 smoothing the lower section. \n\n\n\n2. Finish limbing Greenwood\, Roller Coaster and Lower Chris Cross. \n\n\n\n3. If we get to go ahead we start building a brand-new trail: Pace Maker! Blue rating! This new line is located next to Defibrillator on a cat-graded trail. The work will mostly involve removing debris — rake and ride style. \n\n\n\nWhat to bring: \n\n\n\n•. Rakes\, Leaf rakes\, McLeod and Rogue Hoes. \n\n\n\n• Hand saws\, clippers\, or electric trimmers \n\n\n\n• Thick gloves \n\n\n\n• Bike helmet (required PPE) \n\n\n\nAll ages and skill levels are welcome 🙂 \n\n\n\nSponsored by Pelican Brewing! 🍻 Drinks and Food after the dig.🪏 \n\n\n\nCome help build trail and have a good time with the crew!
URL:https://nw-trail.org/event/klootchy-creek-trail-build-day-this-sunday-2-15/
LOCATION:OR
CATEGORIES:Dig Days,Klootchy Creek,Trail Work
ATTACH;FMTTYPE=image/jpeg:https://nw-trail.org/wp-content/uploads/2026/02/Klootchy-Dig-Day-Apr.-13-2024-27.jpg
END:VEVENT
BEGIN:VEVENT
DTSTART;TZID=America/Los_Angeles:20260301T103000
DTEND;TZID=America/Los_Angeles:20260301T130000
DTSTAMP:20260421T184351
CREATED:20260224T204704Z
LAST-MODIFIED:20260224T204707Z
UID:34022-1772361000-1772370000@nw-trail.org
SUMMARY:Klootchy Creek Trail Work Day - 3/1
DESCRIPTION:Our primary focus will be to complete Pace Maker – we’re 3/4 of the way there! \n\n\n\n\nregister here\n\n\n\n\n \n\n\n\n🌤️ Might be cold early late start🥶 Good weather expected! \n\n\n\nWe’re 3/4 of the way there! ✅ Let’s finish strong! \n\n\n\n💙 PaceMaker Trail 💙Focus on finishing the lower section connecting to Defib. \n\n\n\n• Benching \n\n\n\n• Raking \n\n\n\n• Smoothing \n\n\n\n• Shaping \n\n\n\n• Cutting \n\n\n\nCome enjoy the sunshine and help us dial in this lower section of trail! \n\n\n\nBring: \n\n\n\n• Bikes-test out new trail \n\n\n\n• Gloves \n\n\n\n• Eye protection \n\n\n\n• Water \n\n\n\nHelpful Tools From the trailer: \n\n\n\n• Shovels \n\n\n\n• McLeods \n\n\n\n• Rogue hoes \n\n\n\n• Rakes \n\n\n\nAll experience levels welcome — many hands make light work! 🌲💪
URL:https://nw-trail.org/event/klootchy-creek-trail-work-day-3-1/
LOCATION:OR
CATEGORIES:Dig Days,Klootchy Creek,Trail Work
ATTACH;FMTTYPE=image/jpeg:https://nw-trail.org/wp-content/uploads/2026/02/IMG_0854-Ross-Deardorff.jpg
END:VEVENT
BEGIN:VEVENT
DTSTART;TZID=America/Los_Angeles:20260329T093000
DTEND;TZID=America/Los_Angeles:20260329T120000
DTSTAMP:20260421T184351
CREATED:20260312T203707Z
LAST-MODIFIED:20260322T214248Z
UID:34142-1774776600-1774785600@nw-trail.org
SUMMARY:Klootchy Creek | Trail Work Day - 3/29
DESCRIPTION:Trail maintenance day at Klootchy Creek from 9:30AM-12PM – all skill levels welcome! \n\n\n\n\nregister here\n\n\n\n\n \n\n\n\n💙 PaceMaker Trail 💙Focus on shaping the trail and the section leading into Defibrilaltor and The Get Down \n\n\n\n• Benching \n\n\n\n• Raking \n\n\n\n• Smoothing \n\n\n\n• Shaping \n\n\n\n• Cutting \n\n\n\nCome enjoy the sunshine and help us dial in this lower section of trail! \n\n\n\nBring: \n\n\n\n• Bikes-test out new trail \n\n\n\n• Gloves \n\n\n\n• Eye protection \n\n\n\n• Water \n\n\n\nHelpful tools from the trailer (provided by us): \n\n\n\n• Shovels \n\n\n\n• McLeods \n\n\n\n• Rogue hoes \n\n\n\n• Rakes \n\n\n\nAll experience levels welcome — many hands make light work! Food and drink provided at the end of the work day🌲💪 \n\n\n\nContact: ross@neondesertdesign.com
URL:https://nw-trail.org/event/klootchy-creek-trail-work-day-3-29/
LOCATION:OR
CATEGORIES:Dig Days,Klootchy Creek,Trail Work
ATTACH;FMTTYPE=image/jpeg:https://nw-trail.org/wp-content/uploads/2026/03/IMG_0854-Ross-Deardorff.jpg
END:VEVENT
END:VCALENDAR