BEGIN:VCALENDAR
VERSION:2.0
PRODID:-//Northwest Trail Alliance - ECPv6.15.18//NONSGML v1.0//EN
CALSCALE:GREGORIAN
METHOD:PUBLISH
X-ORIGINAL-URL:https://nw-trail.org
X-WR-CALDESC:Events for Northwest Trail Alliance
REFRESH-INTERVAL;VALUE=DURATION:PT1H
X-Robots-Tag:noindex
X-PUBLISHED-TTL:PT1H
BEGIN:VTIMEZONE
TZID:America/Los_Angeles
BEGIN:DAYLIGHT
TZOFFSETFROM:-0800
TZOFFSETTO:-0700
TZNAME:PDT
DTSTART:20220313T100000
END:DAYLIGHT
BEGIN:STANDARD
TZOFFSETFROM:-0700
TZOFFSETTO:-0800
TZNAME:PST
DTSTART:20221106T090000
END:STANDARD
BEGIN:DAYLIGHT
TZOFFSETFROM:-0800
TZOFFSETTO:-0700
TZNAME:PDT
DTSTART:20230312T100000
END:DAYLIGHT
BEGIN:STANDARD
TZOFFSETFROM:-0700
TZOFFSETTO:-0800
TZNAME:PST
DTSTART:20231105T090000
END:STANDARD
BEGIN:DAYLIGHT
TZOFFSETFROM:-0800
TZOFFSETTO:-0700
TZNAME:PDT
DTSTART:20240310T100000
END:DAYLIGHT
BEGIN:STANDARD
TZOFFSETFROM:-0700
TZOFFSETTO:-0800
TZNAME:PST
DTSTART:20241103T090000
END:STANDARD
END:VTIMEZONE
BEGIN:VEVENT
DTSTART;TZID=America/Los_Angeles:20230425T183000
DTEND;TZID=America/Los_Angeles:20230425T210000
DTSTAMP:20260420T200414
CREATED:20230327T185404Z
LAST-MODIFIED:20230327T185406Z
UID:28548-1682447400-1682456400@nw-trail.org
SUMMARY:Member Social at Cyclepath - 4/25
DESCRIPTION:Join us for our April Member Social at @cyclepathpdx! Come hang out at Cyclepath and chat with NWTA representatives and other members in a casual social setting. No formal agenda – just a great opportunity to enjoy great company in a great space. 
URL:https://nw-trail.org/event/member-social-at-cyclepath-4-25/
LOCATION:Cyclepath PDX\, 2436 Northeast Martin Luther King Junior Boulevard\, Portland\, OR\, 97212\, United States
CATEGORIES:Membership,NWTA Events,Public Outreach,Social
ATTACH;FMTTYPE=image/jpeg:https://nw-trail.org/wp-content/uploads/2023/03/NW-Trail-Sisters-Fix-Sip-Nov.-28-2022-2.jpg
END:VEVENT
END:VCALENDAR