BEGIN:VCALENDAR
VERSION:2.0
PRODID:-//Northwest Trail Alliance - ECPv6.15.18//NONSGML v1.0//EN
CALSCALE:GREGORIAN
METHOD:PUBLISH
X-WR-CALNAME:Northwest Trail Alliance
X-ORIGINAL-URL:https://nw-trail.org
X-WR-CALDESC:Events for Northwest Trail Alliance
REFRESH-INTERVAL;VALUE=DURATION:PT1H
X-Robots-Tag:noindex
X-PUBLISHED-TTL:PT1H
BEGIN:VTIMEZONE
TZID:America/Los_Angeles
BEGIN:DAYLIGHT
TZOFFSETFROM:-0800
TZOFFSETTO:-0700
TZNAME:PDT
DTSTART:20240310T100000
END:DAYLIGHT
BEGIN:STANDARD
TZOFFSETFROM:-0700
TZOFFSETTO:-0800
TZNAME:PST
DTSTART:20241103T090000
END:STANDARD
BEGIN:DAYLIGHT
TZOFFSETFROM:-0800
TZOFFSETTO:-0700
TZNAME:PDT
DTSTART:20250309T100000
END:DAYLIGHT
BEGIN:STANDARD
TZOFFSETFROM:-0700
TZOFFSETTO:-0800
TZNAME:PST
DTSTART:20251102T090000
END:STANDARD
BEGIN:DAYLIGHT
TZOFFSETFROM:-0800
TZOFFSETTO:-0700
TZNAME:PDT
DTSTART:20260308T100000
END:DAYLIGHT
BEGIN:STANDARD
TZOFFSETFROM:-0700
TZOFFSETTO:-0800
TZNAME:PST
DTSTART:20261101T090000
END:STANDARD
BEGIN:DAYLIGHT
TZOFFSETFROM:-0800
TZOFFSETTO:-0700
TZNAME:PDT
DTSTART:20270314T100000
END:DAYLIGHT
BEGIN:STANDARD
TZOFFSETFROM:-0700
TZOFFSETTO:-0800
TZNAME:PST
DTSTART:20271107T090000
END:STANDARD
END:VTIMEZONE
BEGIN:VEVENT
DTSTART;TZID=America/Los_Angeles:20250924T183000
DTEND;TZID=America/Los_Angeles:20250924T200000
DTSTAMP:20260421T034014
CREATED:20250905T193256Z
LAST-MODIFIED:20250905T193307Z
UID:32938-1758738600-1758744000@nw-trail.org
SUMMARY:Member Hang Out: learn about our collaboration with Metro - 9/24
DESCRIPTION:Come hear from NWTA and Metro about new and exciting volunteer opportunities at Chehalem Ridge and Newell Creek Nature Parks. \n\n\n\n\nregister here\n\n\n\n\n \n\n\n\nCome hear from NWTA and Metro about new and exciting volunteer opportunities at Chehalem Ridge and Newell Creek Nature Parks. Located in the Forest Grove and Happy Valley areas respectively\, both nature parks feature a number of miles of multi-use trails. There will be a number of ways volunteers can contribute to this work as NWTA embarks on stewardship opportunities at both locations! As with all of our trail stewardship work\, none of it happens without volunteers. Join us on September 24 to hear more about different ways you could be involved with this new opportunity – and stick around for drinks\, snacks\, and great company at one of our local bike shops. \n\n\n\nThis event is FREE and includes food and drinks. But please RSVP so we know how much to bring so no one is left hungry. Thank you!
URL:https://nw-trail.org/event/member-hang-out-learn-about-our-collaboration-with-metro-9-24/
CATEGORIES:Family Friendly,Member Meeting,Membership,Social
ATTACH;FMTTYPE=image/jpeg:https://nw-trail.org/wp-content/uploads/2025/09/Chehalem-Ridge-June-4-2022-32.jpg
END:VEVENT
BEGIN:VEVENT
DTSTART;TZID=America/Los_Angeles:20260127T183000
DTEND;TZID=America/Los_Angeles:20260127T203000
DTSTAMP:20260421T034014
CREATED:20260124T003539Z
LAST-MODIFIED:20260124T003540Z
UID:33730-1769538600-1769545800@nw-trail.org
SUMMARY:Annual NWTA Member Meeting - 1/27
DESCRIPTION:Join us for our annual member meeting at Hopworks.
URL:https://nw-trail.org/event/annual-nwta-member-meeting-1-27/
LOCATION:Hopworks Brewing\, 2944 SE Powell Blvd
CATEGORIES:Family Friendly,Member Meeting,Membership,Social
ATTACH;FMTTYPE=image/jpeg:https://nw-trail.org/wp-content/uploads/2026/01/Sept.-Member-Meeting-Sept.-27-2022-18.jpg
END:VEVENT
END:VCALENDAR