BEGIN:VCALENDAR
VERSION:2.0
PRODID:-//Northwest Trail Alliance - ECPv6.15.18//NONSGML v1.0//EN
CALSCALE:GREGORIAN
METHOD:PUBLISH
X-ORIGINAL-URL:https://nw-trail.org
X-WR-CALDESC:Events for Northwest Trail Alliance
REFRESH-INTERVAL;VALUE=DURATION:PT1H
X-Robots-Tag:noindex
X-PUBLISHED-TTL:PT1H
BEGIN:VTIMEZONE
TZID:America/Los_Angeles
BEGIN:DAYLIGHT
TZOFFSETFROM:-0800
TZOFFSETTO:-0700
TZNAME:PDT
DTSTART:20220313T100000
END:DAYLIGHT
BEGIN:STANDARD
TZOFFSETFROM:-0700
TZOFFSETTO:-0800
TZNAME:PST
DTSTART:20221106T090000
END:STANDARD
BEGIN:DAYLIGHT
TZOFFSETFROM:-0800
TZOFFSETTO:-0700
TZNAME:PDT
DTSTART:20230312T100000
END:DAYLIGHT
BEGIN:STANDARD
TZOFFSETFROM:-0700
TZOFFSETTO:-0800
TZNAME:PST
DTSTART:20231105T090000
END:STANDARD
BEGIN:DAYLIGHT
TZOFFSETFROM:-0800
TZOFFSETTO:-0700
TZNAME:PDT
DTSTART:20240310T100000
END:DAYLIGHT
BEGIN:STANDARD
TZOFFSETFROM:-0700
TZOFFSETTO:-0800
TZNAME:PST
DTSTART:20241103T090000
END:STANDARD
BEGIN:DAYLIGHT
TZOFFSETFROM:-0800
TZOFFSETTO:-0700
TZNAME:PDT
DTSTART:20250309T100000
END:DAYLIGHT
BEGIN:STANDARD
TZOFFSETFROM:-0700
TZOFFSETTO:-0800
TZNAME:PST
DTSTART:20251102T090000
END:STANDARD
END:VTIMEZONE
BEGIN:VEVENT
DTSTART;TZID=America/Los_Angeles:20231007T100000
DTEND;TZID=America/Los_Angeles:20231007T140000
DTSTAMP:20260425T034512
CREATED:20230316T191022Z
LAST-MODIFIED:20230929T180518Z
UID:28470-1696672800-1696687200@nw-trail.org
SUMMARY:Take A Kid Mountain Biking Day - 10/7
DESCRIPTION:Join us at Gateway Green in Portland to celebrate Take a Kid Mountain Biking Day. Created in 2004 and recognized by US Congress\, Take a Kid Mountain Biking Day is a family-oriented outdoor event\, where mountain biking is introduced to some\, and others come out to test their skills and improve confidence. It’s about having fun\, being safe and meeting others who share the joy of mountain biking. No sign up needed. \n\n\n\nFREE EVENT: Bike skills challenge stations\, loaner mountain bikes available (limited amount)\, face painting\, raffle\, fun for the whole family. All ages welcome. \n\n\n\nFood available on site for purchase (food Trucks) \n\n\n\nQuestions? Contact Juntu at juntu@nw-trail.org.
URL:https://nw-trail.org/event/take-a-kid-mountain-biking-day-10-7/
CATEGORIES:#kidsthatshred,Clinic,Family Friendly,Gateway Green,NWTA Events,Public Outreach,Regional Events,Signature Event,Social
ATTACH;FMTTYPE=image/png:https://nw-trail.org/wp-content/uploads/2023/03/Untitled-2.png
END:VEVENT
BEGIN:VEVENT
DTSTART;TZID=America/Los_Angeles:20240608T090000
DTEND;TZID=America/Los_Angeles:20240608T150000
DTSTAMP:20260425T034512
CREATED:20240513T174228Z
LAST-MODIFIED:20240605T220627Z
UID:30812-1717837200-1717858800@nw-trail.org
SUMMARY:(SOLD OUT) Sandy Ridge Shuttle Day Fundraiser — 6/8
DESCRIPTION:Sandy Ridge Shuttle Day Fundraiser is back! Join Northwest Trail Alliance for an epic day of shuttle laps. \n\n\n\n\nSOLD OUT\n\n\n\n\n \n\n\n\nJoin Northwest Trail Alliance for a day of shuttled riding at Sandy Ridge. This is a fundraiser for Northwest Trail Alliance. We’re putting the money right back into trails for the community to enjoy. Cyclepath will be cooking up some food for lunch\, Hopworks will be providing refreshments\, Pelican will have N/A Hopwater on hand. We’re excited to bringing back the Sandy Ridge Shuttle. Come out and support the trails you love. \n\n\n\nNOTE: This event is sold out. We are beholden to permitting limits\, and also need to be cognizant of our partners that have already ordered the food and beverages given those limits. If you are still looking to obtain a shuttle ticket\, there are two options: \n\n\n\n\nWe are still looking for a few shuttle day volunteers; those who sign up for a half day of help during the shuttle day get to ride for a half day free of charge. Please email volunteer@nw-trail.org if interested. \n\n\n\nSome tickets may be sold on-site after 10:30 a.m.\, once initial check-in is complete. This will only happen if we are not at capacity after initial check-in\, and there are no guarantees. \n\n\n\nEven if no additional tickets are available\, Sandy Ridge is fully open to all riders on Saturday\, whether or not you are riding the shuttle!\n\n\n\n\nThank you for your understanding! \n\n\n\nWhat To Bring: \n\n\n\nYour bike\, helmet\, riding gear\, shoes etc. \n\n\n\nWater/hydration \n\n\n\nSnacks \n\n\n\nA change of clothes for after \n\n\n\nSchedule: \n\n\n\nCheck in will start at 8:30 a.m. \n\n\n\nShuttles start at 9:00 a.m. \n\n\n\nLunch 11:30 a.m. -1:00 p.m. \n\n\n\nLast shuttle: 3:00 p.m. \n\n\n\nBig shout out to Cyclepath for helping plan\, organize\, feed\, and wrench on bikes for the Sandy Ridge Shuttle Day.  \n\n\n\nOnce registered\, please sign the waiver HERE \n\n\n\nEmail volunteer@nw-trail.org with any questions
URL:https://nw-trail.org/event/sandy-ridge-shuttle-day-fundraiser-6-8/
CATEGORIES:Family Friendly,Fundraiser,Group Ride,NWTA Events,Public Outreach,Regional Events,Sandy Ridge,Signature Event,Social
ATTACH;FMTTYPE=image/jpeg:https://nw-trail.org/wp-content/uploads/2024/05/MBO-June-24-2023-15.jpg
END:VEVENT
BEGIN:VEVENT
DTSTART;TZID=America/Los_Angeles:20240816T090000
DTEND;TZID=America/Los_Angeles:20240818T150000
DTSTAMP:20260425T034512
CREATED:20240528T161158Z
LAST-MODIFIED:20240723T174304Z
UID:30905-1723798800-1723993200@nw-trail.org
SUMMARY:St. Helens International Festival of Trails (aka SHIFT) Campout and Work Party - 8/16-18
DESCRIPTION:register here\n\n\n\n\nSHIFT is back! Weekend campout around a work party on Saturday\, August 17th. \n\n\n\nGreat news! Our weekend party around a work party is back! \n\n\n\nWork party date: Saturday\, August 17th\, 2024 / 9 a.m. – 3 p.m. \n\n\n\nCampout dates: Friday\, August 16th – Sunday\, August 18th. Informal social rides will be happening all weekend!  \n\n\n\nMeet at Marble Mountain Sno Park (NF-83\, Cougar WA 98616) \n\n\n\nWe will be working in areas you will have to access via riding your bike. When registering\, please be honest with your riding skill and stamina in order for us to get you into the right work group.  \n\n\n\nWhat to bring for the work party: \n\n\n\n* Work clothes: Light long sleeve shirt\, long pants (no shorts)\, boots\, gloves\, eye protection\, and gloves \n\n\n\n* Jacket (be prepared) \n\n\n\n* Hard hat or bike helmet (mandatory) \n\n\n\n* Water \n\n\n\n* Snacks  \n\n\n\n* Lunch \n\n\n\nNWTA will have tools will available\, but please bring your favorite tread tool if you have one (rakes\, McLeod\, Rouge hoe\, loppers) \n\n\n\nAfter the work party on Saturday\, dinner will be provided for all volunteers (please pre-register). Adult Beverages are generously provided by Hopworks. \n\n\n\nPlease be prepared and bring enough food and water for yourself and your group for the remainder of the weekend. Please bring reusable plates/cutlery for a more sustainable event. Garbage will not be provided\, participants will be packing out what they pack in. \n\n\n\nWaiver – Once registered\, please sign the waiver HERE. \n\n\n\nCampout details: \n\n\n\nOur basecamp for the weekend will be at Marble Mountain Sno Park. This is a paved parking lot with areas close by ideal for dispersed camping. There is also ample space for RVs and campers. However\, no electricity or water on site. Be prepared and bring everything that you need.  \n\n\n\nBathroom – 2 vault toilets (bring toilet paper!). \n\n\n\nPET (DOG) OWNERS: If you bring your pet\, know that you cannot leave them unattended at the basecamp. Due to the steep hillside and narrow terrain of the trail\, we DO NOT recommend that they join you while working on the trail. \n\n\n\nQuestions? Email nancys@nw-trail.org
URL:https://nw-trail.org/event/st-helens-international-festival-of-trails-aka-shift-campout-and-work-party-8-16-18/
CATEGORIES:Campout,Dig Days,Mt. St. Helens,NWTA Events,Signature Event,Trail Work
ATTACH;FMTTYPE=image/jpeg:https://nw-trail.org/wp-content/uploads/2024/05/SHIFT-Aug.-19-21-2022-115.jpg
END:VEVENT
BEGIN:VEVENT
DTSTART;TZID=America/Los_Angeles:20241005T100000
DTEND;TZID=America/Los_Angeles:20241005T140000
DTSTAMP:20260425T034512
CREATED:20240917T225724Z
LAST-MODIFIED:20240918T155639Z
UID:31407-1728122400-1728136800@nw-trail.org
SUMMARY:Gateway Green Celebration + Take a Kid Mountain Biking Day - 10/5
DESCRIPTION:Where: Gateway Green Bike Park\, north of Gateway Transit Center (along the 1-205 bike/pedestrian path). \n\n\n\nA combined event to celebrate: The completion of the entry plaza\, expanded trails\, and the annual Take a Kid Mountain Biking Day withbike stations\, loaner bikes\, refreshments\, and more! This incredible event is made possible by Portland Parks & Recreation and TriMet. \n\n\n\nAccess Info: This is a car-free park. \n\n\n\nFor more programming and access information\, please visit: portland.gov/parks/gateway-green
URL:https://nw-trail.org/event/gateway-green-celebration-take-a-kid-mountain-biking-day-10-5/
CATEGORIES:#kidsthatshred,Family Friendly,Gateway Green,NWTA Events,Public Outreach,Regional Events,Signature Event
ATTACH;FMTTYPE=image/jpeg:https://nw-trail.org/wp-content/uploads/2024/09/TAKMTBD-Oct.-7-2023-21.jpg
END:VEVENT
END:VCALENDAR