BEGIN:VCALENDAR
VERSION:2.0
PRODID:-//Northwest Trail Alliance - ECPv6.15.18//NONSGML v1.0//EN
CALSCALE:GREGORIAN
METHOD:PUBLISH
X-ORIGINAL-URL:https://nw-trail.org
X-WR-CALDESC:Events for Northwest Trail Alliance
REFRESH-INTERVAL;VALUE=DURATION:PT1H
X-Robots-Tag:noindex
X-PUBLISHED-TTL:PT1H
BEGIN:VTIMEZONE
TZID:America/Los_Angeles
BEGIN:DAYLIGHT
TZOFFSETFROM:-0800
TZOFFSETTO:-0700
TZNAME:PDT
DTSTART:20240310T100000
END:DAYLIGHT
BEGIN:STANDARD
TZOFFSETFROM:-0700
TZOFFSETTO:-0800
TZNAME:PST
DTSTART:20241103T090000
END:STANDARD
BEGIN:DAYLIGHT
TZOFFSETFROM:-0800
TZOFFSETTO:-0700
TZNAME:PDT
DTSTART:20250309T100000
END:DAYLIGHT
BEGIN:STANDARD
TZOFFSETFROM:-0700
TZOFFSETTO:-0800
TZNAME:PST
DTSTART:20251102T090000
END:STANDARD
BEGIN:DAYLIGHT
TZOFFSETFROM:-0800
TZOFFSETTO:-0700
TZNAME:PDT
DTSTART:20260308T100000
END:DAYLIGHT
BEGIN:STANDARD
TZOFFSETFROM:-0700
TZOFFSETTO:-0800
TZNAME:PST
DTSTART:20261101T090000
END:STANDARD
BEGIN:DAYLIGHT
TZOFFSETFROM:-0800
TZOFFSETTO:-0700
TZNAME:PDT
DTSTART:20270314T100000
END:DAYLIGHT
BEGIN:STANDARD
TZOFFSETFROM:-0700
TZOFFSETTO:-0800
TZNAME:PST
DTSTART:20271107T090000
END:STANDARD
END:VTIMEZONE
BEGIN:VEVENT
DTSTART;TZID=America/Los_Angeles:20250419T090000
DTEND;TZID=America/Los_Angeles:20250419T130000
DTSTAMP:20260423T031039
CREATED:20250408T183224Z
LAST-MODIFIED:20250408T183227Z
UID:32484-1745053200-1745067600@nw-trail.org
SUMMARY:Portland Parks Dig Day - 4/19
DESCRIPTION:Join NWTA and Portland Parks & Recreation in completing important trail work projects from 9:00 a.m. – 1:00 p.m.! \n\n\n\n\nregister here\n\n\n\n\n \n\n\n\nJoin NWTA and Portland Parks & Recreation in completing important trail work projects from 9:00 a.m. – 1:00 p.m. at Portland’s Powell Butte Nature Park. No experience necessary! Youth participants (under 18) welcome with adult supervision (waivers required by parent/guardian). \n\n\n\nWear sturdy close-toed shoes\, long pants\, and long-sleeved shirts. Bring rain gear and/or sun gear\, a hat\, a filled water bottle\, and snacks. Instruction\, tools and gloves otherwise provided. You will be walking up to 2 miles away from the meeting location and restrooms\, so please be ready to hike. Be sure to arrive on time\, or you may miss the group. \n\n\n\nThe tools we will be using for the event includes grubbers\, McLeod’s and shovels to armor the trail which is improve wet or muddy sections of trail. We will be using wall rock to build up a section of trail that is constantly wet. We also will be clearing and adding drains for water to get off the trail. \n\n\n\nThank you for your commitment to volunteering and trails. \n\n\n\nTime: 9am-1pm \n\n\n\nMeeting location: 5607 SE 145th Ave \n\n\n\nGoogle Link: https://maps.app.goo.gl/xSWpKGn8y1hXXUXJ7 \n\n\n\nFor more information\, please contact Eric Oliver at erico@nw-trail.org.
URL:https://nw-trail.org/event/portland-parks-dig-day-4-19/
CATEGORIES:Dig Days,Family Friendly,Powell Butte,Trail Work
ATTACH;FMTTYPE=image/png:https://nw-trail.org/wp-content/uploads/2025/04/https-cdn.evbuc_.com-images-915099903-259338330067-1-original.20241210-192628.png
END:VEVENT
BEGIN:VEVENT
DTSTART;TZID=America/Los_Angeles:20260221T090000
DTEND;TZID=America/Los_Angeles:20260221T130000
DTSTAMP:20260423T031039
CREATED:20260201T161333Z
LAST-MODIFIED:20260201T161335Z
UID:33828-1771664400-1771678800@nw-trail.org
SUMMARY:NWTA Dig Day | Powell Butte - 2/21
DESCRIPTION:Join NWTA and Portland Parks and Rec while we tune up the trails at Powell Butte. \n\n\n\n\nregister here\n\n\n\n\n \n\n\n\nJoin us for a fun day of trail work at Powell Butte. This in-person event is perfect for outdoor enthusiasts who love to get their hands dirty and contribute to the local mountain biking/hiking trails. Whether you’re a seasoned trail builder or a newbie\, everyone is welcome to lend a hand and make a difference. We’ll provide the tools and guidance\, so all you need to bring is your enthusiasm and a willingness to work as a team. You will be walking up to 2 miles away from the meeting location and restrooms\, so please be ready to hike. Be sure to arrive early so you have time to gather your belongings\, our START time is 9am. \n\n\n\nDon’t miss out on this close-to-home opportunity to give back to the local trails we love! \n\n\n\nWhat To Bring: \n\n\n\n\nWork clothes: long sleeve shirt\, long pants (no shorts)\, sturdy boots\, gloves\, eye protection\n\n\n\nJacket for changing weather and rain (be prepared)\n\n\n\nHard hat or bike helmet (mandatory)\n\n\n\nWater\n\n\n\nSnacks\n\n\n\nLunch\n\n\n\nOptional: Favorite trail tool\, McLeod or Rouge Hoe (We have tools\, but please feel free to bring your own if you are more comfortable with your own).\n\n\n\n\nTime and Place\n\n\n\n\n9:00 am – 1:00 pm meeting at the kiosk in the parking lot\n\n\n\nSTART TIME is 9AM. Have your gear\, food and water ready in advance. \n\n\n\nMap: https://maps.app.goo.gl/xSWpKGn8y1hXXUXJ7\n\n\n\nTrail work will last approximately 4 hours\, wrapping up at 1:00\n\n\n\nkentd@nw-trail.org
URL:https://nw-trail.org/event/nwta-dig-day-powell-butte-2-21/
CATEGORIES:Dig Days,Powell Butte,Trail Work
ATTACH;FMTTYPE=image/jpeg:https://nw-trail.org/wp-content/uploads/2026/02/Powell-Butte-Nov.-18-2023-45.jpg
END:VEVENT
BEGIN:VEVENT
DTSTART;TZID=America/Los_Angeles:20260321T090000
DTEND;TZID=America/Los_Angeles:20260321T130000
DTSTAMP:20260423T031039
CREATED:20260308T181730Z
LAST-MODIFIED:20260308T181732Z
UID:34104-1774083600-1774098000@nw-trail.org
SUMMARY:NWTA Dig Day | Powell Butte - 3/21
DESCRIPTION:Join NWTA and Portland Parks and Rec while we tune up the trails at Powell Butte. \n\n\n\n\nregister here\n\n\n\n\n \n\n\n\nJoin us for a fun day of trail work at Powell Butte. This in-person event is perfect for outdoor enthusiasts who love to get their hands dirty and contribute to the local mountain biking/hiking trails. Whether you’re a seasoned trail builder or a newbie\, everyone is welcome to lend a hand and make a difference. We’ll provide the tools and guidance\, so all you need to bring is your enthusiasm and a willingness to work as a team. You will be walking up to 2 miles away from the meeting location and restrooms\, so please be ready to hike. Be sure to arrive early so you have time to gather your belongings\, our start time is 9am. \n\n\n\nDon’t miss out on this close-to-home opportunity to give back to the local trails we love! \n\n\n\nWhat To Bring: \n\n\n\n\nWork clothes: long sleeve shirt\, long pants (no shorts)\, sturdy boots\, gloves\, eye protection\n\n\n\nJacket for changing weather and rain (be prepared)\n\n\n\nHard hat or bike helmet (mandatory)\n\n\n\nWater\n\n\n\nSnacks\n\n\n\nLunch\n\n\n\nOptional: Favorite trail tool\, McLeod or Rouge Hoe (We have tools\, but please feel free to bring your own if you are more comfortable with your own).\n\n\n\n\nTime and Place\n\n\n\n\n9:00 am – 1:00 pm meeting at the kiosk in the parking lot\n\n\n\nSTART TIME is 9AM. Have your gear\, food and water ready in advance.\n\n\n\nMap: https://maps.app.goo.gl/xSWpKGn8y1hXXUXJ7\n\n\n\nTrail work will last approximately 4 hours\, wrapping up at 1:00\n\n\n\n\nContact kentd@nw-trail.org with any questions.
URL:https://nw-trail.org/event/nwta-dig-day-powell-butte-3-21/
CATEGORIES:Dig Days,Powell Butte,Trail Work
ATTACH;FMTTYPE=image/jpeg:https://nw-trail.org/wp-content/uploads/2026/03/NO-LOGO-Powell-Butte-Nov.-18-2021-28.jpg
END:VEVENT
END:VCALENDAR