BEGIN:VCALENDAR
VERSION:2.0
PRODID:-//Northwest Trail Alliance - ECPv6.15.18//NONSGML v1.0//EN
CALSCALE:GREGORIAN
METHOD:PUBLISH
X-WR-CALNAME:Northwest Trail Alliance
X-ORIGINAL-URL:https://nw-trail.org
X-WR-CALDESC:Events for Northwest Trail Alliance
REFRESH-INTERVAL;VALUE=DURATION:PT1H
X-Robots-Tag:noindex
X-PUBLISHED-TTL:PT1H
BEGIN:VTIMEZONE
TZID:America/Los_Angeles
BEGIN:DAYLIGHT
TZOFFSETFROM:-0800
TZOFFSETTO:-0700
TZNAME:PDT
DTSTART:20220313T100000
END:DAYLIGHT
BEGIN:STANDARD
TZOFFSETFROM:-0700
TZOFFSETTO:-0800
TZNAME:PST
DTSTART:20221106T090000
END:STANDARD
BEGIN:DAYLIGHT
TZOFFSETFROM:-0800
TZOFFSETTO:-0700
TZNAME:PDT
DTSTART:20230312T100000
END:DAYLIGHT
BEGIN:STANDARD
TZOFFSETFROM:-0700
TZOFFSETTO:-0800
TZNAME:PST
DTSTART:20231105T090000
END:STANDARD
BEGIN:DAYLIGHT
TZOFFSETFROM:-0800
TZOFFSETTO:-0700
TZNAME:PDT
DTSTART:20240310T100000
END:DAYLIGHT
BEGIN:STANDARD
TZOFFSETFROM:-0700
TZOFFSETTO:-0800
TZNAME:PST
DTSTART:20241103T090000
END:STANDARD
END:VTIMEZONE
BEGIN:VEVENT
DTSTART;TZID=America/Los_Angeles:20230603T090000
DTEND;TZID=America/Los_Angeles:20230604T143000
DTSTAMP:20260423T191259
CREATED:20230502T174425Z
LAST-MODIFIED:20230502T174427Z
UID:28763-1685782800-1685889000@nw-trail.org
SUMMARY: Klootchy Creek Dirt Wave Race Series - 6/3-4
DESCRIPTION:Register to Ride the Dirt Wave at Klootchy Creek! Ride the Dirt Wave race series was created to showcase mountain bike trail systems on the Oregon Coast\, with two days of riding in each location. Day one has several “fun ride” options open to many levels of riders. These rides will be led by members of the NWTA Klootchy Creek team that built and regularly maintain the trails – showcasing the favorite trails in the area. Day two is race day!  The Flow Duro Challenge Race is a fun\, fast-paced\, timed competition down a short\, flowy\, mostly downhill trail. It combines all of our favorite elements of friendly competition down sweeping trails with a small amount of climbing and a large amount of fun!  This is a great opportunity to come out and get to know the trails in a fun and supportive environment. The celebration of the Klootchy Creek trails includes food\, music & beverages on site. Food carts and local beer will be available for purchase. \n\n\n\nThis is a OBRA-sanctioned event; registration is REQUIRED through the Ride the Dirt Wave event site: https://www.thedirtwave.com/klootchy-creek/ \n\n\n\nVOLUNTEERS ARE NEEDED to help host Ride the Dirt Wave at Klootchy! Please contact lisao@nw-trail.org if you’re interested in volunteering.
URL:https://nw-trail.org/event/klootchy-creek-dirt-wave-race-series-6-3-4/
CATEGORIES:Klootchy Creek,Race,Regional Events
ATTACH;FMTTYPE=image/jpeg:https://nw-trail.org/wp-content/uploads/2023/05/Klootchy-Creek-1-scaled-1.jpg
END:VEVENT
END:VCALENDAR