BEGIN:VCALENDAR
VERSION:2.0
PRODID:-//Northwest Trail Alliance - ECPv6.15.18//NONSGML v1.0//EN
CALSCALE:GREGORIAN
METHOD:PUBLISH
X-WR-CALNAME:Northwest Trail Alliance
X-ORIGINAL-URL:https://nw-trail.org
X-WR-CALDESC:Events for Northwest Trail Alliance
REFRESH-INTERVAL;VALUE=DURATION:PT1H
X-Robots-Tag:noindex
X-PUBLISHED-TTL:PT1H
BEGIN:VTIMEZONE
TZID:America/Los_Angeles
BEGIN:DAYLIGHT
TZOFFSETFROM:-0800
TZOFFSETTO:-0700
TZNAME:PDT
DTSTART:20230312T100000
END:DAYLIGHT
BEGIN:STANDARD
TZOFFSETFROM:-0700
TZOFFSETTO:-0800
TZNAME:PST
DTSTART:20231105T090000
END:STANDARD
BEGIN:DAYLIGHT
TZOFFSETFROM:-0800
TZOFFSETTO:-0700
TZNAME:PDT
DTSTART:20240310T100000
END:DAYLIGHT
BEGIN:STANDARD
TZOFFSETFROM:-0700
TZOFFSETTO:-0800
TZNAME:PST
DTSTART:20241103T090000
END:STANDARD
BEGIN:DAYLIGHT
TZOFFSETFROM:-0800
TZOFFSETTO:-0700
TZNAME:PDT
DTSTART:20250309T100000
END:DAYLIGHT
BEGIN:STANDARD
TZOFFSETFROM:-0700
TZOFFSETTO:-0800
TZNAME:PST
DTSTART:20251102T090000
END:STANDARD
END:VTIMEZONE
BEGIN:VEVENT
DTSTART;TZID=America/Los_Angeles:20240601T083000
DTEND;TZID=America/Los_Angeles:20240601T140000
DTSTAMP:20260422T220313
CREATED:20240312T014536Z
LAST-MODIFIED:20240514T162541Z
UID:30491-1717230600-1717250400@nw-trail.org
SUMMARY:LapQuest - SOCIAL RIDE EVENT WITH A CHALLENGE – 6/1
DESCRIPTION:A group ride with an endurance challenge. The challenge is to do as many laps as you can within 2 hours. \n\n\n\n\nregister here\n\n\n\n\n \n\n\n\nLapQuest is a grassroots social ride event with an endurance challenge!  \n\n\n\nA fun-filled day of mountain biking\, community camaraderie\, and delicious Mexican food provided by Qdoba. \n\n\n\nDo a couple fun laps at a casual speed\, or do as many laps as you can within the 2-hour time period. The choice is yours. You set the pace and decide how many laps you want to complete. \n\n\n\nWhether you’re looking to casually ride for a couple of hours or push yourself to complete as many laps as possible. \n\n\n\nLapQuest is a community-building event and a THANK YOU event for all the amazing volunteers who help build and maintain the trails we love to ride. \n\n\n\nWhy LapQuest? \n\n\n\nGrassroots Glory: LapQuest unites biking enthusiasts for a grassroots challenge that’s all about passion\, grit\, and community. \n\n\n\nCascade Locks Magic: Chosen for its spectator-friendly vibe\, Cascade Locks serves as the perfect backdrop for your biking triumphs. \n\n\n\nScenic Thrills: Set on the banks of the Columbia River\, LapQuest offers breathtaking views to accompany your biking feats. \n\n\n\nDate: Saturday June 1st\, 2024 \n\n\n\nEvent Schedule: \n\n\n\n\nCheck in starts at 8:30 a.m.\n\n\n\nWelcome and event safety talk starts at 9:00 a.m.\n\n\n\nRiders stage at 9:30 a.m.\n\n\n\nRiders start at 10:00 a.m. and finish by 12:00 (noon)\n\n\n\nSocial is from 12:00 to 2:00 p.m.\n\n\n\n\nEvent Meeting Location: 199 Cramblett Way\, Cascade Locks\, OR 97014 \n\n\n\nTrail Information: EasyCLIMB via TrailForks \n\n\n\nAdditional event details and pre-ride group ride will be shared with people who pre-register \n\n\n\nOnce Registered\, make sure to sign the LapQuest Event Waiver \n\n\n\nQuestions: Email tedd@nw-trail.org
URL:https://nw-trail.org/event/lapquest-4-hour-mtb-endurance-challenge-6-1/
CATEGORIES:Cascade Locks,Columbia Gorge,Group Ride,LapQuest,NWTA Events,Race,Social
ATTACH;FMTTYPE=image/jpeg:https://nw-trail.org/wp-content/uploads/2024/03/LapQuest-Race-June-11-2022-202.jpg
END:VEVENT
BEGIN:VEVENT
DTSTART;TZID=America/Los_Angeles:20240608T080000
DTEND;TZID=America/Los_Angeles:20240609T170000
DTSTAMP:20260422T220313
CREATED:20240426T180439Z
LAST-MODIFIED:20240505T054738Z
UID:30710-1717833600-1717952400@nw-trail.org
SUMMARY:Ride the Dirt Wave Enduro Race at Klootchy Creek - 6/8-9
DESCRIPTION:register to race\n\n\n\n\nGet ready to hit the trails at Clatsop County’s newest MTB playground on the North Coast!  From adrenaline-pumping jump lines to beginner-friendly paths perfect for little shredders\, Klootchy Creek has it all! Just off Hwy 26 near Seaside and Cannon Beach\, this hidden gem offers something for everyone\, whether you’re a seasoned rider or just starting out. \n\n\n\nJoin us for two days of biking bliss\, with family rides\, beginner sessions\, and thrilling adventures for the pros. After an epic day on the trails\, kick back and refuel with delicious food\, local brews\, and groovy tunes. It’s more than just biking – it’s a celebration of the great outdoors!
URL:https://nw-trail.org/event/ride-the-dirt-wave-enduro-race-at-klootchy-creek/
CATEGORIES:Family Friendly,Klootchy Creek,Race,Regional Events,Ride the Dirt Wave
ATTACH;FMTTYPE=image/jpeg:https://nw-trail.org/wp-content/uploads/2024/04/Ride-the-Dirt-Wave-Klootchy-June-4-2023-2.jpg
END:VEVENT
END:VCALENDAR