BEGIN:VCALENDAR
VERSION:2.0
PRODID:-//Northwest Trail Alliance - ECPv6.15.18//NONSGML v1.0//EN
CALSCALE:GREGORIAN
METHOD:PUBLISH
X-ORIGINAL-URL:https://nw-trail.org
X-WR-CALDESC:Events for Northwest Trail Alliance
REFRESH-INTERVAL;VALUE=DURATION:PT1H
X-Robots-Tag:noindex
X-PUBLISHED-TTL:PT1H
BEGIN:VTIMEZONE
TZID:America/Los_Angeles
BEGIN:DAYLIGHT
TZOFFSETFROM:-0800
TZOFFSETTO:-0700
TZNAME:PDT
DTSTART:20220313T100000
END:DAYLIGHT
BEGIN:STANDARD
TZOFFSETFROM:-0700
TZOFFSETTO:-0800
TZNAME:PST
DTSTART:20221106T090000
END:STANDARD
BEGIN:DAYLIGHT
TZOFFSETFROM:-0800
TZOFFSETTO:-0700
TZNAME:PDT
DTSTART:20230312T100000
END:DAYLIGHT
BEGIN:STANDARD
TZOFFSETFROM:-0700
TZOFFSETTO:-0800
TZNAME:PST
DTSTART:20231105T090000
END:STANDARD
BEGIN:DAYLIGHT
TZOFFSETFROM:-0800
TZOFFSETTO:-0700
TZNAME:PDT
DTSTART:20240310T100000
END:DAYLIGHT
BEGIN:STANDARD
TZOFFSETFROM:-0700
TZOFFSETTO:-0800
TZNAME:PST
DTSTART:20241103T090000
END:STANDARD
END:VTIMEZONE
BEGIN:VEVENT
DTSTART;TZID=America/Los_Angeles:20230716T133000
DTEND;TZID=America/Los_Angeles:20230716T153000
DTSTAMP:20260421T040138
CREATED:20230705T160816Z
LAST-MODIFIED:20230707T203629Z
UID:29081-1689514200-1689521400@nw-trail.org
SUMMARY:Kid's Ride at easyCLIMB (Cascade Locks) - 7/16
DESCRIPTION:Join us for a guided ride on some of the best trails around!  \n\n\n\n\nregister here\n\n\n\n\nThese rides will start out with reviewing the most basic skills and will offer light instruction as needed for particular features. We will split the group into Green Geckos (beginners) and Leapin’ Lizards (intermediates) and split into smaller groups as staffing allows. We will ride to the level of the least experienced riders. \n\n\n\nWe will regroup at trail intersections and as needed for snacks or layer changes. \n\n\n\nRider Experience: Beginner/intermediate with 1-2+ years of riding on dirt trails. Ages 7-12. \n\n\n\nBeginner Green Geckos: These riders are already comfortable riding a bike on some “Green” mountain bike trails as well as dirt and grass\, and over some features up to 3-4 inches high. They can stand and coast on the pedals for short periods of time. They can shift gears and corner\, but it might not go as smoothly as it could — or at the right time. They are interested in rolling over taller features\, and riding pump tracks (or rolling terrain) without pedaling the whole time. They can ride 1-2 miles on a trail or bike path. \n\n\n\nIntermediate Leapin’ Lizards: These riders are already comfortable riding a bike on “Green” mountain bike trails as well as dirt and grass\, and down some features up to 3-4 inches high. They can stand and coast on the pedals for short periods of time. They can shift gears and corner\, but it might not go as smoothly as it could — or at the right time. They can ride 2-4 miles on a trail or bike path. \n\n\n\nDuring this ride: these riders will practice their balance over varying terrain including trails and rolling terrain\, as well as brake and corner with more confidence\, shift more smoothly. They’ll ride up hills and back down; there will also be some switchbacks and places to practice slow-riding skills and a few technical sections.  \n\n\n\nBike:* The bike should have platform pedals\, two hand brakes (front and rear)\, a seat that can move up and down\, and is in good working condition. Single speeds are OK but a bike with gears will be more fun on the climbs. No coaster brakes\, worn out tires or kickstands.  \n\n\n\nRequired Gear:  \n\n\n\n-A properly fitting helmet in good condition and is less than 5 years old* \n\n\n\n-Water bottle that fits in a bottle cage or backpack with a bladder  \n\n\n\n-Clothing appropriate for the weather \n\n\n\n-Tools for moving the seat up and down if necessary \n\n\n\n-Backpack to carry layers\, snacks\, tools and water \n\n\n\nRecommended Gear: \n\n\n\n-Full fingered gloves \n\n\n\n-Knee and elbow protection \n\n\n\n-Eye protection \n\n\n\n-Tools and supplies to change a flat tire (with assistance!) \n\n\n\n*We have helmets and bikes to loan; it’s helpful if you reach out in advance to indicate your rider’s need and size.  \n\n\n\nEmail elaine.b@elainebbikes.com with any questions and for bike/helmet loans. \n\n\n\nOnce registered\, please sign the waiver for your MINOR Child HERE
URL:https://nw-trail.org/event/kids-ride-at-easyclimb-cascade-locks-7-16/
CATEGORIES:#kidsthatshred,Cascade Locks,Family Friendly,Flying Dragons,Green Geckos,Leaping Lizards,NWTA Events,Public Outreach,Regional Events,Ride!,Social
ATTACH;FMTTYPE=image/jpeg:https://nw-trail.org/wp-content/uploads/2023/07/Newell-Creek-Kids-Clinic-Apr.-2-2022-57-copy.jpg
END:VEVENT
BEGIN:VEVENT
DTSTART;TZID=America/Los_Angeles:20230729T163000
DTEND;TZID=America/Los_Angeles:20230729T200000
DTSTAMP:20260421T040139
CREATED:20230705T161940Z
LAST-MODIFIED:20230705T162019Z
UID:29085-1690648200-1690660800@nw-trail.org
SUMMARY:Group Ride w/ River City Bikes BEGINNER FOCUSED @ Stub Stewart - 7/29
DESCRIPTION:Join River City Bicycles\, partnered with the NWTA\, for an evening ride at Stub Stewart State Park on July 29th. \n\n\n\n\nREGISTER HERE\n\n\n\n\nThe ride will be beginner-focused\, with guidance on bike handling on green trails. Barely ride a mountain bike before? Still shaky on roots and corners? This ride’s for you! We’ll be taking our time with a 2-hour ride\, covering around 5 miles and 1000 feet of elevation\, with plenty of stops to session sections and discuss handling skills. \n\n\n\nThe ride is open to all genders\, and will be led by women from River City Bicycles. \n\n\n\nPlease bring a helmet- or handlebar-mounted light for safety\, as we’ll be riding close to dusk. Be sure to bring snacks and water too. \n\n\n\nMeet at the Hilltop Day Use Area at 4:30pm\, to roll by 5:00pm.  \n\n\n\nQuestions can be directed to Isabella at isabellat@rivercitybicycles.com. \n\n\n\nSIGN YOUR WAIVER \n\n\n\nOnce registered\, please sign the waiver HERE. \n\n\n\nE﻿vents like these are made possibly by membership dollars. If you are not a NWTA member\, what are you waiting for? Come JOIN over 5\,000 other mountain bikers in your community. We are stronger together!
URL:https://nw-trail.org/event/group-ride-w-river-city-bikes-beginner-focused-stub-stewart-7-29/
CATEGORIES:Group Ride,LL Stub Stewart,NWTA Events,Public Outreach,Ride!,Social
ATTACH;FMTTYPE=image/jpeg:https://nw-trail.org/wp-content/uploads/2023/07/https-cdn.evbuc_.com-images-537633239-325231793979-1-original.20230616-202841.jpeg
END:VEVENT
END:VCALENDAR