BEGIN:VCALENDAR
VERSION:2.0
PRODID:-//Northwest Trail Alliance - ECPv6.15.18//NONSGML v1.0//EN
CALSCALE:GREGORIAN
METHOD:PUBLISH
X-WR-CALNAME:Northwest Trail Alliance
X-ORIGINAL-URL:https://nw-trail.org
X-WR-CALDESC:Events for Northwest Trail Alliance
REFRESH-INTERVAL;VALUE=DURATION:PT1H
X-Robots-Tag:noindex
X-PUBLISHED-TTL:PT1H
BEGIN:VTIMEZONE
TZID:America/Los_Angeles
BEGIN:DAYLIGHT
TZOFFSETFROM:-0800
TZOFFSETTO:-0700
TZNAME:PDT
DTSTART:20180311T100000
END:DAYLIGHT
BEGIN:STANDARD
TZOFFSETFROM:-0700
TZOFFSETTO:-0800
TZNAME:PST
DTSTART:20181104T090000
END:STANDARD
BEGIN:DAYLIGHT
TZOFFSETFROM:-0800
TZOFFSETTO:-0700
TZNAME:PDT
DTSTART:20190310T100000
END:DAYLIGHT
BEGIN:STANDARD
TZOFFSETFROM:-0700
TZOFFSETTO:-0800
TZNAME:PST
DTSTART:20191103T090000
END:STANDARD
BEGIN:DAYLIGHT
TZOFFSETFROM:-0800
TZOFFSETTO:-0700
TZNAME:PDT
DTSTART:20200308T100000
END:DAYLIGHT
BEGIN:STANDARD
TZOFFSETFROM:-0700
TZOFFSETTO:-0800
TZNAME:PST
DTSTART:20201101T090000
END:STANDARD
END:VTIMEZONE
BEGIN:VEVENT
DTSTART;TZID=America/Los_Angeles:20191102T090000
DTEND;TZID=America/Los_Angeles:20191102T140000
DTSTAMP:20260421T003531
CREATED:20190916T182222Z
LAST-MODIFIED:20200512T034606Z
UID:17806-1572685200-1572703200@nw-trail.org
SUMMARY:Outer Limits Build - Growlers Gulch
DESCRIPTION:
URL:https://nw-trail.org/event/outer-limits-build-growlers-gulch/
CATEGORIES:NWTA Events,Trail Work
END:VEVENT
BEGIN:VEVENT
DTSTART;TZID=America/Los_Angeles:20191026T100000
DTEND;TZID=America/Los_Angeles:20191026T140000
DTSTAMP:20260421T003531
CREATED:20191010T184410Z
LAST-MODIFIED:20200512T034607Z
UID:17861-1572084000-1572098400@nw-trail.org
SUMMARY:Trail Building School @ Rocky Point
DESCRIPTION:
URL:https://nw-trail.org/event/trail-building-school-rocky-point/
CATEGORIES:NWTA Events,Trail Work
ATTACH;FMTTYPE=image/jpeg:https://nw-trail.org/wp-content/uploads/2019/10/Trail-Sustainability-Institue-1.jpg
END:VEVENT
BEGIN:VEVENT
DTSTART;TZID=America/Los_Angeles:20191020T090000
DTEND;TZID=America/Los_Angeles:20191020T140000
DTSTAMP:20260421T003531
CREATED:20190920T144353Z
LAST-MODIFIED:20200515T015801Z
UID:17821-1571562000-1571580000@nw-trail.org
SUMMARY:Sandy Ridge Trail Work Day
DESCRIPTION:
URL:https://nw-trail.org/event/sandy-ridge-trail-work-day-2/
CATEGORIES:Family Friendly,NWTA Events,Sandy Ridge,Social,Trail Work
ATTACH;FMTTYPE=image/png:https://nw-trail.org/wp-content/uploads/2018/12/screenshot_11396.png
END:VEVENT
BEGIN:VEVENT
DTSTART;TZID=America/Los_Angeles:20191019T090000
DTEND;TZID=America/Los_Angeles:20191019T130000
DTSTAMP:20260421T003531
CREATED:20191013T010843Z
LAST-MODIFIED:20200515T014145Z
UID:17864-1571475600-1571490000@nw-trail.org
SUMMARY:ODF Work Party - Historic Hiking Trail Re-Route
DESCRIPTION:Enjoy Saturday’s in the forest working side by side with Tillamook State Forest’s outdoor recreation experts & fellow outdoor recreation enthusiasts to enhance the forest environment and to provide hands-on support for the non-motorized trail network. \nQuestions?: Email: roger.warren@oregon.gov \n 
URL:https://nw-trail.org/event/odf-work-party-historic-hiking-trail-re-route/
CATEGORIES:Regional Events,Tillamook State Forest,Trail Work
ATTACH;FMTTYPE=image/png:https://nw-trail.org/wp-content/uploads/2017/04/ODFlogo_color-1.png
END:VEVENT
BEGIN:VEVENT
DTSTART;TZID=America/Los_Angeles:20190820T173000
DTEND;TZID=America/Los_Angeles:20190820T203000
DTSTAMP:20260421T003531
CREATED:20190525T151855Z
LAST-MODIFIED:20200512T034604Z
UID:10047-1566322200-1566333000@nw-trail.org
SUMMARY:Weeknight Build Series at Stub Stewart
DESCRIPTION:
URL:https://nw-trail.org/event/weeknight-build-series-at-stub-stewart-7/
CATEGORIES:NWTA Events,Ride!,Social,Trail Work
ATTACH;FMTTYPE=image/jpeg:https://nw-trail.org/wp-content/uploads/2019/05/Copy-of-Build-Ride-Eat-300x169-1-1.jpg
END:VEVENT
BEGIN:VEVENT
DTSTART;TZID=America/Los_Angeles:20190815T140000
DTEND;TZID=America/Los_Angeles:20190818T150000
DTSTAMP:20260421T003531
CREATED:20190605T161058Z
LAST-MODIFIED:20200514T040342Z
UID:10267-1565877600-1566140400@nw-trail.org
SUMMARY:SHIFT - Mt. St. Helens Campout
DESCRIPTION:
URL:https://nw-trail.org/event/shift-mt-st-helens-campout/
CATEGORIES:Family Friendly,Mt. St. Helens,NWTA Events,Signature Event,Social,Trail Work
ATTACH;FMTTYPE=image/jpeg:https://nw-trail.org/wp-content/uploads/2019/04/IMG_20180818_090333117-1-scaled.jpg
END:VEVENT
BEGIN:VEVENT
DTSTART;TZID=America/Los_Angeles:20190807T173000
DTEND;TZID=America/Los_Angeles:20190807T203000
DTSTAMP:20260421T003531
CREATED:20190525T151502Z
LAST-MODIFIED:20200512T034604Z
UID:10045-1565199000-1565209800@nw-trail.org
SUMMARY:Weeknight Build Series at Stub Stewart
DESCRIPTION:
URL:https://nw-trail.org/event/weeknight-build-series-at-stub-stewart-6/
CATEGORIES:NWTA Events,Ride!,Social,Trail Work
ATTACH;FMTTYPE=image/jpeg:https://nw-trail.org/wp-content/uploads/2019/05/Copy-of-Build-Ride-Eat-300x169-1-1.jpg
END:VEVENT
BEGIN:VEVENT
DTSTART;TZID=America/Los_Angeles:20190801T100000
DTEND;TZID=America/Los_Angeles:20190804T170000
DTSTAMP:20260421T003531
CREATED:20190531T174145Z
LAST-MODIFIED:20200512T034604Z
UID:10195-1564653600-1564938000@nw-trail.org
SUMMARY:Trans-Cascadia Trail Work Party
DESCRIPTION:
URL:https://nw-trail.org/event/trans-cascadia-trail-work-party/
CATEGORIES:NWTA Events,Social,Trail Work
ATTACH;FMTTYPE=image/jpeg:https://nw-trail.org/wp-content/uploads/2019/05/Trans-Cascadia-Work-Party-1.jpg
END:VEVENT
BEGIN:VEVENT
DTSTART;TZID=America/Los_Angeles:20190725T083000
DTEND;TZID=America/Los_Angeles:20190725T173000
DTSTAMP:20260421T003531
CREATED:20190525T151144Z
LAST-MODIFIED:20200512T034604Z
UID:10043-1564043400-1564075800@nw-trail.org
SUMMARY:Weeknight Build Series at Stub Stewart
DESCRIPTION:
URL:https://nw-trail.org/event/weeknight-build-series-at-stub-stewart-5/
CATEGORIES:NWTA Events,Ride!,Social,Trail Work
ATTACH;FMTTYPE=image/jpeg:https://nw-trail.org/wp-content/uploads/2019/05/Copy-of-Build-Ride-Eat-300x169-1-1.jpg
END:VEVENT
BEGIN:VEVENT
DTSTART;TZID=America/Los_Angeles:20190720T000000
DTEND;TZID=America/Los_Angeles:20190720T235959
DTSTAMP:20260421T003531
CREATED:20190607T181325Z
LAST-MODIFIED:20200514T035932Z
UID:10299-1563580800-1563667199@nw-trail.org
SUMMARY:Tillamook State Forest - H. Hiking Trail Re-Route
DESCRIPTION:Enjoy Saturday’s in the forest working side by side with the Tillamook State Forest outdoor recreation experts and your fellow outdoor recreation enthusiasts to enhance the forest environment and to provide hands on support for the non-motorized trail network. \nContact Roger.Warren@oregon.gov \nTillamook State Forest Work Party Dates 2019
URL:https://nw-trail.org/event/tillamook-state-forest-h-hiking-trail-re-route-2/
CATEGORIES:Regional Events,Tillamook State Forest,Trail Work
ATTACH;FMTTYPE=image/png:https://nw-trail.org/wp-content/uploads/2017/04/ODFlogo_color-Feature-1.png
END:VEVENT
BEGIN:VEVENT
DTSTART;TZID=America/Los_Angeles:20190711T000000
DTEND;TZID=America/Los_Angeles:20190714T235959
DTSTAMP:20260421T003531
CREATED:20190618T155825Z
LAST-MODIFIED:20200512T034605Z
UID:10385-1562803200-1563148799@nw-trail.org
SUMMARY:Trans-Cascadia Trail Work Party
DESCRIPTION:
URL:https://nw-trail.org/event/trans-cascadia-trail-work-party-3/
CATEGORIES:NWTA Events,Social,Trail Work
ATTACH;FMTTYPE=image/jpeg:https://nw-trail.org/wp-content/uploads/2019/06/Trans-Cascadia-work-1.jpg
END:VEVENT
BEGIN:VEVENT
DTSTART;TZID=America/Los_Angeles:20190710T173000
DTEND;TZID=America/Los_Angeles:20190710T203000
DTSTAMP:20260421T003531
CREATED:20190525T150748Z
LAST-MODIFIED:20200512T034604Z
UID:10041-1562779800-1562790600@nw-trail.org
SUMMARY:Weeknight Build Series at Stub Stewart
DESCRIPTION:
URL:https://nw-trail.org/event/weeknight-build-series-at-stub-stewart-4/
CATEGORIES:NWTA Events,Ride!,Social,Trail Work
ATTACH;FMTTYPE=image/jpeg:https://nw-trail.org/wp-content/uploads/2019/05/Copy-of-Build-Ride-Eat-300x169-1-1.jpg
END:VEVENT
BEGIN:VEVENT
DTSTART;TZID=America/Los_Angeles:20190626T173000
DTEND;TZID=America/Los_Angeles:20190626T203000
DTSTAMP:20260421T003531
CREATED:20190525T144932Z
LAST-MODIFIED:20200512T034604Z
UID:10038-1561570200-1561581000@nw-trail.org
SUMMARY:Weeknight Build Series at Stub Stewart
DESCRIPTION:
URL:https://nw-trail.org/event/weeknight-build-series-at-stub-stewart-3/
CATEGORIES:NWTA Events,Ride!,Social,Trail Work
ATTACH;FMTTYPE=image/jpeg:https://nw-trail.org/wp-content/uploads/2019/05/Copy-of-Build-Ride-Eat-300x169-1-1.jpg
END:VEVENT
BEGIN:VEVENT
DTSTART;TZID=America/Los_Angeles:20190620T000000
DTEND;TZID=America/Los_Angeles:20190623T235959
DTSTAMP:20260421T003531
CREATED:20190614T205804Z
LAST-MODIFIED:20200512T034605Z
UID:10355-1560988800-1561334399@nw-trail.org
SUMMARY:Trans-Cascadia Trail Work Party
DESCRIPTION:
URL:https://nw-trail.org/event/trans-cascadia-trail-work-party-2/
CATEGORIES:NWTA Events,Trail Work
ATTACH;FMTTYPE=image/jpeg:https://nw-trail.org/wp-content/uploads/2019/06/Trans-Cascadia-tools-1.jpg
END:VEVENT
BEGIN:VEVENT
DTSTART;TZID=America/Los_Angeles:20190615T000000
DTEND;TZID=America/Los_Angeles:20190615T235959
DTSTAMP:20260421T003531
CREATED:20190607T180848Z
LAST-MODIFIED:20200514T035951Z
UID:10297-1560556800-1560643199@nw-trail.org
SUMMARY:Tillamook State Forest - H. Hiking Trail Re-Route
DESCRIPTION:Enjoy Saturday’s in the forest working side by side with the Tillamook State Forest outdoor recreation experts and your fellow outdoor recreation enthusiasts to enhance the forest environment and to provide hands on support for the non-motorized trail network. \nContact Roger.Warren@oregon.gov \nTillamook State Forest Work Party Dates 2019
URL:https://nw-trail.org/event/tillamook-state-forest-h-hiking-trail-re-route/
CATEGORIES:Regional Events,Tillamook State Forest,Trail Work
ATTACH;FMTTYPE=image/png:https://nw-trail.org/wp-content/uploads/2017/04/ODFlogo_color-Feature-1.png
END:VEVENT
BEGIN:VEVENT
DTSTART;TZID=America/Los_Angeles:20190611T173000
DTEND;TZID=America/Los_Angeles:20190611T203000
DTSTAMP:20260421T003531
CREATED:20190525T144407Z
LAST-MODIFIED:20200512T034603Z
UID:10036-1560274200-1560285000@nw-trail.org
SUMMARY:Weeknight Build Series at Stub Stewart
DESCRIPTION:
URL:https://nw-trail.org/event/weeknight-build-series-at-stub-stewart-2/
CATEGORIES:NWTA Events,Ride!,Social,Trail Work
ATTACH;FMTTYPE=image/jpeg:https://nw-trail.org/wp-content/uploads/2019/05/Copy-of-Build-Ride-Eat-300x169-1-1.jpg
END:VEVENT
BEGIN:VEVENT
DTSTART;TZID=America/Los_Angeles:20190609T090000
DTEND;TZID=America/Los_Angeles:20190609T140000
DTSTAMP:20260421T003531
CREATED:20190506T233154Z
LAST-MODIFIED:20200515T015801Z
UID:9761-1560070800-1560088800@nw-trail.org
SUMMARY:Sandy Ridge Trail Work Day & BLM Grand Opening
DESCRIPTION:
URL:https://nw-trail.org/event/sandy-ridge-trail-work-day-blm-grand-opening/
CATEGORIES:NWTA Events,Sandy Ridge,Social,Trail Work
ATTACH;FMTTYPE=image/png:https://nw-trail.org/wp-content/uploads/2019/04/ftf-1.png
END:VEVENT
BEGIN:VEVENT
DTSTART;TZID=America/Los_Angeles:20190609T090000
DTEND;TZID=America/Los_Angeles:20190609T120000
DTSTAMP:20260421T003531
CREATED:20190531T034842Z
LAST-MODIFIED:20200515T014340Z
UID:10178-1560070800-1560081600@nw-trail.org
SUMMARY:EasyCLIMB Trail Maintenance Day
DESCRIPTION:
URL:https://nw-trail.org/event/easyclimb-trail-maintenance-day/
CATEGORIES:Cascade Locks,Family Friendly,NWTA Events,Trail Work
ATTACH;FMTTYPE=image/jpeg:https://nw-trail.org/wp-content/uploads/2018/11/Nice-FlowerDay-scaled.jpg
END:VEVENT
BEGIN:VEVENT
DTSTART;TZID=America/Los_Angeles:20190608T090000
DTEND;TZID=America/Los_Angeles:20190608T130000
DTSTAMP:20260421T003531
CREATED:20190507T184504Z
LAST-MODIFIED:20200515T014222Z
UID:9769-1559984400-1559998800@nw-trail.org
SUMMARY:Wilson River Trail Work Party
DESCRIPTION:
URL:https://nw-trail.org/event/wilson-river-trail-work-party/
CATEGORIES:NWTA Events,Tillamook State Forest,Trail Work
ATTACH;FMTTYPE=image/png:https://nw-trail.org/wp-content/uploads/2016/12/screenshot_2835-1.png
END:VEVENT
BEGIN:VEVENT
DTSTART;TZID=America/Los_Angeles:20190608T000000
DTEND;TZID=America/Los_Angeles:20190608T235959
DTSTAMP:20260421T003531
CREATED:20190212T212812Z
LAST-MODIFIED:20200514T040001Z
UID:8638-1559952000-1560038399@nw-trail.org
SUMMARY:Tillamook State Forest  - Wilson River Trail Maintenance
DESCRIPTION:Enjoy Saturday’s in the forest working side by side with the Tillamook State Forest outdoor recreation experts and your fellow outdoor recreation enthusiasts to enhance the forest environment and to provide hands on support for the non-motorized trail network. \nContact  Jennifer.L.Magby@oregon.gov \nTillamook State Forest Work Party Dates 2019
URL:https://nw-trail.org/event/tillamook-state-forest-wilson-river-trail-maintenance/
CATEGORIES:Regional Events,Tillamook State Forest,Trail Work
ATTACH;FMTTYPE=image/png:https://nw-trail.org/wp-content/uploads/2017/04/ODFlogo_color-1.png
END:VEVENT
BEGIN:VEVENT
DTSTART;TZID=America/Los_Angeles:20190531T140000
DTEND;TZID=America/Los_Angeles:20190602T140000
DTSTAMP:20260421T003531
CREATED:20190419T013545Z
LAST-MODIFIED:20200514T040350Z
UID:9560-1559311200-1559484000@nw-trail.org
SUMMARY:St. Helens Coldwater Lake Campout & Work Party
DESCRIPTION:
URL:https://nw-trail.org/event/st-helens-coldwater-lake-campout-work-party/
CATEGORIES:Family Friendly,Mt. St. Helens,NWTA Events,Ride!,Signature Event,Social,Trail Work
ATTACH;FMTTYPE=image/jpeg:https://nw-trail.org/wp-content/uploads/2018/04/coldwater-1.jpg
END:VEVENT
BEGIN:VEVENT
DTSTART;TZID=America/Los_Angeles:20190530T173000
DTEND;TZID=America/Los_Angeles:20190530T203000
DTSTAMP:20260421T003531
CREATED:20190525T143523Z
LAST-MODIFIED:20200512T034603Z
UID:10034-1559237400-1559248200@nw-trail.org
SUMMARY:Weeknight Build Series at Stub Stewart
DESCRIPTION:
URL:https://nw-trail.org/event/weeknight-build-series-at-stub-stewart/
CATEGORIES:NWTA Events,Ride!,Social,Trail Work
ATTACH;FMTTYPE=image/jpeg:https://nw-trail.org/wp-content/uploads/2019/05/Copy-of-Build-Ride-Eat-300x169-1-1.jpg
END:VEVENT
BEGIN:VEVENT
DTSTART;TZID=America/Los_Angeles:20190522T090000
DTEND;TZID=America/Los_Angeles:20190522T140000
DTSTAMP:20260421T003531
CREATED:20190424T170516Z
LAST-MODIFIED:20200515T015801Z
UID:9657-1558515600-1558533600@nw-trail.org
SUMMARY:Sandy Ridge Weekday DIG!
DESCRIPTION:
URL:https://nw-trail.org/event/sandy-ridge-weekday-dig/
CATEGORIES:NWTA Events,Sandy Ridge,Trail Work
ATTACH;FMTTYPE=image/jpeg:https://nw-trail.org/wp-content/uploads/2017/04/IMG_2843-1-scaled.jpg
END:VEVENT
BEGIN:VEVENT
DTSTART;TZID=America/Los_Angeles:20190518T000000
DTEND;TZID=America/Los_Angeles:20190518T235959
DTSTAMP:20260421T003531
CREATED:20190131T232918Z
LAST-MODIFIED:20200515T014145Z
UID:8437-1558137600-1558223999@nw-trail.org
SUMMARY:Tillamook State Forest - Historic Hiking Loop Re-Route
DESCRIPTION:Enjoy Saturday’s in the forest working side by side with the Tillamook State Forest outdoor recreation experts and your fellow outdoor recreation enthusiasts to enhance the forest environment and to provide hands on support for the non-motorized trail network. \nContact roger.warren@oregon.gov for information. \nTillamook State Forest 2019 Work Party Dates
URL:https://nw-trail.org/event/tillamook-state-forest-historic-hiking-loop-re-route/
CATEGORIES:Regional Events,Tillamook State Forest,Trail Work
ATTACH;FMTTYPE=image/png:https://nw-trail.org/wp-content/uploads/2017/04/ODFlogo_color-Feature-1.png
END:VEVENT
BEGIN:VEVENT
DTSTART;TZID=America/Los_Angeles:20190504T100000
DTEND;TZID=America/Los_Angeles:20190504T130000
DTSTAMP:20260421T003531
CREATED:20190404T012451Z
LAST-MODIFIED:20200514T040711Z
UID:9126-1556964000-1556974800@nw-trail.org
SUMMARY:2019 Spring Dig - Gateway Green
DESCRIPTION:
URL:https://nw-trail.org/event/2019-spring-dig-gateway-green/
CATEGORIES:Gateway Green,NWTA Events,Trail Work
ATTACH;FMTTYPE=image/png:https://nw-trail.org/wp-content/uploads/2016/12/screenshot_2835-1.png
END:VEVENT
BEGIN:VEVENT
DTSTART;TZID=America/Los_Angeles:20190504T090000
DTEND;TZID=America/Los_Angeles:20190504T140000
DTSTAMP:20260421T003531
CREATED:20190419T005940Z
LAST-MODIFIED:20200512T034603Z
UID:9557-1556960400-1556978400@nw-trail.org
SUMMARY:NWTA & PDW Converge at Stub
DESCRIPTION:
URL:https://nw-trail.org/event/nwta-pdw-converge-at-stub/
CATEGORIES:Family Friendly,NWTA Events,Trail Work
ATTACH;FMTTYPE=image/png:https://nw-trail.org/wp-content/uploads/2017/05/PDWXNWTA-Feature-1.png
END:VEVENT
BEGIN:VEVENT
DTSTART;TZID=America/Los_Angeles:20190424T130000
DTEND;TZID=America/Los_Angeles:20190424T170000
DTSTAMP:20260421T003531
CREATED:20190415T225027Z
LAST-MODIFIED:20200512T034602Z
UID:9514-1556110800-1556125200@nw-trail.org
SUMMARY:Stub Stewart Weekday Dig & BBQ!
DESCRIPTION:
URL:https://nw-trail.org/event/stub-stewart-weekday-dig-bbq/
CATEGORIES:NWTA Events,Trail Work
ATTACH;FMTTYPE=image/png:https://nw-trail.org/wp-content/uploads/2017/05/screenshot_4217-1.png
END:VEVENT
BEGIN:VEVENT
DTSTART;TZID=America/Los_Angeles:20190420T000000
DTEND;TZID=America/Los_Angeles:20190420T235959
DTSTAMP:20260421T003531
CREATED:20190131T232030Z
LAST-MODIFIED:20200514T040012Z
UID:8433-1555718400-1555804799@nw-trail.org
SUMMARY:Tillamook State Forest  - SOLV Earthday Clean Up
DESCRIPTION:Enjoy Saturday’s in the forest working side by side with the Tillamook State Forest outdoor recreation experts and your fellow outdoor recreation enthusiasts to enhance the forest environment and to provide hands on support for the non-motorized trail network. \nContact Stephanie.A.Beall@oregon.gov \nTillamook State Forest 2019 Work Party Dates \n  \n 
URL:https://nw-trail.org/event/tillamook-state-forest-solv-earthday-clean-up/
CATEGORIES:Regional Events,Tillamook State Forest,Trail Work
ATTACH;FMTTYPE=image/png:https://nw-trail.org/wp-content/uploads/2017/04/ODFlogo_color-Feature-1.png
END:VEVENT
BEGIN:VEVENT
DTSTART;TZID=America/Los_Angeles:20190413T093000
DTEND;TZID=America/Los_Angeles:20190413T140000
DTSTAMP:20260421T003531
CREATED:20190320T202409Z
LAST-MODIFIED:20200514T035834Z
UID:8958-1555147800-1555164000@nw-trail.org
SUMMARY:Klootchy Creek "BIG DIG" Work Party
DESCRIPTION:
URL:https://nw-trail.org/event/klootchy-creek-big-dig-work-party/
CATEGORIES:Klootchy Creek,NWTA Events,Trail Work
ATTACH;FMTTYPE=image/jpeg:https://nw-trail.org/wp-content/uploads/2019/03/TwinPeaksView.jpg
END:VEVENT
BEGIN:VEVENT
DTSTART;TZID=America/Los_Angeles:20190407T090000
DTEND;TZID=America/Los_Angeles:20190407T140000
DTSTAMP:20260421T003531
CREATED:20190309T054515Z
LAST-MODIFIED:20200515T015801Z
UID:8832-1554627600-1554645600@nw-trail.org
SUMMARY:Sandy Ridge Trail Maintenance
DESCRIPTION:
URL:https://nw-trail.org/event/sandy-ridge-trail-maintenance/
CATEGORIES:NWTA Events,Sandy Ridge,Trail Work
END:VEVENT
END:VCALENDAR