BEGIN:VCALENDAR
VERSION:2.0
PRODID:-//Northwest Trail Alliance - ECPv6.15.18//NONSGML v1.0//EN
CALSCALE:GREGORIAN
METHOD:PUBLISH
X-WR-CALNAME:Northwest Trail Alliance
X-ORIGINAL-URL:https://nw-trail.org
X-WR-CALDESC:Events for Northwest Trail Alliance
REFRESH-INTERVAL;VALUE=DURATION:PT1H
X-Robots-Tag:noindex
X-PUBLISHED-TTL:PT1H
BEGIN:VTIMEZONE
TZID:America/Los_Angeles
BEGIN:DAYLIGHT
TZOFFSETFROM:-0800
TZOFFSETTO:-0700
TZNAME:PDT
DTSTART:20170312T100000
END:DAYLIGHT
BEGIN:STANDARD
TZOFFSETFROM:-0700
TZOFFSETTO:-0800
TZNAME:PST
DTSTART:20171105T090000
END:STANDARD
BEGIN:DAYLIGHT
TZOFFSETFROM:-0800
TZOFFSETTO:-0700
TZNAME:PDT
DTSTART:20180311T100000
END:DAYLIGHT
BEGIN:STANDARD
TZOFFSETFROM:-0700
TZOFFSETTO:-0800
TZNAME:PST
DTSTART:20181104T090000
END:STANDARD
BEGIN:DAYLIGHT
TZOFFSETFROM:-0800
TZOFFSETTO:-0700
TZNAME:PDT
DTSTART:20190310T100000
END:DAYLIGHT
BEGIN:STANDARD
TZOFFSETFROM:-0700
TZOFFSETTO:-0800
TZNAME:PST
DTSTART:20191103T090000
END:STANDARD
END:VTIMEZONE
BEGIN:VEVENT
DTSTART;TZID=America/Los_Angeles:20181027T090000
DTEND;TZID=America/Los_Angeles:20181027T123000
DTSTAMP:20260421T073026
CREATED:20181009T211810Z
LAST-MODIFIED:20181009T211810Z
UID:7387-1540630800-1540643400@nw-trail.org
SUMMARY:October 27th Hagg Lake Brush-Out
DESCRIPTION:October 27th Hagg Lake Brush-Out  \nCome out and help brush out Henry Hagg Lake so that it’s cleared for winter riding. \n  \nWork Party Logistics: \nWho: Newbies and non-members are welcome\, tools will be provided. \nWhen: 9:00am – 12:30pm Saturday\, October 27th \nWhere: We will meet at the Dam Overlook\, the 2nd left when entering the Park. (The first left goes across the dam.) https://goo.gl/maps/cdEirVmd2kN2 \nWhat to expect:  \nWe will meet at the parking lot\, sign waivers\, and hand out tools at 9AM and be trimming by 9:30. You should expect to work rain or shine for approximately 3-4 hours. Weather can be variable this time of year so check the forecast and dress accordingly. \nThere will be some beer/soda/snacks when we’re done. \n  \nWhat to bring: Bring gloves\, water\, a snack\, and be ready to walk and brush for a couple of hours. Loppers and/or brush cutting tools if you have them. We will supply tools from the NWTA stash. \n  \nWhat to wear: \n\n Boots\n Sturdy work gloves (There is a fair bit of blackberry along this trail so more than one pair is a good idea)\n A light\, long sleeved shirt\n Rain gear as appropriate for the weather\n Eye protection is recommended (eye glasses\, safety glasses\, etc.)\n\n  \nRegistration:  \nVolunteers should sign up or send questions to Bruce Gudmundsson via email to HaggLake@nw-trail.org
URL:https://nw-trail.org/event/october-27th-hagg-lake-brush-out/
CATEGORIES:NWTA Events,Trail Work
END:VEVENT
BEGIN:VEVENT
DTSTART;TZID=America/Los_Angeles:20181020T090000
DTEND;TZID=America/Los_Angeles:20181020T140000
DTSTAMP:20260421T073026
CREATED:20181012T183438Z
LAST-MODIFIED:20181012T183438Z
UID:7410-1540026000-1540044000@nw-trail.org
SUMMARY:44 Trails Survey's Ridge Reroute Work Party October 20th
DESCRIPTION:44 Trails is having another Surveyor’s Ridge Trail reroute work party on October 20th. This reroute will both remove/reduce the portion of double track\, and also ensure that the trail stays open once the Dalles Watershed project begins construction of a new pipeline along the current doubletrack section. Win/Win! \nMore details at the link. \nhttps://mailchi.mp/a17a1ca83936/may-12-trail-work-day-surveyors-ridge-reroute-2219933
URL:https://nw-trail.org/event/44-trails-surveys-ridge-reroute-work-party-october-20th/
CATEGORIES:Trail Work
END:VEVENT
BEGIN:VEVENT
DTSTART;TZID=America/Los_Angeles:20181019T083000
DTEND;TZID=America/Los_Angeles:20181019T153000
DTSTAMP:20260421T073026
CREATED:20180930T170230Z
LAST-MODIFIED:20180930T170230Z
UID:7343-1539937800-1539963000@nw-trail.org
SUMMARY:Stub Stewart October Trail Work
DESCRIPTION:In partnership with Trailkeepers of Oregon\, NWTA is co-hosting a trail work party at LL Stub Stewart State Park to realign the Williams Creek Horseshoe trail – transforming it from an old\, overgrown logging road into an undulating\, creekside multi-use trail for hikers\, equestrians\, and mountain bikers. \nThe realignment follows the contours of Williams Creek south of the Banks Vernonia State Trail and offers beautiful creek views.  The Williams Creek Horseshoe realignment project will provide a cross-country trail riding alternative to the paved BVST between the Shoofly MTB trailhead and the Buxton BVST trailhead. \nWork Party Logistics: \n8:30am – 3:30pm Friday\, October 19 \nThis will be a follow up to a first pass of clearing brush and duff material from the flagged corridor planned for the new trail realignment 4\,800 feet in length. The corridor is clear\, now is the time to build the trail tread! \nDirections to the worksite will be provided to registered volunteers no later than 48 hours prior to the work party date\, along with any other necessary information. \nRegistration: \nVolunteers should sign up via the Trailkeepers of Oregon Eventbite site below\, and direct questions to David Rogers at StubStewart@nw-trail.org. \nhttps://www.eventbrite.com/e/stub-new-trail-party-nwta-tko-event-registration-50670507853
URL:https://nw-trail.org/event/stub-stewart-october-trail-work/
CATEGORIES:Trail Work
ATTACH;FMTTYPE=image/jpeg:https://nw-trail.org/wp-content/uploads/2018/02/IMG_7695-1-scaled.jpg
END:VEVENT
BEGIN:VEVENT
DTSTART;TZID=America/Los_Angeles:20180929T083000
DTEND;TZID=America/Los_Angeles:20180929T153000
DTSTAMP:20260421T073026
CREATED:20180923T005159Z
LAST-MODIFIED:20200512T034555Z
UID:7186-1538209800-1538235000@nw-trail.org
SUMMARY:Stub Stewart Trail Work Party - Sat Sept 29
DESCRIPTION:In partnership with Trailkeepers of Oregon\, NWTA is co-hosting a trail work party at LL Stub Stewart State Park to realign the Williams Creek Horseshoe trail – transforming it from an old\, overgrown logging road into an undulating\, creekside multi-use trail for hikers\, equestrians\, and mountain bikers. \nThe realignment follows the contours of Williams Creek south of the Banks Vernonia State Trail and offers beautiful creek views.  The Williams Creek Horseshoe realignment project will provide a cross-country trail riding alternative to the paved BVST between the Shoofly MTB trailhead and the Buxton BVST trailhead. \nWork Party Logistics: \n8:30am – 3:30pm Saturday September 29 \nMeet at Stub Stewart Vistor Center Parking Lot \nVolunteers will be clearing brush and duff along the flagged corridor and benching in new trail along a pin-flagged route. \nRegistration: \nVolunteers should sign up via the Trailkeepers of Oregon Eventbite site below\, and direct questions to David Rogers at StubStewart@nw-trail.org. \nhttps://www.eventbrite.com/e/stub-new-trail-party-nwta-tko-event-registration-49513637623
URL:https://nw-trail.org/event/stub-stewart-trail-work-party-sat-oct-29/
CATEGORIES:Trail Work
ATTACH;FMTTYPE=image/jpeg:https://nw-trail.org/wp-content/uploads/2018/04/81335300fa4aa65fbc7b44518f552091-1.jpg
END:VEVENT
BEGIN:VEVENT
DTSTART;TZID=America/Los_Angeles:20180817T000000
DTEND;TZID=America/Los_Angeles:20180819T235959
DTSTAMP:20260421T073026
CREATED:20180417T174104Z
LAST-MODIFIED:20200514T040416Z
UID:3996-1534464000-1534723199@nw-trail.org
SUMMARY:SHIFT Work Party Campout
DESCRIPTION:We’re doing it again! The St. Helens International Festival of Trails (SHIFT) is a 3-day MTB fest to celebrate the St. Helens trails.  Come out for group rides\, trail parties\, BBQ and camping.  More details and registration here.
URL:https://nw-trail.org/event/shift-work-party-campout/
CATEGORIES:Mt. St. Helens,NWTA Events,Ride!,Social,Trail Work
ATTACH;FMTTYPE=image/jpeg:https://nw-trail.org/wp-content/uploads/2017/07/IMG_3251-1-1-scaled.jpg
END:VEVENT
BEGIN:VEVENT
DTSTART;TZID=America/Los_Angeles:20180815T173000
DTEND;TZID=America/Los_Angeles:20180815T203000
DTSTAMP:20260421T073026
CREATED:20180731T034127Z
LAST-MODIFIED:20180731T034127Z
UID:6650-1534354200-1534365000@nw-trail.org
SUMMARY:Team Dirt Build Day
DESCRIPTION:Join Team Dirt for their weekly post-work build sesh.  More details and registration here.
URL:https://nw-trail.org/event/team-dirt-build-day-2/
CATEGORIES:Regional Events,Trail Work
ATTACH;FMTTYPE=image/png:https://nw-trail.org/wp-content/uploads/2018/04/teamdirt-1.png
END:VEVENT
BEGIN:VEVENT
DTSTART;TZID=America/Los_Angeles:20180808T173000
DTEND;TZID=America/Los_Angeles:20180808T173000
DTSTAMP:20260421T073026
CREATED:20180731T033918Z
LAST-MODIFIED:20180731T033918Z
UID:6647-1533749400-1533749400@nw-trail.org
SUMMARY:Team Dirt Build Day
DESCRIPTION:Join Team Dirt for their weekly post-work build sesh.  More details and registration here.
URL:https://nw-trail.org/event/team-dirt-build-day/
CATEGORIES:Regional Events,Trail Work
ATTACH;FMTTYPE=image/png:https://nw-trail.org/wp-content/uploads/2018/04/teamdirt-1.png
END:VEVENT
BEGIN:VEVENT
DTSTART;TZID=America/Los_Angeles:20180801T180000
DTEND;TZID=America/Los_Angeles:20180801T210000
DTSTAMP:20260421T073026
CREATED:20180731T030805Z
LAST-MODIFIED:20180731T030805Z
UID:6641-1533146400-1533157200@nw-trail.org
SUMMARY:Evergreen Dirt Skirts Trail Party & BBQ @ Cold Creek
DESCRIPTION:How’s your trail karma for the season?  Here’s an opportunity to bank some hours.  More details and registration here.
URL:https://nw-trail.org/event/evergreen-dirt-skirts-trail-party-bbq-cold-creek/
CATEGORIES:Regional Events,Trail Work
ATTACH;FMTTYPE=image/png:https://nw-trail.org/wp-content/uploads/2018/04/evergreen-1.png
END:VEVENT
BEGIN:VEVENT
DTSTART;TZID=America/Los_Angeles:20180721T100000
DTEND;TZID=America/Los_Angeles:20180721T150000
DTSTAMP:20260421T073026
CREATED:20180705T222854Z
LAST-MODIFIED:20180705T222854Z
UID:6257-1532167200-1532185200@nw-trail.org
SUMMARY:SATA Work Party on South Pyramid Trail
DESCRIPTION:Are you passionate about working with rocks\, mud and water and saving trails from extinction? Join the Salem Area Trail Association on rock armoring and water crossings on the beautiful South Pyramid Trail\, part of the Old Cascade Crest Trail System! Meet at 10:00 am at the Lava Lake Meadow Road 2267\, between mileposts 76 and 77 off Hwy 22 in Santiam Canyon–expect 1.5 hour drive from downtown Salem. Please bring water\, lunch\, boots\, gloves\, eye protection\, long pants and long sleeves. We have hard hats and tools to loan\, or bring your own. Pro tip: bring a bike and go for an exploratory ride!  More details/carpool info/RSVP here.
URL:https://nw-trail.org/event/sata-work-party-on-south-pyramid-trail/
CATEGORIES:Regional Events,Trail Work
END:VEVENT
BEGIN:VEVENT
DTSTART;TZID=America/Los_Angeles:20180715T000000
DTEND;TZID=America/Los_Angeles:20180715T235959
DTSTAMP:20260421T073026
CREATED:20180705T224753Z
LAST-MODIFIED:20200512T034551Z
UID:6301-1531612800-1531699199@nw-trail.org
SUMMARY:Ape Canyon Dig Day
DESCRIPTION:Join the NWTA\, Growlers Gulch Racing and Friends of Ape Canyon for a dig day to get the trails in shape in time for the Full Moon Ride on 7/27!  More details and registration here.
URL:https://nw-trail.org/event/ape-canyon-dig-day/
CATEGORIES:NWTA Events,Trail Work
ATTACH;FMTTYPE=image/jpeg:https://nw-trail.org/wp-content/uploads/2018/01/StubFest2015_JClifford_NWTAgroup-1-scaled.jpg
END:VEVENT
BEGIN:VEVENT
DTSTART;TZID=America/Los_Angeles:20180622T000000
DTEND;TZID=America/Los_Angeles:20180624T235959
DTSTAMP:20260421T073026
CREATED:20180419T024052Z
LAST-MODIFIED:20180419T024052Z
UID:4249-1529625600-1529884799@nw-trail.org
SUMMARY:Willamette Tier Stewardship Campout
DESCRIPTION:More details and registration here.
URL:https://nw-trail.org/event/willamette-tier-stewardship-campout/
CATEGORIES:Regional Events,Trail Work
ATTACH;FMTTYPE=image/jpeg:https://nw-trail.org/wp-content/uploads/2018/04/OTT-1.jpg
END:VEVENT
BEGIN:VEVENT
DTSTART;TZID=America/Los_Angeles:20180616T093000
DTEND;TZID=America/Los_Angeles:20180616T140000
DTSTAMP:20260421T073026
CREATED:20180504T195405Z
LAST-MODIFIED:20200515T014145Z
UID:5424-1529141400-1529157600@nw-trail.org
SUMMARY:Historic Hiking Trail Re-Route (Brown’s Camp)
DESCRIPTION:Meet at Roger’s Camp aka Brown’s Camp. Roger’s Camp is at Milepost 33 on the Southside of Oregon Highway 6.\nhttp://tillamookstateforest.blogspot.com/
URL:https://nw-trail.org/event/historic-hiking-trail-re-route-browns-camp-2/
CATEGORIES:Regional Events,Tillamook State Forest,Trail Work
END:VEVENT
BEGIN:VEVENT
DTSTART;TZID=America/Los_Angeles:20180616T000000
DTEND;TZID=America/Los_Angeles:20180616T235959
DTSTAMP:20260421T073026
CREATED:20180417T172938Z
LAST-MODIFIED:20200512T034533Z
UID:3982-1529107200-1529193599@nw-trail.org
SUMMARY:Stub Dig Day
DESCRIPTION:Bring your friends and family out for an fun day of trail building\, mountain biking\, and good times!  If cutting new trail\,  is your jam\, then come join the party as we will be completing the cutting of the Railyard trail.  After this\, expect plenty of time to ride your favorite Stub trails and some tasty refreshments provided by Hopworks Urban Brewery! \nSchedule \n\n\n\n\n9:00 a.m. – Meet at the Hilltop Day-Use Area for volunteer check in and safety meeting.\n9:30 a.m. – Head out to trail projects\n1:30 p.m. – Finish up trail projects\n2 p.m. – Lunch on your own\, beverages and riding time\n\n\n\n\nIf you are planning on attending\, we encourage you to fill out this form\, so we have an accurate headcount for tools and food. \nA number of campsites and cabins have been pre-reserved for this event so if you are interested in spending the night after the workparty\, please contact Matthew Weintraub.
URL:https://nw-trail.org/event/stubfest/
CATEGORIES:NWTA Events,Ride!,Social,Trail Work
ATTACH;FMTTYPE=image/png:https://nw-trail.org/wp-content/uploads/2018/01/StubFest2018EventBanner-1.png
END:VEVENT
BEGIN:VEVENT
DTSTART;TZID=America/Los_Angeles:20180609T100000
DTEND;TZID=America/Los_Angeles:20180609T130000
DTSTAMP:20260421T073026
CREATED:20180504T195331Z
LAST-MODIFIED:20200515T014222Z
UID:5417-1528538400-1528549200@nw-trail.org
SUMMARY:Wilson River Trail Maintenance
DESCRIPTION:Meet at Jones Creek Equestrian Trailhead
URL:https://nw-trail.org/event/wilson-river-trail-maintenance/
CATEGORIES:Regional Events,Tillamook State Forest,Trail Work
END:VEVENT
BEGIN:VEVENT
DTSTART;TZID=America/Los_Angeles:20180609T000000
DTEND;TZID=America/Los_Angeles:20180609T235959
DTSTAMP:20260421T073026
CREATED:20180608T195929Z
LAST-MODIFIED:20180608T195929Z
UID:5887-1528502400-1528588799@nw-trail.org
SUMMARY:44 Trails Dig Day @ Surveyor's Ridge
DESCRIPTION:Get out and show Surveyor’s Ridge some love with the folks from 44 Trails.  Free coffee and lunch.  Bring hardhat\, long pants\, work gloves\, work boots & water.  More details here.
URL:https://nw-trail.org/event/44-trails-dig-day-surveyors-ridge/
CATEGORIES:Regional Events,Trail Work
ATTACH;FMTTYPE=image/jpeg:https://nw-trail.org/wp-content/uploads/2018/06/44-trails-assoc-logo-1.jpg
END:VEVENT
BEGIN:VEVENT
DTSTART;TZID=America/Los_Angeles:20180608T000000
DTEND;TZID=America/Los_Angeles:20180610T235959
DTSTAMP:20260421T073026
CREATED:20180419T023851Z
LAST-MODIFIED:20180419T023851Z
UID:4247-1528416000-1528675199@nw-trail.org
SUMMARY:Deschutes Tier Stewardship Campout
DESCRIPTION:More details and registration here.
URL:https://nw-trail.org/event/deschutes-tier-stewardship-campout/
CATEGORIES:Regional Events,Trail Work
ATTACH;FMTTYPE=image/jpeg:https://nw-trail.org/wp-content/uploads/2018/04/OTT-1.jpg
END:VEVENT
BEGIN:VEVENT
DTSTART;TZID=America/Los_Angeles:20180601T000000
DTEND;TZID=America/Los_Angeles:20180603T235959
DTSTAMP:20260421T073026
CREATED:20180417T165852Z
LAST-MODIFIED:20200514T040408Z
UID:3963-1527811200-1528070399@nw-trail.org
SUMMARY:St Helens Coldwater Lake Camp Out and Work Party
DESCRIPTION:Like to camp where you’re not usually supposed to? Then join us for the the Coldwater Lake Camp Out! The USFS gives us the OK to camp right near the lake for this weekend of digging\, riding and hanging out.  More info and registration here. \nNote:  If you sign up and aren’t able to make it\, please let the organizers know.  A lot of work goes into coordinating work parties for this event and they need as much heads-up about changes as possible to plan.
URL:https://nw-trail.org/event/st-helens-coldwater-lake-camp-out-and-work-party/
CATEGORIES:Mt. St. Helens,NWTA Events,Trail Work
ATTACH;FMTTYPE=image/jpeg:https://nw-trail.org/wp-content/uploads/2018/04/coldwater-1.jpg
END:VEVENT
BEGIN:VEVENT
DTSTART;TZID=America/Los_Angeles:20180524T000000
DTEND;TZID=America/Los_Angeles:20180529T235959
DTSTAMP:20260421T073026
CREATED:20180419T023606Z
LAST-MODIFIED:20180419T023606Z
UID:4244-1527120000-1527638399@nw-trail.org
SUMMARY:Fremont Tier Stewardship Campout
DESCRIPTION:Help make the Oregon Timber Trail happen! Register early as these spots fill up fast.  More details and registration here.
URL:https://nw-trail.org/event/fremont-tier-stewardship-campout/
CATEGORIES:Regional Events,Trail Work
ATTACH;FMTTYPE=image/jpeg:https://nw-trail.org/wp-content/uploads/2018/04/OTT-1.jpg
END:VEVENT
BEGIN:VEVENT
DTSTART;TZID=America/Los_Angeles:20180520T090000
DTEND;TZID=America/Los_Angeles:20180520T140000
DTSTAMP:20260421T073026
CREATED:20180417T161034Z
LAST-MODIFIED:20200515T015840Z
UID:3953-1526806800-1526824800@nw-trail.org
SUMMARY:Sandy Ridge Trail Work Day
DESCRIPTION:Come get dirty with NWTA and Fat Tire Farm! Do some digging from 9 to 2 then join the after party!  Swag raffle\, HUB beer and a shuttle ride to the top (maybe not in that order).   Fat Tire Farm is offering a vanpool from their shop\, too! Be sure to reserve a seat in advance.  More details and registration here.
URL:https://nw-trail.org/event/sandy-ridge-trail-work-day/
CATEGORIES:NWTA Events,Sandy Ridge,Trail Work
ATTACH;FMTTYPE=image/png:https://nw-trail.org/wp-content/uploads/2017/12/Park-1.png
END:VEVENT
BEGIN:VEVENT
DTSTART;TZID=America/Los_Angeles:20180519T093000
DTEND;TZID=America/Los_Angeles:20180519T140000
DTSTAMP:20260421T073026
CREATED:20180504T195244Z
LAST-MODIFIED:20200515T014145Z
UID:5412-1526722200-1526738400@nw-trail.org
SUMMARY:Historic Hiking Trail Re-Route (Brown’s Camp)
DESCRIPTION:Meeting at Rogers Camp. Roger’s Camp is at Milepost 33 on the Southside of Oregon Highway 6.\nhttp://tillamookstateforest.blogspot.com/
URL:https://nw-trail.org/event/historic-hiking-trail-re-route-browns-camp/
CATEGORIES:Regional Events,Tillamook State Forest,Trail Work
END:VEVENT
BEGIN:VEVENT
DTSTART;TZID=America/Los_Angeles:20180511T000000
DTEND;TZID=America/Los_Angeles:20180512T235959
DTSTAMP:20260421T073026
CREATED:20180430T202036Z
LAST-MODIFIED:20180430T202036Z
UID:5300-1525996800-1526169599@nw-trail.org
SUMMARY:Geer Park Spring Fling
DESCRIPTION:Do you dig the new pump track down in Salem? Then help dig it! Join the Salem Area Trail Alliance for a two-day building weekend as they get the jump line ready for the upcoming season.  More details and RSVP here.
URL:https://nw-trail.org/event/geer-park-spring-fling/
CATEGORIES:Regional Events,Trail Work
END:VEVENT
BEGIN:VEVENT
DTSTART;TZID=America/Los_Angeles:20180506T000000
DTEND;TZID=America/Los_Angeles:20180506T235959
DTSTAMP:20260421T073026
CREATED:20180430T200441Z
LAST-MODIFIED:20180430T200441Z
UID:5296-1525564800-1525651199@nw-trail.org
SUMMARY:Build Day @ Word to Your Mother
DESCRIPTION:Join Team Dirt down in Corvallis as they continue work on Word to Your Mother.  More details and RSVP here.
URL:https://nw-trail.org/event/build-day-word-to-your-mother/
CATEGORIES:Regional Events,Trail Work
ATTACH;FMTTYPE=image/png:https://nw-trail.org/wp-content/uploads/2018/04/teamdirt-1.png
END:VEVENT
BEGIN:VEVENT
DTSTART;TZID=America/Los_Angeles:20180505T100000
DTEND;TZID=America/Los_Angeles:20180505T170000
DTSTAMP:20260421T073026
CREATED:20180412T135246Z
LAST-MODIFIED:20200514T035719Z
UID:3550-1525514400-1525539600@nw-trail.org
SUMMARY:Falls Creek Trail Brush-Out Ride
DESCRIPTION:​Come join us for a hearty helping of a ride on one of the iconic trails in the Gifford Pinchot National Forest\, along with a side of stewardship. This trail has been and NWTA favorite for years\, and we helped to improve the ride experience in 2016 by spearheading reroute from a mid-trail dirt road descent\, onto four miles of bike-optimized singletrack. \nThis May will be holding a full day ride where we will also brush out the trail and clear any downed trees from the winter. We will also be working to bring an abandoned road back into service for bikes in order to ease congestion at the multi-usergroup trailhead. Once back at the cars\, the grill will get fired up and you’ll enjoy chips\, brats and beers! \nThe full ride will be ~20 miles as we will be climbing the scenic Wind River Road before turning onto the dirt at Oldman Pass SnoPark. Due to the stewardship aspect of the day\, this will be a social paced ride with regroups at every intersection as necessary. If you’ve never experienced the Falls Creek Trail\, this is a great opportunity to do so! \nMeet at the pull out ~3 miles past the the turn-off for the the trailhead (FS Road 152) at 10am (look for the NWTA sign).
URL:https://nw-trail.org/event/falls-creek-trail-brush-out-ride/
CATEGORIES:Falls Creek,NWTA Events,Ride!,Trail Work
END:VEVENT
BEGIN:VEVENT
DTSTART;TZID=America/Los_Angeles:20180505T090000
DTEND;TZID=America/Los_Angeles:20180505T140000
DTSTAMP:20260421T073026
CREATED:20180501T032407Z
LAST-MODIFIED:20180501T032407Z
UID:5323-1525510800-1525528800@nw-trail.org
SUMMARY:Stub - Trail Project
DESCRIPTION:Have you been wanting to get out and do some trail work?  If so\, now is your chance.\n\nWe are hosting a small trail project (with 10-16 volunteers) this coming weekend (May 5th) to do maintenance work at Stub Stewart.\n\nThe goal is to do basic maintenance work to prepare the trail for the upcoming riding season.\n–\nPROJECT AREAS\nWe will have two separate crews targeting specific areas.  See map\n\n\n\n\nTOOLS\nWe will have tools staged in both upper and lower section of the MTB area.\nSo bring your bike as we will be riding into the project areas.\n– \nWEATHER\nI am happy to report that weather will be perfect for trail work.\n–\nBEER & SWAG\nYes\, there will be beer and swag at this event.  🙂\nWe might even bring a bbq to cook hot dogs and hang out afterward.  tbd\n–\nACTION PLAN\n\nMeeting time 9AM at Stub (Hill Top)\nPut tools away at 1PM\nRegroup for social and swag raffle at 2PM\n\n–\nRSVP by sign up for the trail project and so we can plan the logistics of the day and send you event updates.\nhttps://goo.gl/forms/9P8fSTg8AwTZYQhN2
URL:https://nw-trail.org/event/stub-trail-project/
CATEGORIES:NWTA Events,Trail Work
ATTACH;FMTTYPE=image/png:https://nw-trail.org/wp-content/uploads/2016/12/screenshot_2835-1.png
END:VEVENT
BEGIN:VEVENT
DTSTART;TZID=America/Los_Angeles:20180505T000000
DTEND;TZID=America/Los_Angeles:20180505T235959
DTSTAMP:20260421T073026
CREATED:20180430T200157Z
LAST-MODIFIED:20180430T200157Z
UID:5294-1525478400-1525564799@nw-trail.org
SUMMARY:Dig Day @ Alsea Falls
DESCRIPTION:Head down to Alsea Falls and join Team Dirt as they dial in those lovely trails.  More details and RSVP here.
URL:https://nw-trail.org/event/dig-day-alsea-falls/
CATEGORIES:Regional Events,Trail Work
ATTACH;FMTTYPE=image/png:https://nw-trail.org/wp-content/uploads/2018/04/teamdirt-1.png
END:VEVENT
BEGIN:VEVENT
DTSTART;TZID=America/Los_Angeles:20180502T173000
DTEND;TZID=America/Los_Angeles:20180502T203000
DTSTAMP:20260421T073026
CREATED:20180501T160707Z
LAST-MODIFIED:20180501T160707Z
UID:5335-1525282200-1525293000@nw-trail.org
SUMMARY:Mac Forest Wednesday Build
DESCRIPTION:It’s hump day and we know you’re jonesing to get back outside.  If you happen to be down in Corvallis\, hook up with Team Dirt for a mid-week build day! Details and RSVP here.
URL:https://nw-trail.org/event/mac-forest-wednesday-build/
CATEGORIES:Regional Events,Trail Work
ATTACH;FMTTYPE=image/png:https://nw-trail.org/wp-content/uploads/2018/04/teamdirt-1.png
END:VEVENT
BEGIN:VEVENT
DTSTART;TZID=America/Los_Angeles:20180428T080000
DTEND;TZID=America/Los_Angeles:20180429T170000
DTSTAMP:20260421T073026
CREATED:20180413T151925Z
LAST-MODIFIED:20180413T151925Z
UID:3620-1524902400-1525021200@nw-trail.org
SUMMARY:Backcountry Trail Maintenance 101
DESCRIPTION:Curious about trail building? The Oregon Timber Trail Alliance is hosting a two-day workshop in Oakridge led by the US Forest Service on Technical Skills for Backcountry Trail Maintenance.  http://oregontimbertrail.org/events/trail-building-skills-treadwork-101
URL:https://nw-trail.org/event/backcountry-trail-maintenance-101/
CATEGORIES:Clinic,Regional Events,Trail Work
ATTACH;FMTTYPE=image/jpeg:https://nw-trail.org/wp-content/uploads/2018/04/OTT-1.jpg
END:VEVENT
BEGIN:VEVENT
DTSTART;TZID=America/Los_Angeles:20180422T100000
DTEND;TZID=America/Los_Angeles:20180422T140000
DTSTAMP:20260421T073026
CREATED:20180414T143738Z
LAST-MODIFIED:20180414T143738Z
UID:3653-1524391200-1524405600@nw-trail.org
SUMMARY:DOD/SATA/Team Dirt—Joint Build Day
DESCRIPTION:Build days at Alsea Falls are back! Join Disciples of Dirt\, Salem Area Trail Alliance\, and Team Dirt as we return to work and get trails ready for riding this summer. \nThis is the last of our three joint build days this season between our organizations. Come on out and show your support for more trails in the Willamette Valley. There is a lot of work to be done\, from clearing logs and debris to clearing corridor on Misery Whip! \nWork begins at 10am and ends at 2pm. Meet at the parking lot on Fall Creek Access Rd. No experience necessary. Bring food and water; wear long pants\, sturdy shoes and gloves. Our groups will provide hard hats and tools\, but feel free to bring your own. \nWe may do shuttled rides afterwards\, if conditions\, weather\, time and drivers permit.
URL:https://nw-trail.org/event/dod-sata-team-dirt-joint-build-day/
CATEGORIES:Regional Events,Trail Work
ATTACH;FMTTYPE=image/jpeg:https://nw-trail.org/wp-content/uploads/2018/04/8ae03edb6bd159739c7eb611442d70cc-1.jpg
END:VEVENT
BEGIN:VEVENT
DTSTART;TZID=America/Los_Angeles:20180422T073000
DTEND;TZID=America/Los_Angeles:20180422T100000
DTSTAMP:20260421T073026
CREATED:20180407T120756Z
LAST-MODIFIED:20200512T034530Z
UID:3315-1524382200-1524391200@nw-trail.org
SUMMARY:Ladies' Social Ride @ Alsea Falls
DESCRIPTION:Ladies! Let’s head down to Alsea Falls! The Alsea Falls system is great for riders of all skill levels\, but we recommend that you be at least an intermediate beginner for this ride to ensure you have the best time possible. If we have enough folks\, we’ll break up the group so the advanced shredders can let loose and the rest of us can enjoy a more leisurely pace. \nCome early and help out the folks from Disciples of Dirt\, Team Dirt and the Salem Area Trail Alliance as they dial in the amazingly flowy trails at Alsea Falls. Digging starts at 10 (and may earn you a shuttle ride from the hosts). For more details on the trail maintenance and to RSVP for that\, check out Team Dirt’s FB event: https://www.facebook.com/events/1850350184996457/ \nWe’ll regroup in the parking lot around 2:30 for the NWTA ride. If you haven’t ridden at Alsea before\, here’s your chance to bank some trail karma and get familiar with the trails.
URL:https://nw-trail.org/event/ladies-social-ride/
CATEGORIES:NWTA Events,Ride!,Trail Work,Women/Trans/Femme
ATTACH;FMTTYPE=image/jpeg:https://nw-trail.org/wp-content/uploads/2018/04/29749455_1927170083991743_8758743094999369162_o-1.jpg
END:VEVENT
END:VCALENDAR