BEGIN:VCALENDAR
VERSION:2.0
PRODID:-//Northwest Trail Alliance - ECPv6.15.18//NONSGML v1.0//EN
CALSCALE:GREGORIAN
METHOD:PUBLISH
X-WR-CALNAME:Northwest Trail Alliance
X-ORIGINAL-URL:https://nw-trail.org
X-WR-CALDESC:Events for Northwest Trail Alliance
REFRESH-INTERVAL;VALUE=DURATION:PT1H
X-Robots-Tag:noindex
X-PUBLISHED-TTL:PT1H
BEGIN:VTIMEZONE
TZID:America/Los_Angeles
BEGIN:DAYLIGHT
TZOFFSETFROM:-0800
TZOFFSETTO:-0700
TZNAME:PDT
DTSTART:20200308T100000
END:DAYLIGHT
BEGIN:STANDARD
TZOFFSETFROM:-0700
TZOFFSETTO:-0800
TZNAME:PST
DTSTART:20201101T090000
END:STANDARD
BEGIN:DAYLIGHT
TZOFFSETFROM:-0800
TZOFFSETTO:-0700
TZNAME:PDT
DTSTART:20210314T100000
END:DAYLIGHT
BEGIN:STANDARD
TZOFFSETFROM:-0700
TZOFFSETTO:-0800
TZNAME:PST
DTSTART:20211107T090000
END:STANDARD
BEGIN:DAYLIGHT
TZOFFSETFROM:-0800
TZOFFSETTO:-0700
TZNAME:PDT
DTSTART:20220313T100000
END:DAYLIGHT
BEGIN:STANDARD
TZOFFSETFROM:-0700
TZOFFSETTO:-0800
TZNAME:PST
DTSTART:20221106T090000
END:STANDARD
END:VTIMEZONE
BEGIN:VEVENT
DTSTART;TZID=America/Los_Angeles:20211003T090000
DTEND;TZID=America/Los_Angeles:20211003T130000
DTSTAMP:20260421T223246
CREATED:20210927T151035Z
LAST-MODIFIED:20210927T163923Z
UID:24338-1633251600-1633266000@nw-trail.org
SUMMARY:Gateway Green Dig Day on 10/3
DESCRIPTION:Great opportunity to get the gravity lines up and going again! \n\n\n\n\nREGISTER FOR 10/3 DIG DAY\n\n\n\n\nDetails \n\n\n\nTrimet’s Better Red Phase 3 construction has begun. While it has significantly affected the beloved gravity lines\, Portland Parks & Recreation has once again brought back the original line builder Sasquatch Trails to rework the remaining open line. \n\n\n\nSasquatch has been out working creating tabletops and banked turns\, and now we need you to help put the final touches so that we can open the trail. \n\n\n\nWhere to Meet \n\n\n\nMeet at the start hill at the bottom 3rd of the Gravity Lines \n\n\n\nGetting to the Event \n\n\n\nRide your bike or take public transportation. If you must drive\, on-street parking is available around the Gateway Transit Center. If you’re dropping someone off\, you can use one of the quick-drop spaces in the Transit Center’s overflow lot. We do not encourage you to park in neighboring residential areas. \n\n\n\nWhat to Bring \n\n\n\nFace Covering as recommended by the CDCYour bikeWork clothes: Light long sleeve shirt\, Long Pants (no shorts)\, Boots\, Gloves\, Eye Protection & GlovesJacket (be prepared)Hard hat or bike helmet (mandatory)WaterSnacks Lunch\n\n\n\nTools will be provided. \n\n\n\nCOVID Protocols \n\n\n\nDue to COVID-19\, masks are mandatory when you cannot maintain safe social distancing. We have also had to limit the number of participants. Please make sure to pre-register. \n\n\n\nWaiver \n\n\n\nOnce registered\, please sign the waiver HERE. \n\n\n\nQuestions? \n\n\n\nEmail: GatewayGreen@nw-trail.org
URL:https://nw-trail.org/event/gateway-green-dig-day-on-10-3/
LOCATION:Gateway Green\, Gateway Green I-205 Multi Use Path\, Portland\, 97220
CATEGORIES:Dig Days,Gateway Green,NWTA Events
ATTACH;FMTTYPE=image/jpeg:https://nw-trail.org/wp-content/uploads/2021/09/Gateway-Green-Dig-Day-Oct.-3-2020-8-copy-1.jpg
END:VEVENT
BEGIN:VEVENT
DTSTART;TZID=America/Los_Angeles:20211003T100000
DTEND;TZID=America/Los_Angeles:20211003T150000
DTSTAMP:20260421T223246
CREATED:20210928T023244Z
LAST-MODIFIED:20210928T023548Z
UID:24354-1633255200-1633273200@nw-trail.org
SUMMARY:NW Trail Sisters Gear Swap on 10/3
DESCRIPTION:Got Gear?? Those gloves that don’t quite fit\, a jersey that’s not your color\, those pedals that didn’t quite work out. \n\n\n\nNW Trail Sisters are hosting a FREE MTB gear swap and ride at Sandy Ridge Sunday\, Oct 3.  \n\n\n\nHow to Participate \n\n\n\nCome to the Sandy Ridge parking lot on Sunday\, Oct 3\, 10:00 to 3 PM. \n\n\n\nWould you mind bringing extra/unused gear (clothing\, jackets\, shoes\, gloves\, helmets\, pedals\, tools)? Clean/undamaged only\, please. \n\n\n\nIf you don’t have any extra\, take some stuff home with you! The idea is to get our extra gear out of closets and bags and into the community (vs. the landfill!). \n\n\n\nThis is a FREE “swap”-style event … not a sale! Browse the tables and take what you can use. Please bring your own reusable shopping bag.  \n\n\n\nRides will leave from the parking lot at 10:30 and 11:30. Signups required\, links below: \n\n\n\nTrail Sister’s Beginner Level Ride @ Sandy RidgeTrail Sister’s Intermediate Ride @ Sandy Ridge\n\n\n\nWe’ll have snacks and beverages throughout the day.  \n\n\n\nGuidelines \n\n\n\nBring what you can\, take what you need. \n\n\n\nThere will be a donation jar to contribute to NW Trail Sisters events. \n\n\n\nCOVID Precautions \n\n\n\nWe ask that you are masked up and keep your distance while you participate\, vaccinated or not. \n\n\n\nHave questions? Email nancys@nw-trail.org
URL:https://nw-trail.org/event/nw-trail-sisters-gear-swap-on-10-3/
LOCATION:Sandy Ridge Trail System\, 62700 EAST BARLOW TRAIL ROAD\, Brightwood\, OR\, 97011\, United States
CATEGORIES:NWTA Events,Sandy Ridge,Social,Women's Events,Women/Trans/Femme
ATTACH;FMTTYPE=image/jpeg:https://nw-trail.org/wp-content/uploads/2021/09/WTF-Skill-Building-July-31-2021-8.jpg
END:VEVENT
BEGIN:VEVENT
DTSTART;TZID=America/Los_Angeles:20211009T090000
DTEND;TZID=America/Los_Angeles:20211009T130000
DTSTAMP:20260421T223246
CREATED:20211005T130000Z
LAST-MODIFIED:20211005T130257Z
UID:24414-1633770000-1633784400@nw-trail.org
SUMMARY:Gateway Green Dig Day on 10/9
DESCRIPTION:We need your help to put on the final touches to open the new gravity line that has been changed due to Trimet’s Better Red project. \n\n\n\nClick below to sign up on our Eventbrite page. \n\n\n\n\nSIGN UP for DIG DAY\n\n\n\n\nWhere to Meet \n\n\n\nMeet at the start hill at the bottom 3rd of the Gravity Lines \n\n\n\nGetting to the Event \n\n\n\nRide your bike or take public transportation. If you must drive\, on-street parking is available around the Gateway Transit Center. If you’re dropping someone off\, you can use one of the quick-drop spaces in the Transit Center’s overflow lot. We do not encourage you to park in neighboring residential areas. \n\n\n\nWhat to Bring \n\n\n\nFace Covering as recommended by the CDCYour bikeWork clothes: Light long sleeve shirt\, Long Pants (no shorts)\, Boots\, Gloves\, Eye Protection & GlovesJacket (be prepared)Hard hat or bike helmet (mandatory)WaterSnacks Lunch\n\n\n\nTools will be provided. \n\n\n\nCOVID Protocols \n\n\n\nDue to COVID-19\, masks are mandatory when you cannot maintain safe social distancing. We have also had to limit the number of participants. Please make sure to pre-register. \n\n\n\nWaiver \n\n\n\nOnce registered\, please sign the waiver HERE. \n\n\n\nQuestions? \n\n\n\nEmail: GatewayGreen@nw-trail.org
URL:https://nw-trail.org/event/gateway-green-dig-day-on-10-9/
CATEGORIES:Dig Days,Gateway Green
ATTACH;FMTTYPE=image/jpeg:https://nw-trail.org/wp-content/uploads/2021/10/GG-Dig-Day-Oct.-3-2021-44.jpg
END:VEVENT
BEGIN:VEVENT
DTSTART;TZID=America/Los_Angeles:20211016T090000
DTEND;TZID=America/Los_Angeles:20211016T140000
DTSTAMP:20260421T223246
CREATED:20211009T225956Z
LAST-MODIFIED:20211011T160244Z
UID:24456-1634374800-1634392800@nw-trail.org
SUMMARY:Dig Day at Sandy Ridge on 10/16
DESCRIPTION:Join us on Saturday\, October 16th from 9 am – 2 pm at the Sandy Ridge Trail System to get the trails in shape for more riding! Trail work will last approximately 4 hours wrapping up at 2:00. All ages & skill levels are welcome! \n\n\n\nEventbrite Registration Link \n\n\n\nCOVID-19 Protocols: \n\n\n\nDue to COVID – 19\, masks are mandatory when you cannot maintain safe social distancing. We also have to limit the number of participants. Please make sure to pre-register. \n\n\n\nOnce registered please sign the waiver HERE \n\n\n\nWhat to wear & bring: \n\n\n\nFace Covering as recommended by the CDCWork clothes: Light long sleeve shirt\, Long Pants (no shorts)\, Boots\, Gloves (bring extra pairs to change into dry gloves)\, Eye ProtectionJacket (be prepared for rain and cold weather)Hard hat or bike helmet (mandatory)WaterSnacksFavorite trail tool\, McLeod or Rogue hoeOptional: Folding hand saw\n\n\n\nSafety Meeting starts promptly at 9 am. Please arrive 15-20 minutes prior to start time. We work in all weather so come prepared for the elements whatever they may be (and change of clothes in the car for when we finish). \n\n\n\nDue to COVID-19\, you are responsible for bringing all of your own food and beverages for the event. We have tools on site but if you are more comfortable with your own please feel free to bring your own.  \n\n\n\nSaturday\, October 16\, 2021 / 9:00 am – 2 pm / Sandy Ridge Trail System – Main Parking Lot \n\n\n\nPlease email SandyRidge@NW-trail.org with any questions
URL:https://nw-trail.org/event/sandy-ridge-dig-day-on-10-16/
CATEGORIES:Dig Days,Family Friendly,Sandy Ridge,Trail Work
ATTACH;FMTTYPE=image/jpeg:https://nw-trail.org/wp-content/uploads/2021/05/IMG_1080.jpg
END:VEVENT
BEGIN:VEVENT
DTSTART;TZID=America/Los_Angeles:20211016T090000
DTEND;TZID=America/Los_Angeles:20211016T140000
DTSTAMP:20260421T223246
CREATED:20211012T225850Z
LAST-MODIFIED:20211015T174948Z
UID:24541-1634374800-1634392800@nw-trail.org
SUMMARY:Stub Stewart Trail Work + Ride + Social on 10/16
DESCRIPTION:This Saturday we are working in the Freeride area. \n\n\n\n\nSIGN UP\n\n\n\n\nMeeting location: Hilltop parking area (at the far end) \n\n\n\nProject: Dirt work in the Freeride areaAction Plan: \n\n\n\nRide to the project site Do trail workTest ride what we built Social at Hilltop\n\n\n\nTools will be provided and are already staged on site.COVID safety – plan for normal COVID protocols and social distancing.Bring your own food\, water\, and layered clothing.This event will wrap up by 2 PM. \n\n\n\nClick below to fill out the participation waiver with COVID regulations. \n\n\n\n\nWAIVER FORM\n\n\n\n\nQuestions? Contact Ted Dodd (tedd@nw-trail.org)
URL:https://nw-trail.org/event/stub-stewart-trail-work-ride-social-on-10-16/
CATEGORIES:Dig Days,LL Stub Stewart,Trail Work
ATTACH;FMTTYPE=image/jpeg:https://nw-trail.org/wp-content/uploads/2021/10/Stub-Mar.-30-2019-18.jpg
END:VEVENT
BEGIN:VEVENT
DTSTART;TZID=America/Los_Angeles:20211024T090000
DTEND;TZID=America/Los_Angeles:20211024T140000
DTSTAMP:20260421T223246
CREATED:20211015T164646Z
LAST-MODIFIED:20211018T002218Z
UID:24603-1635066000-1635084000@nw-trail.org
SUMMARY:NWTA 2022 Planning Meeting on 10/24
DESCRIPTION:Ready to get more involved with NWTA? Join us to learn more & plan 2022 \n\n\n\nREGISTER HERE. \n\n\n\nAbout this event\n\n\n\nAfter skipping this same event last year due to COVID-19\, NWTA’s core volunteers are gathering IN PERSON to Plan 2022. This event is for our active volunteers who help keep NWTA running. This event is also for folks who want to take the next step to learn more about NWTA and become more involved. We will be talking about our trail stewardship areas\, Trail Sustainability Institue\, Equipment training & Social & Community Events. \n\n\n\nDue to this event being held indoors\, we require that attendees be fully vaccinated and wear masks. \n\n\n\nLocation: Chris King Precision Components / 2801 NW Nela St. / Portland OR 97210 \n\n\n\nHave questions? Email juntu@nw-trail.org
URL:https://nw-trail.org/event/nwta-2022-planning-meeting/
CATEGORIES:Advocacy,Lead
ATTACH;FMTTYPE=image/jpeg:https://nw-trail.org/wp-content/uploads/2021/10/Stub-Oct.-9-2021-10.jpg
END:VEVENT
BEGIN:VEVENT
DTSTART;TZID=America/Los_Angeles:20211030T090000
DTEND;TZID=America/Los_Angeles:20211030T140000
DTSTAMP:20260421T223246
CREATED:20211015T162338Z
LAST-MODIFIED:20211015T162342Z
UID:24593-1635584400-1635602400@nw-trail.org
SUMMARY:Halloween-Themed Dig Day at Sandy Ridge on 10/30
DESCRIPTION:Join us on Sat\, October 30th at Sandy Ridge Trail System for a Halloween-themed work party! \n\n\n\n\n\n\n\nRegister HERE. \n\n\n\nAbout this event\n\n\n\nJoin us on Saturday\, October 30th\, from 9 am – 2 pm at Sandy Ridge Trail System to get the trails in shape for more riding! Trail work will last approximately 4 hours\, wrapping up at 2:00.  \n\n\n\nCOVID Protocols \n\n\n\nDue to COVID-19\, masks are mandatory when you cannot maintain safe social distancing. We have also had to limit the number of participants. Please make sure to pre-register. \n\n\n\nOnce registered\, please sign the waiver HERE. \n\n\n\nWhat To Bring: \n\n\n\nFace Covering as recommended by the CDCYour bike (optional)Work clothes: Light long sleeve shirt\, Long Pants (no shorts)\, Boots\, Gloves\, Eye Protection & GlovesJacket (be prepared)Hard hat or bike helmet (mandatory)WaterSnacks LunchFavorite trail tool\, McLeod or Rouge Hoe (We have tools\, but please feel free to bring your own if you are more comfortable with your own).Optional: Folding Handsaw\n\n\n\nSafety meeting promptly starts at 9 am. Please arrive 15-20 early to ensure that you are adequately checked in. We work in all weather\, so come prepared for the elements\, whatever they may be (and change of clothes in the car for when we finish). \n\n\n\nDue to COVID-19\, you are responsible for bringing your food and beverages for the event.  \n\n\n\nSaturday\, October 30\, 2021 / 9:00 am – 2 pm / Sandy Ridge Trails \n\n\n\nEmail SandyRidge@nw-trail.org with any questions
URL:https://nw-trail.org/event/halloween-themed-dig-day-at-sandy-ridge-on-10-30/
CATEGORIES:Dig Days,Regional Events,Sandy Ridge,Social,Trail Work
ATTACH;FMTTYPE=image/jpeg:https://nw-trail.org/wp-content/uploads/2021/10/SRT-Apr.-7-2019-27.jpg
END:VEVENT
BEGIN:VEVENT
DTSTART;TZID=America/Los_Angeles:20211031T090000
DTEND;TZID=America/Los_Angeles:20211031T130000
DTSTAMP:20260421T223246
CREATED:20211018T212701Z
LAST-MODIFIED:20211018T213020Z
UID:24636-1635670800-1635685200@nw-trail.org
SUMMARY:Halloween Dig Day at Gateway Green on 10/31
DESCRIPTION:This will be our last work party to get the revamped gravity lines open. Please join us. \n\n\n\nREGISTER HERE. \n\n\n\nAbout this event\n\n\n\nWhere to Meet \n\n\n\nMeet at the start hill at the bottom 3rd of the Gravity Lines. \n\n\n\nGetting to the Event \n\n\n\nRide your bike or take public transportation. If you must drive\, parking is available at Fred Meyer. If someone is dropping you off\, you can use one of the quick-drop spaces in the Transit Center’s overflow lot. DO NOT PARK IN MAYWOOD PARK. \n\n\n\nWhat to Bring \n\n\n\nFace Covering as recommended by the CDCYour bikeWork clothes: Light long sleeve shirt\, Long Pants (no shorts)\, Boots\, Gloves\, Eye Protection & GlovesJacket (be prepared)Hard hat or bike helmet (mandatory)WaterSnacks Lunch\n\n\n\nTools will be provided. \n\n\n\nCOVID Protocols \n\n\n\nDue to COVID-19\, masks are mandatory when you cannot maintain safe social distancing. We have also had to limit the number of participants. Please make sure to pre-register. \n\n\n\nWaiver \n\n\n\nOnce registered\, please sign the waiver HERE. \n\n\n\nQuestions? \n\n\n\nEmail: GatewayGreen@nw-trail.org
URL:https://nw-trail.org/event/halloween-dig-day-at-gateway-green-on-10-31/
ATTACH;FMTTYPE=image/jpeg:https://nw-trail.org/wp-content/uploads/2021/10/GG-Dig-Day-Oct.-3-2021-25.jpg
END:VEVENT
END:VCALENDAR