BEGIN:VCALENDAR
VERSION:2.0
PRODID:-//Northwest Trail Alliance - ECPv6.15.18//NONSGML v1.0//EN
CALSCALE:GREGORIAN
METHOD:PUBLISH
X-ORIGINAL-URL:https://nw-trail.org
X-WR-CALDESC:Events for Northwest Trail Alliance
REFRESH-INTERVAL;VALUE=DURATION:PT1H
X-Robots-Tag:noindex
X-PUBLISHED-TTL:PT1H
BEGIN:VTIMEZONE
TZID:America/Los_Angeles
BEGIN:DAYLIGHT
TZOFFSETFROM:-0800
TZOFFSETTO:-0700
TZNAME:PDT
DTSTART:20170312T100000
END:DAYLIGHT
BEGIN:STANDARD
TZOFFSETFROM:-0700
TZOFFSETTO:-0800
TZNAME:PST
DTSTART:20171105T090000
END:STANDARD
BEGIN:DAYLIGHT
TZOFFSETFROM:-0800
TZOFFSETTO:-0700
TZNAME:PDT
DTSTART:20180311T100000
END:DAYLIGHT
BEGIN:STANDARD
TZOFFSETFROM:-0700
TZOFFSETTO:-0800
TZNAME:PST
DTSTART:20181104T090000
END:STANDARD
BEGIN:DAYLIGHT
TZOFFSETFROM:-0800
TZOFFSETTO:-0700
TZNAME:PDT
DTSTART:20190310T100000
END:DAYLIGHT
BEGIN:STANDARD
TZOFFSETFROM:-0700
TZOFFSETTO:-0800
TZNAME:PST
DTSTART:20191103T090000
END:STANDARD
END:VTIMEZONE
BEGIN:VEVENT
DTSTART;TZID=America/Los_Angeles:20180609T000000
DTEND;TZID=America/Los_Angeles:20180609T235959
DTSTAMP:20260422T020513
CREATED:20180419T201407Z
LAST-MODIFIED:20180419T201407Z
UID:4363-1528502400-1528588799@nw-trail.org
SUMMARY:Dirt Skirts @ Cold Creek
DESCRIPTION:The Dirt Skirts will be out at Cold Creek on June 9.  If you haven’t ridden here\, you should definitely get in on this.  They’ll be checking out a new section of trail\, too.  Don’t let the possibility of rain keep you away.  The trails will be primo and you should be out there.  More details and registration here.
URL:https://nw-trail.org/event/dirt-skirts-siouxon/
CATEGORIES:Regional Events,Ride!,Women/Trans/Femme
ATTACH;FMTTYPE=image/png:https://nw-trail.org/wp-content/uploads/2018/04/evergreen-1.png
END:VEVENT
BEGIN:VEVENT
DTSTART;TZID=America/Los_Angeles:20180623T000000
DTEND;TZID=America/Los_Angeles:20180623T235959
DTSTAMP:20260422T020513
CREATED:20180419T201616Z
LAST-MODIFIED:20180419T201616Z
UID:4367-1529712000-1529798399@nw-trail.org
SUMMARY:Dirt Skirts @ Alsea Falls
DESCRIPTION:Grab a bike\, grab a friend to split the gas and head down to Alsea Falls to spend a day riding around with the Dirt Skirts for some lady shred!  More details to come on their FB page.
URL:https://nw-trail.org/event/dirt-skirts-alsea-falls/
CATEGORIES:Regional Events,Ride!,Women/Trans/Femme
ATTACH;FMTTYPE=image/png:https://nw-trail.org/wp-content/uploads/2018/04/evergreen-1.png
END:VEVENT
END:VCALENDAR