BEGIN:VCALENDAR
VERSION:2.0
PRODID:-//Northwest Trail Alliance - ECPv6.15.18//NONSGML v1.0//EN
CALSCALE:GREGORIAN
METHOD:PUBLISH
X-WR-CALNAME:Northwest Trail Alliance
X-ORIGINAL-URL:https://nw-trail.org
X-WR-CALDESC:Events for Northwest Trail Alliance
REFRESH-INTERVAL;VALUE=DURATION:PT1H
X-Robots-Tag:noindex
X-PUBLISHED-TTL:PT1H
BEGIN:VTIMEZONE
TZID:America/Los_Angeles
BEGIN:DAYLIGHT
TZOFFSETFROM:-0800
TZOFFSETTO:-0700
TZNAME:PDT
DTSTART:20230312T100000
END:DAYLIGHT
BEGIN:STANDARD
TZOFFSETFROM:-0700
TZOFFSETTO:-0800
TZNAME:PST
DTSTART:20231105T090000
END:STANDARD
BEGIN:DAYLIGHT
TZOFFSETFROM:-0800
TZOFFSETTO:-0700
TZNAME:PDT
DTSTART:20240310T100000
END:DAYLIGHT
BEGIN:STANDARD
TZOFFSETFROM:-0700
TZOFFSETTO:-0800
TZNAME:PST
DTSTART:20241103T090000
END:STANDARD
BEGIN:DAYLIGHT
TZOFFSETFROM:-0800
TZOFFSETTO:-0700
TZNAME:PDT
DTSTART:20250309T100000
END:DAYLIGHT
BEGIN:STANDARD
TZOFFSETFROM:-0700
TZOFFSETTO:-0800
TZNAME:PST
DTSTART:20251102T090000
END:STANDARD
END:VTIMEZONE
BEGIN:VEVENT
DTSTART;TZID=America/Los_Angeles:20241117T090000
DTEND;TZID=America/Los_Angeles:20241117T150000
DTSTAMP:20260424T070626
CREATED:20241113T185310Z
LAST-MODIFIED:20241113T185457Z
UID:31645-1731834000-1731855600@nw-trail.org
SUMMARY:DIG DAY — NWTA x Fat Tire Farm - 11/17
DESCRIPTION:Come join the Fat Tire Farm crew and help build a new trail at Rocky Point! \n\n\n\n\nregister here\n\n\n\n\n \n\n\n\nWho is leading this party? \n\n\n\nJoin the Fat Tire Farm in the Southern Zone of Rocky Point to build a brand new trail with steep\, natural terrain. \n\n\n\nWhat is the timeframe for the day? \n\n\n\n9 a.m. – 3 p.m. \n\n\n\nWhat is the scope of work for the day? \n\n\n\nWe will carpool from the Rocky Point main lot to the start point on Skyline. We’ll be hiking in ¼ mile to 1 mile to clear corridors\, establish tread paths\, and build supportive catch-berms. \n\n\n\nNote: \n\n\n\nSafety meeting starts at 9:00 a.m. \n\n\n\nPlease arrive 15-20 minutes early to ensure that you are ready to roll. We work in all weather\, so come prepared for the elements. \n\n\n\nWhat to bring: \n\n\n\n\nWork clothes: Long sleeve shirt\, pants\, boots\, gloves\, eye protection\, and jacket.\n\n\n\nHard hat or bike helmet (mandatory)\n\n\n\nWater\n\n\n\nSnacks\n\n\n\nWe recommend NOT bringing a bike. There is no access to any other ridable trails.\n\n\n\nOptional: Favorite trail tool; hard rakes\, McLeods\, hoes (we have tools\, but please feel free to bring your own)\n\n\n\n\nOnce registered\, please sign the waiver HERE \n\n\n\nEmail adrian@fattirefarm.com with any questions about this event.
URL:https://nw-trail.org/event/dig-day-nwta-x-fat-tire-farm-11-17/
CATEGORIES:Dig Days,Rocky Point,Trail Work
ATTACH;FMTTYPE=image/jpeg:https://nw-trail.org/wp-content/uploads/2024/11/Lower-Bobs-Mar.-30-2024-16.jpg
END:VEVENT
END:VCALENDAR