BEGIN:VCALENDAR
VERSION:2.0
PRODID:-//Northwest Trail Alliance - ECPv6.15.18//NONSGML v1.0//EN
CALSCALE:GREGORIAN
METHOD:PUBLISH
X-WR-CALNAME:Northwest Trail Alliance
X-ORIGINAL-URL:https://nw-trail.org
X-WR-CALDESC:Events for Northwest Trail Alliance
REFRESH-INTERVAL;VALUE=DURATION:PT1H
X-Robots-Tag:noindex
X-PUBLISHED-TTL:PT1H
BEGIN:VTIMEZONE
TZID:America/Los_Angeles
BEGIN:DAYLIGHT
TZOFFSETFROM:-0800
TZOFFSETTO:-0700
TZNAME:PDT
DTSTART:20210314T100000
END:DAYLIGHT
BEGIN:STANDARD
TZOFFSETFROM:-0700
TZOFFSETTO:-0800
TZNAME:PST
DTSTART:20211107T090000
END:STANDARD
BEGIN:DAYLIGHT
TZOFFSETFROM:-0800
TZOFFSETTO:-0700
TZNAME:PDT
DTSTART:20220313T100000
END:DAYLIGHT
BEGIN:STANDARD
TZOFFSETFROM:-0700
TZOFFSETTO:-0800
TZNAME:PST
DTSTART:20221106T090000
END:STANDARD
BEGIN:DAYLIGHT
TZOFFSETFROM:-0800
TZOFFSETTO:-0700
TZNAME:PDT
DTSTART:20230312T100000
END:DAYLIGHT
BEGIN:STANDARD
TZOFFSETFROM:-0700
TZOFFSETTO:-0800
TZNAME:PST
DTSTART:20231105T090000
END:STANDARD
END:VTIMEZONE
BEGIN:VEVENT
DTSTART;TZID=America/Los_Angeles:20220412T170000
DTEND;TZID=America/Los_Angeles:20220412T193000
DTSTAMP:20260423T161517
CREATED:20220329T152443Z
LAST-MODIFIED:20220411T182559Z
UID:26063-1649782800-1649791800@nw-trail.org
SUMMARY:CANCELED // Ride Leader Training For Group Rides on 4/12
DESCRIPTION:Due to inclement weather and snowy conditions\, we’re canceling the Ride Leader training scheduled for April 12 at Gateway Green. We will offer it again soon.\n\n\n\n\n\n\n\nA class for those interested in learning how to lead mountain bike group rides – Gateway Green 4/12 5-7:30pm. \n\n\n\n\nregister here\n\n\n\n\nAbout this event\n\n\n\nIn partnership with Elaine B. Bikes\, NWTA presents Ride Leader Training for those interested in leading mountain bike group rides. \n\n\n\nLeading or helping with group rides is a fun way to find riding buddies and share enthusiasm for mountain biking by introducing ways to enjoy a ride more comfortably\, safely\, and confidently. Leading rides also helps grow the sport and increase trail stewardship by involving and inviting riders at any level\, especially beginners to the sport or trail system and those new to the area. \n\n\n\nRide Leader Intro course is a basic introduction to leading rides and what tasks need to happen before\, during & after a ride\, and what to do if something goes wrong. This training is designed to increase the confidence of anyone interested in leading\, co-leading\, or sweeping (riding at the back) a ride at any level.  \n\n\n\nWhile a person does not need to have advanced or even intermediate riding skills to be a ride leader\, this is not a skills clinic. Ride leaders have a role in creating a safe and fun environment\, not an instructor role. Ride leaders are happy to share their favorite trails at whatever level they are confident on — be it a winding gravel trail to more advanced runs.  \n\n\n\nThis 2.5-hour course will also help prepare a person to succeed in the BICP’s standalone Ride Leader Certification online course. This certification is not necessary to hold group rides for NWTA. \n\n\n\nTopics covered: \n\n\n\n-Preparing for a ride\, including planning and communicating the ride\,  \n\n\n\n-Learning what goes in your backpack and what to bring along \n\n\n\n-How to assess whether a rider is at a level to enjoy the ride you’re planning \n\n\n\n-How to manage the group and what to do if something goes wrong \n\n\n\n-How to describe upcoming trail features \n\n\n\n-Practice leading and sweeping a ride \n\n\n\n-Discussing liability: what is your exposure you need insurance or permits? \n\n\n\n-Recommendations for additional education and resource \n\n\n\n-and much more! \n\n\n\nWant to know more? Read Nell Stamper’s article about the training she attended at Klootchy Creek in 2021: https://nw-trail.org/ride-leader-training. \n\n\n\nThis class is limited to 6 people. Pre-registration required. \n\n\n\nBring your helmet\, bike in good working condition\, clothing\, layers\, tools appropriate for the day\, water\, and snacks.  \n\n\n\nCurrent First aid/CPR certification or a Wilderness First Aid certification is highly recommended for ride leaders but is not required for attendance in this course. \n\n\n\nTuesday\, April 12\, 2022\, Gateway Green 5:00 – 7:30 pm\,  \n\n\n\nMeet at the picnic tables area between the pump tracks or meet at 4:30 pm at The Lumberyard to ride bikes in with Elaine. Parking is available at The Lumberyard or the SW corner of the Fred Meyer parking lot. \n\n\n\nCOVID Protocols \n\n\n\nDue to COVID-19 have a mask with you\, you cannot maintain safe social distancing. We have also had to limit the number of participants. Please make sure to pre-register. \n\n\n\nOnce registered\, please sign the waiver HERE \n\n\n\nHave questions? Email elaine.b@elainebbikes.com
URL:https://nw-trail.org/event/ride-leader-training-for-group-rides-on-4-12/
CATEGORIES:Clinic,Gateway Green,Lead,Skills Clinic
ATTACH;FMTTYPE=image/jpeg:https://nw-trail.org/wp-content/uploads/2022/03/Green-Geckos-Mar-18-2022-32.jpg
END:VEVENT
END:VCALENDAR