BEGIN:VCALENDAR
VERSION:2.0
PRODID:-//Northwest Trail Alliance - ECPv6.15.18//NONSGML v1.0//EN
CALSCALE:GREGORIAN
METHOD:PUBLISH
X-ORIGINAL-URL:https://nw-trail.org
X-WR-CALDESC:Events for Northwest Trail Alliance
REFRESH-INTERVAL;VALUE=DURATION:PT1H
X-Robots-Tag:noindex
X-PUBLISHED-TTL:PT1H
BEGIN:VTIMEZONE
TZID:America/Los_Angeles
BEGIN:DAYLIGHT
TZOFFSETFROM:-0800
TZOFFSETTO:-0700
TZNAME:PDT
DTSTART:20210314T100000
END:DAYLIGHT
BEGIN:STANDARD
TZOFFSETFROM:-0700
TZOFFSETTO:-0800
TZNAME:PST
DTSTART:20211107T090000
END:STANDARD
BEGIN:DAYLIGHT
TZOFFSETFROM:-0800
TZOFFSETTO:-0700
TZNAME:PDT
DTSTART:20220313T100000
END:DAYLIGHT
BEGIN:STANDARD
TZOFFSETFROM:-0700
TZOFFSETTO:-0800
TZNAME:PST
DTSTART:20221106T090000
END:STANDARD
BEGIN:DAYLIGHT
TZOFFSETFROM:-0800
TZOFFSETTO:-0700
TZNAME:PDT
DTSTART:20230312T100000
END:DAYLIGHT
BEGIN:STANDARD
TZOFFSETFROM:-0700
TZOFFSETTO:-0800
TZNAME:PST
DTSTART:20231105T090000
END:STANDARD
END:VTIMEZONE
BEGIN:VEVENT
DTSTART;TZID=America/Los_Angeles:20220913T163000
DTEND;TZID=America/Los_Angeles:20220913T181500
DTSTAMP:20260423T064859
CREATED:20220906T145926Z
LAST-MODIFIED:20220906T150857Z
UID:27161-1663086600-1663092900@nw-trail.org
SUMMARY:Green Geckos After School MTB Skills Camp - Gateway Green (Tuesdays)
DESCRIPTION:After school mtb skills camp on Tuesdays (9/13-10/04) from 4:30-6:15 pm for Beginner 8-10 & 11-14-year-olds \n\n\n\n\nregister\n\n\n\n\nAbout this event\n\n\n\nAfter school mtb skills camp for ages 8 – 10 year olds & 11-14 year olds \n\n\n\nRegistration for this camp is for 4 Tuesdays (from 9/13-10/04). Please be ready to commit to having your rider attend class each week. \n\n\n\nIn partnership with Portland Parks & Recreation & Elaine B Bikes\, NWTA is excited to offer kids after-school mountain bike skills camps. Cost: $40 donation to NWTA (scholarships available email elaine.b@elainebbikes.com) \n\n\n\nDrop off & Pick up location: Gateway Fred Meyer Parking Lot\, Corner of NE 99th & NE Pacific  \n\n\n\nEvent Location: Gateway Green  \n\n\n\nRequired Gear:  \n\n\n\n– A mountain bike in good working condition. We have a limited amount of Trek bikes to loan. Please add your rider’s height information when registering. \n\n\n\n– A properly fitting helmet in good condition and is less than 5 years old* (Loaners available) \n\n\n\n– Water bottle and snacks \n\n\n\n– Clothing appropriate for the weather \n\n\n\n– Pack to carry layers\, snacks\, and water \n\n\n\nRecommended Gear: \n\n\n\n– Full Fingered Gloves \n\n\n\n– Knee and elbow protection \n\n\n\n– Eye protection \n\n\n\nParticipants should have their own water\, wear layers appropriate for the weather\, and have a backpack to take with them to the park. No items will stay at the drop-off site.  \n\n\n\nWe will ride if it is lightly raining but may cancel if it is heavy rain. Watch your emails by noon the day of the class. \n\n\n\nRider Experience: Beginner/ with ½ – 1 of riding on dirt trails \n\n\n\nThese classes are for kids who are already comfortable riding a bike on some “Green” mountain bike dirt trail and grass and down features up to 3-4 inches high. They can stand and coast on the pedals. They can shift gears and corner\, but it might not go as smoothly as it could — or at the right time. They are interested in rolling over taller features and riding pump tracks (or rolling terrain) without pedaling the whole time. They can ride 1-2 miles on a trail or bike path. \n\n\n\nDuring this class: Riders will continue to improve their balance over varying terrain including trails and pump tracks (or rolling terrain)\, as well as brake and corner with more confidence\, and shift more smoothly. They’ll learn to climb\, descend and ride faster; they’ll also learn slow-riding skills to have fun riding more technical trails including roll downs and drops 6-10” high – if they want to. The wheels may leave the ground on drops\, but we aren’t jumping quite yet. \n\n\n\nBike: The Green Gecko’s bike has platform pedals\, two hand brakes (front and rear)\, a seat that can move up and down\, and is in good working condition. Single speeds are OK but a bike with gears will be more fun on the climbs. No coaster brakes\, worn-out tires or kickstands. A Gecko’s helmet fits properly\, is in good condition\, and is less than 5 years old \n\n\n\nQuestions? Email elaine.b@elainebbikes.com \n\n\n\nCOVID – 19 & Waiver:  \n\n\n\nNWTA follows the current state-mandated protocols. The most current information can be found here: State of Oregon COVID mandates \n\n\n\nOnce registered\, please sign the waiver for your MINOR Child HERE \n\n\n\nThank you to our partners & sponsors:\n\n\n\nPortland Parks & Recreation\n\n\n\nProject^\n\n\n\nLolo Racks\n\n\n\nTrek Bicycles\n\n\n\nREI\n\n\n\nFred Meyer\n\n\n\nTrimet\n\n\n\nElaine B. Bikes
URL:https://nw-trail.org/event/green-geckos-after-school-mtb-skills-camp-gateway-green-tuesdays/2022-09-13/
CATEGORIES:#kidsthatshred,Clinic,Family Friendly,Gateway Green,Green Geckos,Learn,NWTA Events,Public Outreach,Signature Event,Skills Clinic
ATTACH;FMTTYPE=image/jpeg:https://nw-trail.org/wp-content/uploads/2022/09/Gateway-Green-May-13-2022-57-copy.jpg
END:VEVENT
BEGIN:VEVENT
DTSTART;TZID=America/Los_Angeles:20220914T163000
DTEND;TZID=America/Los_Angeles:20220914T181500
DTSTAMP:20260423T064859
CREATED:20220906T150612Z
LAST-MODIFIED:20220906T150923Z
UID:27176-1663173000-1663179300@nw-trail.org
SUMMARY:Flying Dragons After School MTB Camp - Gateway Green (Wednesdays)
DESCRIPTION:After school Wednesday Mountain Bike Skills Camp for Advanced level 9-12-year-olds \n\n\n\n\nregister\n\n\n\n\nAbout this event\n\n\n\nAdvanced level after-school mtb skills camp for ages 9 -12 year olds  \n\n\n\nRegistration for this camp is for 4 Wednesdays (from 9/14-10/5). Please be ready to commit to having your rider attend class each week. \n\n\n\nIn partnership with Portland Parks & Recreation & Elaine B Bikes\, NWTA is excited to offer kids after-school mountain bike skills camps. Cost: $40 donation to NWTA (scholarships available email elaine.b@elainebbikes.com) \n\n\n\nDrop off & Pick up location: Gateway Fred Meyer Parking Lot\, Corner of NE 99th & NE Pacific  \n\n\n\nEvent Location: Gateway Green  \n\n\n\nRequired Gear:  \n\n\n\n– A mountain bike in good working condition. We have a limited amount of Trek bikes to loan. Please add your rider’s height information when registering. \n\n\n\n– A properly fitting helmet in good condition and is less than 5 years old* (Loaners available) \n\n\n\n– Water bottle and snacks \n\n\n\n– Clothing appropriate for the weather \n\n\n\n– Pack to carry layers\, snacks\, and water \n\n\n\nRecommended Gear: \n\n\n\n– Full Fingered Gloves \n\n\n\n– Knee and elbow protection \n\n\n\n– Eye protectionIntermediate \n\n\n\nParticipants should have their own water\, wear layers appropriate for the weather\, and have a backpack to take with them to the park. No items will stay at the drop-off site.  \n\n\n\nWe will ride if it is lightly raining but may cancel if it is heavy rain. Watch your emails by noon the day of the class. Rider Experience: Intermediate/Advanced with at least 2-4 years of riding on dirt trails  \n\n\n\nThese riders are already comfortable riding a bike on “Blue” and may be riding parts of more technical “Black” trails\, and over most of whatever features come along\, 8-12” high\, at least downhill. They can stand and coast confidently on even pedals for entire sections of the trail\, and they can shift gears and corner comfortably. They may be starting to jump and land on top of tables\, and they are interested in dropping features up to 12-14” high\, learning to ride pump tracks or rolling terrain faster\, without pedaling. They can easily ride 2-4 miles or more on a trail or bike path. \n\n\n\nDuring this class: these riders will continue to improve their balance over varying and more technical terrain\, brake and corner even quicker\, and shift before it’s too late. They’ll learn to climb\, descend and ride both faster and more slowly with confidence. They’ll have fun riding technical roll downs and drops 10-14” high. The wheels will leave the ground in this class\, after all\, Dragons are learning to clear jumps! \n\n\n\nBike: A Flying Dragon’s bike has platform pedals\, two-hand brakes\, a seat that can move up and down\, and is in good working condition. Single speeds are OK but a bike with gears will be more fun on the climbs. No coaster brakes\, kickstands\, baskets\, or fenders. A Dragon’s helmet fits properly\, is in good condition\, and is less than 5 years old \n\n\n\nQuestions? Email elaine.b@elainebbikes.com \n\n\n\nCOVID – 19 & Waiver:  \n\n\n\nNWTA follows the current state-mandated protocols. The most current information can be found here: State of Oregon COVID mandates \n\n\n\nOnce registered\, please sign the waiver for your MINOR Child HERE \n\n\n\nThank you to our partners & sponsors:\n\n\n\nPortland Parks & Recreation\n\n\n\nProject^\n\n\n\nLolo Racks\n\n\n\nTrek Bicycles\n\n\n\nREI\n\n\n\nFred Meyer\n\n\n\nTrimet\n\n\n\nElaine B. Bikes
URL:https://nw-trail.org/event/flying-dragons-after-school-mtb-camp-gateway-green/2022-09-14/
CATEGORIES:#kidsthatshred,Clinic,Family Friendly,Flying Dragons,Gateway Green,Learn,NWTA Events,Public Outreach,Regional Events,Signature Event,Skills Clinic
ATTACH;FMTTYPE=image/jpeg:https://nw-trail.org/wp-content/uploads/2022/09/Newell-Creek-Kids-Clinic-Apr.-2-2022-9-copy.jpg
END:VEVENT
BEGIN:VEVENT
DTSTART;TZID=America/Los_Angeles:20220915T163000
DTEND;TZID=America/Los_Angeles:20220915T181500
DTSTAMP:20260423T064859
CREATED:20220906T151448Z
LAST-MODIFIED:20220906T151450Z
UID:27202-1663259400-1663265700@nw-trail.org
SUMMARY:Leaping Lizards After School MTB Camp - Gateway Green (Thursdays)
DESCRIPTION:Thursday After School Mountain Bike Skills Camps for Intermediate level 8-10 & 11-14 year olds \n\n\n\n\nregister\n\n\n\n\nAbout this event\n\n\n\nAfter school mtb skills camp for Intermediate Level riders ages 8 – 10 & 11-14 year olds. \n\n\n\nRegistration for this camp is for 4 Thursdays (from 9/15-10/06). Please be ready to commit to having your rider attend class each week. \n\n\n\nIn partnership with Portland Parks & Recreation & Elaine B Bikes\, NWTA is excited to offer kids after-school mountain bike skills camps. Cost: $40 donation to NWTA (scholarships available email elaine.b@elainebbikes.com) \n\n\n\nDrop off & Pick up location: Gateway Fred Meyer Parking Lot\, Corner of NE 99th & NE Pacific  \n\n\n\nEvent Location: Gateway Green  \n\n\n\nRequired Gear:  \n\n\n\n– A mountain bike in good working condition. We have a limited amount of Trek bikes to loan. Please add your rider’s height information when registering. \n\n\n\n– A properly fitting helmet in good condition and is less than 5 years old* (Loaners available) \n\n\n\n– Water bottle and snacks \n\n\n\n– Clothing appropriate for the weather \n\n\n\n– Pack to carry layers\, snacks\, and water \n\n\n\nRecommended Gear: \n\n\n\n– Full Fingered Gloves \n\n\n\n– Knee and elbow protection \n\n\n\n– Eye protection \n\n\n\nParticipants should have their own water\, wear layers appropriate for the weather\, and have a backpack to take with them to the park. No items will stay at the drop-off site.  \n\n\n\nWe will ride if it is lightly raining but may cancel if it is heavy rain. Watch your emails by noon the day of the class. \n\n\n\nRider Experience: Intermediate with at least 2 years of riding on dirt trails  \n\n\n\nThese riders are already comfortable riding a bike on “Green” and may be riding parts of moderately technical “Blue” trails\, and down features\, 4-8 inches high. They can stand and coast confidently on even pedals for longer sections of trail\, and they can shift gears and corner comfortably. They are interested in dropping features up to 12-14” high\, learning to jump\, manual\, and riding pump tracks or rolling terrain faster\, without pedaling. They can ride 2-4 miles or more on a trail or bike path. \n\n\n\nDuring this class: these riders will continue to improve their balance over varying and more technical terrain\, brake and corner even quicker\, with more exaggerated body movements\, and they can shift gears before it’s too late. They’ll learn to climb\, descend and ride both faster and more slowly with confidence. They’ll and have fun riding technical roll downs and drops 8-10” high – if they want to. The wheels may leave the ground in this class\, after all\, Leapin’ Lizards want to learn how to jump!  \n\n\n\nBike: A Leapin’ Lizard’s bike has platform pedals\, two hand brakes\, a seat that can move up and down\, and is in good working condition. Single speeds are OK but a bike with gears will be more fun on the climbs. No coaster brakes\, kickstands\, baskets\, or fenders. A Lizard’s helmet fits properly\, is in good condition\, and is less than 5 years old. \n\n\n\nQuestions? Email elaine.b@elainebbikes.com \n\n\n\nCOVID – 19 & Waiver:  \n\n\n\nNWTA follows the current state-mandated protocols. The most current information can be found here: State of Oregon COVID mandates \n\n\n\nOnce registered\, please sign the waiver for your MINOR Child HERE \n\n\n\nThank you to our partners & sponsors:\n\n\n\nPortland Parks & Recreation\n\n\n\nProject^\n\n\n\nLolo Racks\n\n\n\nTrek Bicycles\n\n\n\nREI\n\n\n\nFred Meyer\n\n\n\nTrimet\n\n\n\nElaine B. Bikes
URL:https://nw-trail.org/event/leaping-lizards-after-school-mtb-camp-gateway-green-thursdays/2022-09-15/
CATEGORIES:#kidsthatshred,Clinic,Family Friendly,Gateway Green,Leaping Lizards,Learn,NWTA Events,Public Outreach,Regional Events,Signature Event,Skills Clinic
ATTACH;FMTTYPE=image/jpeg:https://nw-trail.org/wp-content/uploads/2022/09/Gateway-Green-May-13-2022-95.jpg
END:VEVENT
END:VCALENDAR