BEGIN:VCALENDAR
VERSION:2.0
PRODID:-//Northwest Trail Alliance - ECPv6.15.18//NONSGML v1.0//EN
CALSCALE:GREGORIAN
METHOD:PUBLISH
X-ORIGINAL-URL:https://nw-trail.org
X-WR-CALDESC:Events for Northwest Trail Alliance
REFRESH-INTERVAL;VALUE=DURATION:PT1H
X-Robots-Tag:noindex
X-PUBLISHED-TTL:PT1H
BEGIN:VTIMEZONE
TZID:America/Los_Angeles
BEGIN:DAYLIGHT
TZOFFSETFROM:-0800
TZOFFSETTO:-0700
TZNAME:PDT
DTSTART:20220313T100000
END:DAYLIGHT
BEGIN:STANDARD
TZOFFSETFROM:-0700
TZOFFSETTO:-0800
TZNAME:PST
DTSTART:20221106T090000
END:STANDARD
BEGIN:DAYLIGHT
TZOFFSETFROM:-0800
TZOFFSETTO:-0700
TZNAME:PDT
DTSTART:20230312T100000
END:DAYLIGHT
BEGIN:STANDARD
TZOFFSETFROM:-0700
TZOFFSETTO:-0800
TZNAME:PST
DTSTART:20231105T090000
END:STANDARD
BEGIN:DAYLIGHT
TZOFFSETFROM:-0800
TZOFFSETTO:-0700
TZNAME:PDT
DTSTART:20240310T100000
END:DAYLIGHT
BEGIN:STANDARD
TZOFFSETFROM:-0700
TZOFFSETTO:-0800
TZNAME:PST
DTSTART:20241103T090000
END:STANDARD
END:VTIMEZONE
BEGIN:VEVENT
DTSTART;TZID=America/Los_Angeles:20230507T090000
DTEND;TZID=America/Los_Angeles:20230507T130000
DTSTAMP:20260422T165217
CREATED:20230424T160642Z
LAST-MODIFIED:20230501T181639Z
UID:28691-1683450000-1683464400@nw-trail.org
SUMMARY:CANCELED // Gateway Green Dig day - 5/7
DESCRIPTION:NOTE: THIS EVENT HAS BEEN CANCELED \n\n\n\nCome one come all! No experience is necessary. All ages are welcome! \n\n\n\nOur skills area revamp project is ALMOST complete\, and we need YOU to come help get the area & the rest of the park dialed in for the Spring & Summer riding season. \n\n\n\n\nregister here\n\n\n\n\nWhere to Meet \n\n\n\nMeet at the Central Hub near the pump track at 9 am for check-in. \n\n\n\nGetting to the Event \n\n\n\nRide your bike or take public transportation. On-street parking is available around the Gateway Transit Center and the Fred Meyer parking lot on NE 99th & NE Pacific if you must drive. If you’re dropping someone off\, use one of the quick-drop spaces in the Transit Center’s overflow lot. We do not encourage you to park in neighboring residential areas. \n\n\n\nWhat to Bring \n\n\n\n\nYour bike \n\n\n\nWork clothes\, Boots\, Gloves\, Eye Protection & Gloves\n\n\n\nJacket (be prepared)\n\n\n\nHard hat or bike helmet (mandatory)\n\n\n\nWater\n\n\n\nSnacks \n\n\n\n\nTools will be provided. \n\n\n\nWaiver \n\n\n\nOnce registered\, please sign the waiver HERE. \n\n\n\nQuestions? \n\n\n\nEmail: GatewayGreen@nw-trail.org
URL:https://nw-trail.org/event/gateway-green-dig-day-5-7/
CATEGORIES:Dig Days,Gateway Green,Trail Work
ATTACH;FMTTYPE=image/jpeg:https://nw-trail.org/wp-content/uploads/2023/04/GG-Skills-Area-Apr.-16-2023-12.jpg
END:VEVENT
BEGIN:VEVENT
DTSTART;TZID=America/Los_Angeles:20230513T100000
DTEND;TZID=America/Los_Angeles:20230513T130000
DTSTAMP:20260422T165217
CREATED:20230428T224126Z
LAST-MODIFIED:20230428T224127Z
UID:28710-1683972000-1683982800@nw-trail.org
SUMMARY:Suspension Clinic: Get Dialed in with Trek and SRAM - 5/13
DESCRIPTION:A﻿re you interested in learning how to dial in your suspension on your bike? Join Trek and SRAM at Gateway Green on May 13th and learn how to setup your suspension\, how and why to make adjustments\, and when to get your suspension serviced. \n\n\n\n\nregister here\n\n\n\n\nBring your bike\, helmet and be ready to ride. We will be taking a few laps with your suspension in different settings.  \n\n\n\nFor those who come\, please meet at the grassy area in between the pump track and bathrooms.  \n\n\n\nS﻿pace is limited\, please sign up and more importantly\, show up! (psst.. you won’t regret it!) \n\n\n\nT﻿he Fine Print: \n\n\n\nE﻿vents like these are made possible through NWTA membership dollars. If you are a member\, THANK YOU! If you are not\, please consider JOINING 5\,500 other mountain bikers in the greater Portland area who are making trails and events like these and so many more possible \n\n\n\nMountain biking requires riders to confront their fears\, biases\, and preconceived notions: we know what it feels like to be fearful\, uncomfortable\, and out of our element while on a ride. While we believe that everyone’s barriers should be respected\, we know that mutual support will help get us past those barriers. We must boost each other up and push ourselves to improve both on and off the bike. NWTA wants a world where everyone feels welcome\, safe\, and free in the outdoors. As an organization\, the NWTA is committed to creating a pathway to nature for everyone\, regardless of socioeconomic status\, race\, gender\, religion\, sexual orientation\, gender identity\, disability\, faith\, and country of origin.
URL:https://nw-trail.org/event/suspension-clinic-get-dialed-in-with-trek-and-sram-5-13/
CATEGORIES:Clinic,Gateway Green,Learn,NWTA Events,Signature Event,Skills Clinic,Social
ATTACH;FMTTYPE=image/jpeg:https://nw-trail.org/wp-content/uploads/2023/04/MTB-Maintenance-Clinic-Series-Metropolis-Jan.-25-2023-31.jpg
END:VEVENT
BEGIN:VEVENT
DTSTART;TZID=America/Los_Angeles:20230531T170000
DTEND;TZID=America/Los_Angeles:20230531T200000
DTSTAMP:20260422T165217
CREATED:20230308T170413Z
LAST-MODIFIED:20230308T170417Z
UID:28422-1685552400-1685563200@nw-trail.org
SUMMARY:Ride Leader Training at Gateway Green - 5/31
DESCRIPTION:NWTA is hosting an Introduction to Ride Leader Training in partnership with Elaine B. Bikes. \n\n\n\n\nREGISTER HERE\n\n\n\n\nNWTA is hosting an Introduction to Ride Leader Training in partnership with Elaine B. Bikes. This training is a basic introduction to leading rides and what tasks need to happen before\, during & after a ride\, and what to do if something goes wrong. This training is designed to increase the confidence of anyone interested in leading\, co-leading\, or sweeping (riding at the back) a ride at any level.  \n\n\n\nYou will learn how to describe the trail\, pace your group and set expectations for the ride. We will discuss the difference between a skills/clinic instructor and a ride leader\, important safety considerations and even practice skills to help you monitor your riders and what to do if something unexpected happens along the way! This class is also a good introduction to leading rides for anyone interested in becoming a certified Ride Leader. (Visit https://icp.bike/ride-leader/ for more information) \n\n\n\nLeading or helping with group rides is a fun way to find riding buddies\, share enthusiasm for mountain biking\, build community and grow the sport. As a ride leader you will be introducing people to new ways to enjoy a ride more comfortably\, safely\, and confidently. You will also be increasing trail stewardship by getting riders at any level\, especially beginners into the sport or a new to them trail system and creating community for folks new to the area. This training is open to all levels of riders; beginner to advanced.  \n\n\n\nNote: This is not a skills clinic\, and skills will not be coached at this clinic \n\n\n\nThis class is limited to NWTA members (see other information on how to become a member if you are not already).  \n\n\n\nPre-registration for this training is required. \n\n\n\nTopics covered in training: \n\n\n\n\nPreparing for a ride\, including planning and the ride\, \n\n\n\nLearning what goes in your backpack and what to bring along\n\n\n\nHow to assess whether a rider is at a level to enjoy the ride you’re planning\n\n\n\nHow to manage the group and what to do if something goes wrong\n\n\n\nHow to describe upcoming trail features\n\n\n\nPractice leading and sweeping a ride\n\n\n\nDiscussing liability: what is your exposure? Do you need insurance or permits?\n\n\n\nRecommendations for additional education and resource\n\n\n\nThis training can help prepare a person to succeed in the BICP’s standalone Ride Leader Certification online course. This certification is not necessary to hold group rides for NWTA.\n\n\n\n\nQualifications & Commitments: \n\n\n\n\nRepresent and follow NWTA trail etiquette \n\n\n\nAbility to commit to leading 1-2 rides per year\, weekday evenings or weekends (sign up link)\n\n\n\nUnderstand the difference between a ride leader and an instructor. A ride leader is watching out for safety concerns and cannot teach/coach on skills\n\n\n\nUnderstand that leading a ride\, is not hosting a clinic/ teaching skills\n\n\n\nKnowledge and comfort of local trails\n\n\n\nEnjoying riding in a group setting\n\n\n\nWillingness and ability to create a safe and fun engaging environment\n\n\n\nCurrent First aid/CPR certification or a Wilderness First Aid certification is highly recommended for ride leaders (it is not required for attendance in this training)\n\n\n\n\nWhat to bring: \n\n\n\nRequired Gear:  \n\n\n\n\nA properly fitting helmet in good condition \n\n\n\nWater bottle and snacks\n\n\n\nClothing appropriate for the weather\n\n\n\nTools for moving the seat up and down if necessary\n\n\n\nPack to carry layers\, snacks\, tools and water\n\n\n\nBike: For this class\, you may bring a mountain bike or hybrid in good working condition with tires suitable for dirt trails. No kickstands or street/smooth tires. Flat pedals are recommended but not required. Fenders are OK as long as they don’t make noise or interfere with the seat\, because we may move the seat up and down for some demos\n\n\n\n\nRecommended Gear: \n\n\n\n\nFull fingered gloves\n\n\n\nKnee and elbow protection\n\n\n\nEye protection\n\n\n\nTools and supplies to change a flat tire\n\n\n\n\nDate\, Time & Location: \n\n\n\nWednesday\, May 31st 2023\, Gateway Green\, 5p-8p \n\n\n\nA﻿ social to be hosted afterwards \n\n\n\nOther information: \n\n\n\nNorthwest Trail Alliance (NWTA) is a membership organization dedicated to creating\, enhancing\, and protecting mountain bike riding opportunities; advocating for trail access; promoting responsible mountain biking; and building\, maintaining\, and riding sustainable trails. Membership dollars support all of NWTA’s work\, including hosting ride leader trainings such as these. Please support the local MTB community and our work through membership: https://nw-trail.org/join/ \n\n\n\nHave questions? Email elaine.b@elainebbikes.com or chloeh@NW-trails.org
URL:https://nw-trail.org/event/ride-leader-training-at-gateway-green-5-31/
CATEGORIES:Clinic,Gateway Green,Lead,Learn,Skills Clinic
ATTACH;FMTTYPE=image/jpeg:https://nw-trail.org/wp-content/uploads/2023/03/BICP-Mar.-25-27-2022-40.jpg
END:VEVENT
END:VCALENDAR