BEGIN:VCALENDAR
VERSION:2.0
PRODID:-//Northwest Trail Alliance - ECPv6.15.18//NONSGML v1.0//EN
CALSCALE:GREGORIAN
METHOD:PUBLISH
X-ORIGINAL-URL:https://nw-trail.org
X-WR-CALDESC:Events for Northwest Trail Alliance
REFRESH-INTERVAL;VALUE=DURATION:PT1H
X-Robots-Tag:noindex
X-PUBLISHED-TTL:PT1H
BEGIN:VTIMEZONE
TZID:America/Los_Angeles
BEGIN:DAYLIGHT
TZOFFSETFROM:-0800
TZOFFSETTO:-0700
TZNAME:PDT
DTSTART:20170312T100000
END:DAYLIGHT
BEGIN:STANDARD
TZOFFSETFROM:-0700
TZOFFSETTO:-0800
TZNAME:PST
DTSTART:20171105T090000
END:STANDARD
BEGIN:DAYLIGHT
TZOFFSETFROM:-0800
TZOFFSETTO:-0700
TZNAME:PDT
DTSTART:20180311T100000
END:DAYLIGHT
BEGIN:STANDARD
TZOFFSETFROM:-0700
TZOFFSETTO:-0800
TZNAME:PST
DTSTART:20181104T090000
END:STANDARD
BEGIN:DAYLIGHT
TZOFFSETFROM:-0800
TZOFFSETTO:-0700
TZNAME:PDT
DTSTART:20190310T100000
END:DAYLIGHT
BEGIN:STANDARD
TZOFFSETFROM:-0700
TZOFFSETTO:-0800
TZNAME:PST
DTSTART:20191103T090000
END:STANDARD
END:VTIMEZONE
BEGIN:VEVENT
DTSTART;TZID=America/Los_Angeles:20180609T000000
DTEND;TZID=America/Los_Angeles:20180610T235959
DTSTAMP:20260421T211127
CREATED:20180419T194113Z
LAST-MODIFIED:20180419T194113Z
UID:4352-1528502400-1528675199@nw-trail.org
SUMMARY:Evergreen MTB Festival
DESCRIPTION:Bring your friends & family and join Evergreen Mountain Bike Alliance on Saturday\, June 9 & Sunday\, June 10th (9-5pm)\, 2018 for their 9th Annual Festival at Duthie Hill Park in Washington! \nBike demos\, group rides\, skills clinics\, jump show\, kids events\, beer garden and general all-around fun! More details and registration for demos here.
URL:https://nw-trail.org/event/evergreen-mtb-festival/
CATEGORIES:Clinic,Demo Days,Regional Events,Ride!,Social
ATTACH;FMTTYPE=image/png:https://nw-trail.org/wp-content/uploads/2018/04/evergreen-1.png
END:VEVENT
END:VCALENDAR