BEGIN:VCALENDAR
VERSION:2.0
PRODID:-//Northwest Trail Alliance - ECPv6.15.18//NONSGML v1.0//EN
CALSCALE:GREGORIAN
METHOD:PUBLISH
X-ORIGINAL-URL:https://nw-trail.org
X-WR-CALDESC:Events for Northwest Trail Alliance
REFRESH-INTERVAL;VALUE=DURATION:PT1H
X-Robots-Tag:noindex
X-PUBLISHED-TTL:PT1H
BEGIN:VTIMEZONE
TZID:America/Los_Angeles
BEGIN:DAYLIGHT
TZOFFSETFROM:-0800
TZOFFSETTO:-0700
TZNAME:PDT
DTSTART:20240310T100000
END:DAYLIGHT
BEGIN:STANDARD
TZOFFSETFROM:-0700
TZOFFSETTO:-0800
TZNAME:PST
DTSTART:20241103T090000
END:STANDARD
BEGIN:DAYLIGHT
TZOFFSETFROM:-0800
TZOFFSETTO:-0700
TZNAME:PDT
DTSTART:20250309T100000
END:DAYLIGHT
BEGIN:STANDARD
TZOFFSETFROM:-0700
TZOFFSETTO:-0800
TZNAME:PST
DTSTART:20251102T090000
END:STANDARD
BEGIN:DAYLIGHT
TZOFFSETFROM:-0800
TZOFFSETTO:-0700
TZNAME:PDT
DTSTART:20260308T100000
END:DAYLIGHT
BEGIN:STANDARD
TZOFFSETFROM:-0700
TZOFFSETTO:-0800
TZNAME:PST
DTSTART:20261101T090000
END:STANDARD
END:VTIMEZONE
BEGIN:VEVENT
DTSTART;TZID=America/Los_Angeles:20250226T183000
DTEND;TZID=America/Los_Angeles:20250226T203000
DTSTAMP:20260421T092858
CREATED:20250203T174458Z
LAST-MODIFIED:20250203T174500Z
UID:32157-1740594600-1740601800@nw-trail.org
SUMMARY:Body Positioning Presentation: Ladies AllRide x NW Trail Sisters - 2/26
DESCRIPTION:Proper body positioning can elevate your riding! Join Ladies AllRide and NW Trail Sisters for a night of tips and tricks! \n\n\n\n\nregister here\n\n\n\n\n \n\n\n\nGet a jump start on your 2025 riding season with some great tips on body positioning from Ladies AllRide coach Ali Halpin!  \n\n\n\nEver heard the phrase “just get back!”? We will debunk this and show you proper techniques and body positioning for a variety of trail features. In order to be the pilots of our bike and not the passengers\, we need to understand the balance points when the bike changes angles beneath us.  \n\n\n\nWe will cover things like corning\, technical terrain\, climbing\, jumps\, and drops to learn how proper body positioning can elevate your riding! \n\n\n\nThis is a free social event hosted by Ladies AllRide and NW Trail Sisters.  \n\n\n\nYou do not need to bring your bike! Ali Halpin from Ladies AllRide will be presenting and discussing body positioning tips for you to apply next time you’re on the trail 🙂 \n\n\n\nQuestions about this event? Email carriej@nw-trail.org.
URL:https://nw-trail.org/event/body-positioning-presentation-ladies-allride-x-nw-trail-sisters-2-26/
CATEGORIES:Clinic,NW Trail Sisters,Skills Clinic
ATTACH;FMTTYPE=image/jpeg:https://nw-trail.org/wp-content/uploads/2025/02/https-cdn.evbuc_.com-images-925269883-2136291398163-1-original.20241231-031359.jpeg
END:VEVENT
END:VCALENDAR