BEGIN:VCALENDAR
VERSION:2.0
PRODID:-//Northwest Trail Alliance - ECPv6.15.18//NONSGML v1.0//EN
CALSCALE:GREGORIAN
METHOD:PUBLISH
X-ORIGINAL-URL:https://nw-trail.org
X-WR-CALDESC:Events for Northwest Trail Alliance
REFRESH-INTERVAL;VALUE=DURATION:PT1H
X-Robots-Tag:noindex
X-PUBLISHED-TTL:PT1H
BEGIN:VTIMEZONE
TZID:America/Los_Angeles
BEGIN:DAYLIGHT
TZOFFSETFROM:-0800
TZOFFSETTO:-0700
TZNAME:PDT
DTSTART:20250309T100000
END:DAYLIGHT
BEGIN:STANDARD
TZOFFSETFROM:-0700
TZOFFSETTO:-0800
TZNAME:PST
DTSTART:20251102T090000
END:STANDARD
BEGIN:DAYLIGHT
TZOFFSETFROM:-0800
TZOFFSETTO:-0700
TZNAME:PDT
DTSTART:20260308T100000
END:DAYLIGHT
BEGIN:STANDARD
TZOFFSETFROM:-0700
TZOFFSETTO:-0800
TZNAME:PST
DTSTART:20261101T090000
END:STANDARD
BEGIN:DAYLIGHT
TZOFFSETFROM:-0800
TZOFFSETTO:-0700
TZNAME:PDT
DTSTART:20270314T100000
END:DAYLIGHT
BEGIN:STANDARD
TZOFFSETFROM:-0700
TZOFFSETTO:-0800
TZNAME:PST
DTSTART:20271107T090000
END:STANDARD
END:VTIMEZONE
BEGIN:VEVENT
DTSTART;TZID=America/Los_Angeles:20260305T183000
DTEND;TZID=America/Los_Angeles:20260305T203000
DTSTAMP:20260420T092937
CREATED:20260204T174125Z
LAST-MODIFIED:20260204T174937Z
UID:33850-1772735400-1772742600@nw-trail.org
SUMMARY:Trail Sisters Bike Maintenance Clinic at Metropolis Cycles - 3/5
DESCRIPTION:Join NW Trail Sisters for an evening of learning about derailleurs! \n\n\n\n\nregister here\n\n\n\n\n \n\n\n\nJoin NW Trail Sisters and Metropolis Cycles for a night of learning all about that finicky dangling contraption — the derailleur! \n\n\n\nWe’ll have a Q&A at the beginning and instruction from Metropolis mechanics. The focus will be on how they work\, how to diagnose issues\, and then some hands-on work stations. \n\n\n\nDo you have a derailleur question you’d like answered during this clinic? Write it down and bring it up during the Q&A! \n\n\n\nThis is a women’s event. Participation is limited to 16 people. We ask that if you register\, please keep your commitment and show up. If you are unable to attend\, please cancel your Eventbrite ticket at least 24 hours before the event so your spot can be offered to someone else. \n\n\n\nThis event is open to women and nonbinary riders of all skill levels and experience. \n\n\n\nWe will have snacks and beverages for you as well! \n\n\n\nQuestions? Email Carrie: carriej@nw-trail.org
URL:https://nw-trail.org/event/trail-sisters-bike-maintenance-clinic-at-metropolis-cycles-3-5/
CATEGORIES:Bike Maintenance,Clinic,NW Trail Sisters,Women's Events
ATTACH;FMTTYPE=image/jpeg:https://nw-trail.org/wp-content/uploads/2026/02/MTB-Maintenance-Clinic-Series-Metropolis-Jan.-25-2023-17.jpg
END:VEVENT
BEGIN:VEVENT
DTSTART;TZID=America/Los_Angeles:20260319T181500
DTEND;TZID=America/Los_Angeles:20260319T193000
DTSTAMP:20260420T092937
CREATED:20260305T191638Z
LAST-MODIFIED:20260306T194716Z
UID:34095-1773944100-1773948600@nw-trail.org
SUMMARY:WOMEN-LED BIKEPACKING 101 CLINIC - 3/19
DESCRIPTION:BIKEPACKING CURIOUS? Join River City Bicycles\, Northwest Trail Alliance Trail Sisters and Friends in this fun clinic covering the essentials \n\n\n\n\nregister here\n\n\n\n\nOur experienced group of riders will share their well-honed tips and tricks for getting started and getting the most from your bikepacking adventures: \n\n\n\nSarah from RCBAlyssa from Friends on BikesJanelle from NWTA Trail Sisters/Metropolis Cycle Repair/HiFi Sound Cycling ComponentsMarley from All Bodies On BIkes \n\n\n\nTickets available on March 9.
URL:https://nw-trail.org/event/women-led-bikepacking-101-clinic-3-19/
CATEGORIES:Clinic,NW Trail Sisters,NWTA Events,Women's Events
ATTACH;FMTTYPE=image/webp:https://nw-trail.org/wp-content/uploads/2026/03/image.webp
END:VEVENT
BEGIN:VEVENT
DTSTART;TZID=America/Los_Angeles:20260326T183000
DTEND;TZID=America/Los_Angeles:20260326T203000
DTSTAMP:20260420T092937
CREATED:20260204T174836Z
LAST-MODIFIED:20260204T174837Z
UID:33853-1774549800-1774557000@nw-trail.org
SUMMARY:Trail Sisters Bike Maintenance Clinic at Sellwood Cycle Repair - 3/26
DESCRIPTION:Join NW Trail Sisters for an evening of learning about brakes! \n\n\n\n\nregister here\n\n\n\n\n \n\n\n\nJoin NW Trail Sisters and Sellwood Cycle Repair for a night of learning about brake pads\, rotors\, levers\, pistons\, hydraulic fluid… and everything you need to know about how they work together to perform the all-important job of helping us control speed on the bike! \n\n\n\nWe’ll have a Q&A at the beginning\, instruction from our mechanic\, Brenna\, and breakout groups where teams of two or three get to try out their knowledge. \n\n\n\nDo you have a braking question you’d like answered during this clinic? Write it down and bring it up during the Q&A! \n\n\n\nParticipation is limited to 25 people. We ask that if you register\, please keep your commitment and show up. If you are unable to attend\, please cancel your Eventbrite ticket at least 24 hours before the event so your spot can be offered to someone else. \n\n\n\nThis event is open to women and nonbinary riders of all skill levels and experience. \n\n\n\nWe will have snacks and beverages for you as well! \n\n\n\nQuestions? Email Carrie: carriej@nw-trail.org
URL:https://nw-trail.org/event/trail-sisters-bike-maintenance-clinic-at-sellwood-cycle-repair-3-26/
CATEGORIES:Bike Maintenance,Clinic,NW Trail Sisters,Women's Events
ATTACH;FMTTYPE=image/jpeg:https://nw-trail.org/wp-content/uploads/2026/02/MTB-Maintenance-Series-TREK-Dec.-8-2022-13.jpg
END:VEVENT
BEGIN:VEVENT
DTSTART;TZID=America/Los_Angeles:20260328T100000
DTEND;TZID=America/Los_Angeles:20260328T140000
DTSTAMP:20260420T092937
CREATED:20260311T174143Z
LAST-MODIFIED:20260311T174146Z
UID:34121-1774692000-1774706400@nw-trail.org
SUMMARY:Trail Sisters Dig Day @ Stub Stewart - 3/28
DESCRIPTION:Join us in continuing our work on the new skills zone at Stub Stewart! \n\n\n\n\nregister here\n\n\n\n\n \n\n\n\nWhat are we doing?: The day will involve dialing in our 3 downhill lines and possibly starting work on a return/climb trail. The day will mainly involve raking debris\, shaping berms\, smoothing out rough sections\, building features\, looking at drainage\, and testing lines. \n\n\n\nWe welcome all women and non-binary folks interested in trail building to join us! No prior digging experience is necessary. \n\n\n\nWaiver: Once registered\, please sign the waiver HERE. \n\n\n\nWhat to bring: \n\n\n\n\nWarm clothing and extra layers.\n\n\n\nRain jacket (and rain pants if you have them and the weather calls for it): It’s January in the PNW\, odds are high it’ll rain\, but that doesn’t stop us from digging!\n\n\n\nGloves (waterproof are best): It wouldn’t hurt to bring an extra pair\, too. Cold hands suck! We have extras if needed.\n\n\n\nSturdy shoes\n\n\n\nHelmet or hard hat (required)\n\n\n\nEye protection\n\n\n\nWater\n\n\n\nSnacks and lunch\n\n\n\nBike and bike gear for post-dig rips\n\n\n\n\nAny necessary tools will be provided. You are not required to bring any of your own. \n\n\n\nMore specific details about the event will be emailed to those who signed up closer to the date. \n\n\n\nThese events are very popular and sell out quickly. If you are unable to attend for any reason\, please cancel your registration with AT LEAST 24 hours notice so others on the waitlist have an opportunity to come. If you are reading this and the event is sold out\, join the waitlist! A few folks will likely cancel the day before. \n\n\n\nJoin NWTA and become one of nearly 6\,000 mountain bikers stewarding trails together in NW Oregon and SW Washington. If the cost of membership creates a financial hardship\, please reach out to us\, we can help with that barrier. \n\n\n\nQuestions? Send them over to Carrie at carriej@nw-trail.org
URL:https://nw-trail.org/event/trail-sisters-dig-day-stub-stewart-3-28/
CATEGORIES:Dig Days,LL Stub Stewart,NW Trail Sisters
ATTACH;FMTTYPE=image/jpeg:https://nw-trail.org/wp-content/uploads/2026/03/image.jpg
END:VEVENT
END:VCALENDAR