BEGIN:VCALENDAR
VERSION:2.0
PRODID:-//Northwest Trail Alliance - ECPv6.15.18//NONSGML v1.0//EN
CALSCALE:GREGORIAN
METHOD:PUBLISH
X-ORIGINAL-URL:https://nw-trail.org
X-WR-CALDESC:Events for Northwest Trail Alliance
REFRESH-INTERVAL;VALUE=DURATION:PT1H
X-Robots-Tag:noindex
X-PUBLISHED-TTL:PT1H
BEGIN:VTIMEZONE
TZID:America/Los_Angeles
BEGIN:DAYLIGHT
TZOFFSETFROM:-0800
TZOFFSETTO:-0700
TZNAME:PDT
DTSTART:20210314T100000
END:DAYLIGHT
BEGIN:STANDARD
TZOFFSETFROM:-0700
TZOFFSETTO:-0800
TZNAME:PST
DTSTART:20211107T090000
END:STANDARD
BEGIN:DAYLIGHT
TZOFFSETFROM:-0800
TZOFFSETTO:-0700
TZNAME:PDT
DTSTART:20220313T100000
END:DAYLIGHT
BEGIN:STANDARD
TZOFFSETFROM:-0700
TZOFFSETTO:-0800
TZNAME:PST
DTSTART:20221106T090000
END:STANDARD
BEGIN:DAYLIGHT
TZOFFSETFROM:-0800
TZOFFSETTO:-0700
TZNAME:PDT
DTSTART:20230312T100000
END:DAYLIGHT
BEGIN:STANDARD
TZOFFSETFROM:-0700
TZOFFSETTO:-0800
TZNAME:PST
DTSTART:20231105T090000
END:STANDARD
END:VTIMEZONE
BEGIN:VEVENT
DTSTART;TZID=America/Los_Angeles:20220731T163000
DTEND;TZID=America/Los_Angeles:20220731T193000
DTSTAMP:20260419T170827
CREATED:20220721T232326Z
LAST-MODIFIED:20220731T131515Z
UID:26897-1659285000-1659295800@nw-trail.org
SUMMARY:CANCELLED // Group Ride with River City Bicycles & NWTA (Beginner and Intermediate Levels) - 7/31
DESCRIPTION:We are cancelling the ride due to the continued heatwave. \n\n\n\nJoin partners River City Bicycles and NWTA for a Women-led\, all gender evening ride at Sandy Ridge. \n\n\n\n\nregister\n\n\n\n\nAbout this event\n\n\n\nJoin River City Bicycles\, partnered with the NWTA\, for an evening ride at Sandy Ridge on 7/31. \n\n\n\nBeginner and Intermediate riders are welcome for a 2-hour shred\, covering up to 10 miles and 2k feet of elevation.  \n\n\n\nThis ride is open to all genders\, and will be led by women from River City Bicycles.  \n\n\n\n~ The River City Bicycles’ MTB Community is women-led and intersectional-minded\, designed to create space for mountain bikers outside of the stereotypes. Our goal is to connect\, support\, and inspire off-road riders of all skill levels. ~ \n\n\n\nThings to Bring: \n\n\n\nA bike in good working order \n\n\n\nHelmet – mandatory \n\n\n\nWater & Snacks \n\n\n\nFirst Aid Kit \n\n\n\nPlease bring a helmet- or handlebar-mounted light for safety\, as we’ll be riding close to dusk.  \n\n\n\nPlease sign this waiver to participate.  \n\n\n\nMeet at the Sandy Ridge Trailhead Parking Lot at 4:30pm\, to roll by 5:00pm.  \n\n\n\nQuestions can be directed to Isabella at isabellat@rivercitybicycles.com. \n\n\n\nEvents like these are made possible by NWTA’s Membership dollars. If you are not yet a member or need to renew your membership\, you can do so here. \n\n\n\nSandy Ridge is managed by the Bureau of Land Management\, a parking pass is now required at this trail head and can be accessed at Recreation.gov \n\n\n\n*IMPORTANT* These events fill quickly and always have a waitlist of people hoping to join. It is imperative that you stand by your commitment and SHOW UP. We understand that life happens\, please notify us if you are unable to make it\, at least 24 hours before the event so we can offer your spot to someone else.
URL:https://nw-trail.org/event/group-ride-with-river-city-bicycles-nwta-beginner-and-intermediate-levels-7-31/
CATEGORIES:NWTA Events,Regional Events,Sandy Ridge,Social
ATTACH;FMTTYPE=image/jpeg:https://nw-trail.org/wp-content/uploads/2022/07/IMG_8441_Original.jpg
END:VEVENT
END:VCALENDAR