BEGIN:VCALENDAR
VERSION:2.0
PRODID:-//Northwest Trail Alliance - ECPv6.15.18//NONSGML v1.0//EN
CALSCALE:GREGORIAN
METHOD:PUBLISH
X-WR-CALNAME:Northwest Trail Alliance
X-ORIGINAL-URL:https://nw-trail.org
X-WR-CALDESC:Events for Northwest Trail Alliance
REFRESH-INTERVAL;VALUE=DURATION:PT1H
X-Robots-Tag:noindex
X-PUBLISHED-TTL:PT1H
BEGIN:VTIMEZONE
TZID:America/Los_Angeles
BEGIN:DAYLIGHT
TZOFFSETFROM:-0800
TZOFFSETTO:-0700
TZNAME:PDT
DTSTART:20250309T100000
END:DAYLIGHT
BEGIN:STANDARD
TZOFFSETFROM:-0700
TZOFFSETTO:-0800
TZNAME:PST
DTSTART:20251102T090000
END:STANDARD
BEGIN:DAYLIGHT
TZOFFSETFROM:-0800
TZOFFSETTO:-0700
TZNAME:PDT
DTSTART:20260308T100000
END:DAYLIGHT
BEGIN:STANDARD
TZOFFSETFROM:-0700
TZOFFSETTO:-0800
TZNAME:PST
DTSTART:20261101T090000
END:STANDARD
BEGIN:DAYLIGHT
TZOFFSETFROM:-0800
TZOFFSETTO:-0700
TZNAME:PDT
DTSTART:20270314T100000
END:DAYLIGHT
BEGIN:STANDARD
TZOFFSETFROM:-0700
TZOFFSETTO:-0800
TZNAME:PST
DTSTART:20271107T090000
END:STANDARD
END:VTIMEZONE
BEGIN:VEVENT
DTSTART;TZID=America/Los_Angeles:20260425T090000
DTEND;TZID=America/Los_Angeles:20260425T150000
DTSTAMP:20260424T083657
CREATED:20260221T165122Z
LAST-MODIFIED:20260221T165123Z
UID:33998-1777107600-1777129200@nw-trail.org
SUMMARY:DIG DAY — Sandy Ridge: 338 Brush Out and Flow Motion - 4/25
DESCRIPTION:338 needs a brush out for the spring. Berm refresh on Flow Motion \n\n\n\n\nregister here\n\n\n\n\n \n\n\n\nJoin us for a Trail Maintenance day at Sandy Ridge. Trail work will last approximately 6 hours\, wrapping up at 3:00 p.m. \n\n\n\nSchedule: \n\n\n\n9:00 AM Safety Meeting in Parking Lot \n\n\n\n9:15 AM Drive up to tool storage area \n\n\n\n9:30 AM Head out to work areas \n\n\n\n2:00 – 2:30 PM Finish up work and head back to tool storage area \n\n\n\n2:30 – 3:00 PM Clean tools and have after trail work refreshments \n\n\n\nWhat To Bring: \n\n\n\nYour bike (optional) \n\n\n\nWork clothes: Light long sleeve shirt\, long pants (no shorts)\, boots\, gloves\, eye protection \n\n\n\nJacket (be prepared) \n\n\n\nHard hat or bike helmet (mandatory) \n\n\n\nWater \n\n\n\nSnacks \n\n\n\nLunch \n\n\n\nFavorite trail tool\, McLeod or Rouge Hoe (We have tools\, but please feel free to bring your own) \n\n\n\nOptional: Folding Handsaw \n\n\n\nSafety meeting promptly starts at 9:00 a.m. Please arrive 15-20 mins early to ensure that you are adequately checked in. We work in all weather (except for high wind and snow)\, so come prepared for the elements (and change of clothes in the car for when we finish). \n\n\n\nOnce registered\, please sign the waiver HERE \n\n\n\nEmail SandyRidge@nw-trail.org with any questions
URL:https://nw-trail.org/event/dig-day-sandy-ridge-338-brush-out-and-flow-motion-4-25/
CATEGORIES:Dig Days,Sandy Ridge,Trail Work
ATTACH;FMTTYPE=image/jpeg:https://nw-trail.org/wp-content/uploads/2026/02/Sad-Birthday-Mar.-9-2024-58.jpg
END:VEVENT
BEGIN:VEVENT
DTSTART;TZID=America/Los_Angeles:20260502T093000
DTEND;TZID=America/Los_Angeles:20260502T140000
DTSTAMP:20260424T083657
CREATED:20260329T152357Z
LAST-MODIFIED:20260329T152359Z
UID:34227-1777714200-1777730400@nw-trail.org
SUMMARY:International Women's Mountain Biking Day at Sandy Ridge - 5/2
DESCRIPTION:Women! Bikes! Digging! Riding! Can it get any better?? \n\n\n\n\nregister here\n\n\n\n\n \n\n\n\nInternational Women’s Mountain Biking Day is celebrated annually on the first Saturday in May. It’s a day for women riders to gather\, experience\, and share their stoke for mountain biking! \n\n\n\nJoin NW Trail Sisters and our friends at Simworks\, Mt Hood Dirt Divas\, Wednesday Wrippers and Timberline for a day of celebrating women who ride. \n\n\n\nThere will be: \n\n\n\n\nA short morning dig – trail to be determined\n\n\n\nLunch and raffle with Simworks\n\n\n\nGuided rides for advanced\, intermediate\, and beginner!\n\n\n\n\nSave the date! More details to come! \n\n\n\nThis event will be hosted by NW Trail Sisters and Mt Hood Dirt Divas with support from Simworks\, Wednesday Wrippers\, Timberline Lodge\, and Shredly. \n\n\n\nQuestions? Email carriej@nw-trail.org
URL:https://nw-trail.org/event/international-womens-mountain-biking-day-at-sandy-ridge-5-2/
CATEGORIES:Dig Days,Group Ride,NW Trail Sisters,Sandy Ridge
ATTACH;FMTTYPE=image/webp:https://nw-trail.org/wp-content/uploads/2026/03/image-2.webp
END:VEVENT
BEGIN:VEVENT
DTSTART;TZID=America/Los_Angeles:20260509T090000
DTEND;TZID=America/Los_Angeles:20260509T150000
DTSTAMP:20260424T083657
CREATED:20260221T165513Z
LAST-MODIFIED:20260221T165515Z
UID:34001-1778317200-1778338800@nw-trail.org
SUMMARY:DIG DAY — Sandy Ridge: Flow Motion and Middle/Lower Hide and Seek - 5/9
DESCRIPTION:Berm and jump refreshes on Flow Motion and Hide and Seek. \n\n\n\n\nregister here\n\n\n\n\n \n\n\n\nJoin us for a Trail Maintenance day at Sandy Ridge. Trail work will last approximately 6 hours\, wrapping up at 3:00 p.m. \n\n\n\nSchedule: \n\n\n\n9:00 AM Safety Meeting in Parking Lot \n\n\n\n9:15 AM Drive up to tool storage area \n\n\n\n9:30 AM Head out to work areas \n\n\n\n2:00 – 2:30 PM Finish up work and head back to tool storage area \n\n\n\n2:30 – 3:00 PM Clean tools and have after trail work refreshments \n\n\n\nWhat To Bring: \n\n\n\nYour bike (optional) \n\n\n\nWork clothes: Light long sleeve shirt\, long pants (no shorts)\, boots\, gloves\, eye protection \n\n\n\nJacket (be prepared) \n\n\n\nHard hat or bike helmet (mandatory) \n\n\n\nWater \n\n\n\nSnacks \n\n\n\nLunch \n\n\n\nFavorite trail tool\, McLeod or Rouge Hoe (We have tools\, but please feel free to bring your own) \n\n\n\nOptional: Folding Handsaw \n\n\n\nSafety meeting promptly starts at 9:00 a.m. Please arrive 15-20 mins early to ensure that you are adequately checked in. We work in all weather (except for high wind and snow)\, so come prepared for the elements (and change of clothes in the car for when we finish). \n\n\n\nOnce registered\, please sign the waiver HERE \n\n\n\nEmail SandyRidge@nw-trail.org with any questions
URL:https://nw-trail.org/event/dig-day-sandy-ridge-flow-motion-and-middle-lower-hide-and-seek-5-9/
CATEGORIES:Dig Days,Sandy Ridge,Trail Work
ATTACH;FMTTYPE=image/jpeg:https://nw-trail.org/wp-content/uploads/2026/02/NO-LOGO-SRT-Nov.-14-2021-56.jpg
END:VEVENT
BEGIN:VEVENT
DTSTART;TZID=America/Los_Angeles:20260516T093000
DTEND;TZID=America/Los_Angeles:20260516T123000
DTSTAMP:20260424T083657
CREATED:20260423T191039Z
LAST-MODIFIED:20260423T191041Z
UID:34366-1778923800-1778934600@nw-trail.org
SUMMARY:NW Trail Sisters' Women's Beginner Ride at Sandy Ridge - 5/16
DESCRIPTION:Trail Sisters hears you and we are answering your call! Join us at Sandy Ridge for a chill\, guided ride. \n\n\n\n\nregister here\n\n\n\n\n \n\n\n\nThis will be a chill\, guided ride around the trails at Sandy. Ride at your own pace\, get comfy on your bike\, learn from others\, and maybe come away with a riding buddy or two! \n\n\n\nMeet at the main parking lot. Your ride leaders will meet you there\, go over bike safety\, talk about route options\, and show you around! \n\n\n\nNote this is not a clinic\, just an opportunity to come together and ride with other women who are just getting into mountain biking.  \n\n\n\nThere will be at least 300 feet of climbing on a paved road. Though this a slower-paced\, no-drop ride\, please assess your fitness honestly to ensure are able to do this and still have a good time! \n\n\n\nPlease bring: \n\n\n\n\nA mountain bike in good working order (just front\, or front and rear suspension\, knobby tires\, enough gears to get you up hills\, flat handlebar\, tires pumped\, sealant checked\, bolts tight\, chain clean and lubed\, brakes and shifters working)\n\n\n\nSnacks and water\n\n\n\nA multi-tool\, hand pump\, and extra tube are also good to have!\n\n\n\n\nIf you reigster but find that you are not able to make it\, please cancel your Eventbrite registration so our ride leaders have a good idea of how many folks to expect. \n\n\n\nOnce registered\, please sign the waiver HERE. \n\n\n\nContact carriej@nw-trail.org with any questions.
URL:https://nw-trail.org/event/nw-trail-sisters-womens-beginner-ride-at-sandy-ridge-5-16/
CATEGORIES:Guided Ride,NW Trail Sisters,Sandy Ridge
ATTACH;FMTTYPE=image/webp:https://nw-trail.org/wp-content/uploads/2026/04/image-2.webp
END:VEVENT
BEGIN:VEVENT
DTSTART;TZID=America/Los_Angeles:20260530T090000
DTEND;TZID=America/Los_Angeles:20260530T150000
DTSTAMP:20260424T083657
CREATED:20260221T165957Z
LAST-MODIFIED:20260322T221834Z
UID:34004-1780131600-1780153200@nw-trail.org
SUMMARY:DIG DAY — Sandy Ridge: Let's get Sandy ready for shuttle day - 5/30
DESCRIPTION:Shuttle day is June 13th. Time to put the finishing touches on the trails for the event. \n\n\n\n\nregister here\n\n\n\n\n \n\n\n\nJoin us for a Trail Maintenance day at Sandy Ridge. Trail work will last approximately 6 hours\, wrapping up at 3:00 p.m. \n\n\n\nSchedule: \n\n\n\n9:00 AM Safety Meeting in Parking Lot \n\n\n\n9:15 AM Drive up to tool storage area \n\n\n\n9:30 AM Head out to work areas \n\n\n\n2:00 – 2:30 PM Finish up work and head back to tool storage area \n\n\n\n2:30 – 3:00 PM Clean tools and have after trail work refreshments \n\n\n\nWhat To Bring: \n\n\n\nYour bike (optional) \n\n\n\nWork clothes: Light long sleeve shirt\, long pants (no shorts)\, boots\, gloves\, eye protection \n\n\n\nJacket (be prepared) \n\n\n\nHard hat or bike helmet (mandatory) \n\n\n\nWater \n\n\n\nSnacks \n\n\n\nLunch \n\n\n\nFavorite trail tool\, McLeod or Rouge Hoe (We have tools\, but please feel free to bring your own) \n\n\n\nOptional: Folding Handsaw \n\n\n\nSafety meeting promptly starts at 9:00 a.m. Please arrive 15-20 mins early to ensure that you are adequately checked in. We work in all weather (except for high wind and snow)\, so come prepared for the elements (and change of clothes in the car for when we finish). \n\n\n\nOnce registered\, please sign the waiver HERE \n\n\n\nEmail SandyRidge@nw-trail.org with any questions
URL:https://nw-trail.org/event/dig-day-sandy-ridge-lets-get-sandy-ready-for-shuttle-day-5-30/
CATEGORIES:Dig Days,Sandy Ridge,Trail Work
ATTACH;FMTTYPE=image/jpeg:https://nw-trail.org/wp-content/uploads/2026/02/SR-Shuttle-Day-June-14-2025-109.jpg
END:VEVENT
END:VCALENDAR